{"text_format":"1","workbook":"xlsx","n_sheets":4,"sheets":["Clasificación","Puntos","Socios","Carreras"],"not_rendered":{"charts":0,"images":1,"macros":1,"external_links":0,"defined_names":0,"comments":0,"pivot_tables":0},"unopened":[],"bounds":{"document_bytes":16777216,"sheet_cells":100000,"rows_first":2000,"rows_last":500,"rows_between":2000,"halvings":0,"cell_chars":16384,"cell_head_chars":4096},"cells_cut":0,"cells_raw":0,"read":"whole","date_system":"1900"}

{"sheet":"Clasificación","index":0,"n_rows":103,"n_cols":16,"rows_kept":103,"cut":false,"hidden":false,"merged":[[0,0,0,15],[1,4,1,5],[1,6,1,7],[1,8,1,9],[1,10,1,11],[1,12,1,13],[1,14,1,15]]}
["CAMPEONATO DE PRUEBA"]
[null,null,null,null,"1ª Prueba",null,"2ª Prueba",null,"3ª Prueba",null,"4ª Prueba",null,"Asistencia",null,"Copyright AECAR 2023"]
["Ord","Lic","Piloto","Región","Pos","Puntos","Pos","Puntos","Pos","Puntos","Pos","Puntos","nº","Puntos","TOTAL","Netos"]
[1,{"$f":"IF(Carreras!$K2=0,\"\",Carreras!$K2)","v":""},{"$f":"IF(B4=\"\",\"\",_xlfn.XLOOKUP(B4,Socios!A:A,Socios!B:B,FALSE,0,1))","v":""},{"$f":"IF(B4=\"\",\"\",_xlfn.XLOOKUP(B4,Socios!A:A,Socios!C:C,FALSE,0,1))","v":""},{"$f":"IF($B4=\"\",\"\",_xlfn.XLOOKUP($B4,Carreras!$B:$B,Carreras!$A:$A,0,0,1))","v":""},{"$f":"IF($B4=\"\",\"\",IF($E4=0,0,_xlfn.XLOOKUP($E4,Puntos!A:A,Puntos!B:B,TRUE)))","v":""},{"$f":"IF($B4=\"\",\"\",_xlfn.XLOOKUP($B4,Carreras!C:C,Carreras!A:A,0,0,1))","v":""},{"$f":"IF($B4=\"\",\"\",IF($G4=0,0,_xlfn.XLOOKUP($G4,Puntos!A:A,Puntos!B:B,TRUE)))","v":""},{"$f":"IF($B4=\"\",\"\",_xlfn.XLOOKUP($B4,Carreras!$D:$D,Carreras!$A:$A,0,0,1))","v":""},{"$f":"IF($B4=\"\",\"\",IF($I4=0,0,_xlfn.XLOOKUP($I4,Puntos!A:A,Puntos!B:B,TRUE)))","v":""},{"$f":"IF($B4=\"\",\"\",_xlfn.XLOOKUP($B4,Carreras!$E:$E,Carreras!$A:$A,0,0,1))","v":""},{"$f":"IF($B4=\"\",\"\",IF($K4=0,0,_xlfn.XLOOKUP($K4,Puntos!$A:$A,Puntos!$B:$B)))","v":""},{"$f":"IF($B4=\"\",\"\",COUNTIF(F4,\">0\")+COUNTIF(H4,\">0\")+COUNTIF(J4,\">0\")+COUNTIF(L4,\">0\"))","v":""},{"$f":"IF(B4=\"\",\"\",_xlfn.IFS(M4=0,0,M4=1,0,M4=2,50,M4=3,100,M4=4,150))","v":""},{"$f":"IF(B4=\"\",\"\",F4+H4+J4+L4+N4)","v":""},{"$f":"IF(B4=\"\",0,O4-MIN(F4,H4,J4,L4))","v":0}]
[{"$f":"A4+1","v":2},{"$f":"IF(Carreras!$K5=0,\"\",Carreras!$K5)","v":""},{"$f":"IF(B5=\"\",\"\",_xlfn.XLOOKUP(B5,Socios!A:A,Socios!B:B,FALSE,0,1))","v":""},{"$f":"IF(B5=\"\",\"\",_xlfn.XLOOKUP(B5,Socios!A:A,Socios!C:C,FALSE,0,1))","v":""},{"$f":"IF($B5=\"\",\"\",_xlfn.XLOOKUP($B5,Carreras!$B:$B,Carreras!$A:$A,0,0,1))","v":""},{"$f":"IF($B5=\"\",\"\",IF($E5=0,0,_xlfn.XLOOKUP($E5,Puntos!A:A,Puntos!B:B,TRUE)))","v":""},{"$f":"IF($B5=\"\",\"\",_xlfn.XLOOKUP($B5,Carreras!C:C,Carreras!A:A,0,0,1))","v":""},{"$f":"IF($B5=\"\",\"\",IF($G5=0,0,_xlfn.XLOOKUP($G5,Puntos!A:A,Puntos!B:B,TRUE)))","v":""},{"$f":"IF($B5=\"\",\"\",_xlfn.XLOOKUP($B5,Carreras!$D:$D,Carreras!$A:$A,0,0,1))","v":""},{"$f":"IF($B5=\"\",\"\",IF($I5=0,0,_xlfn.XLOOKUP($I5,Puntos!A:A,Puntos!B:B,TRUE)))","v":""},{"$f":"IF($B5=\"\",\"\",_xlfn.XLOOKUP($B5,Carreras!$E:$E,Carreras!$A:$A,0,0,1))","v":""},{"$f":"IF($B5=\"\",\"\",IF($K5=0,0,_xlfn.XLOOKUP($K5,Puntos!$A:$A,Puntos!$B:$B)))","v":""},"",{"$f":"IF(B5=\"\",\"\",_xlfn.IFS(M5=0,0,M5=1,0,M5=2,50,M5=3,100,M5=4,150))","v":""},"",0]
[{"$f":"A5+1","v":3},{"$f":"IF(Carreras!$K3=0,\"\",Carreras!$K3)","v":""},{"$f":"IF(B6=\"\",\"\",_xlfn.XLOOKUP(B6,Socios!A:A,Socios!B:B,FALSE,0,1))","v":""},{"$f":"IF(B6=\"\",\"\",_xlfn.XLOOKUP(B6,Socios!A:A,Socios!C:C,FALSE,0,1))","v":""},{"$f":"IF($B6=\"\",\"\",_xlfn.XLOOKUP($B6,Carreras!$B:$B,Carreras!$A:$A,0,0,1))","v":""},{"$f":"IF($B6=\"\",\"\",IF($E6=0,0,_xlfn.XLOOKUP($E6,Puntos!A:A,Puntos!B:B,TRUE)))","v":""},{"$f":"IF($B6=\"\",\"\",_xlfn.XLOOKUP($B6,Carreras!C:C,Carreras!A:A,0,0,1))","v":""},{"$f":"IF($B6=\"\",\"\",IF($G6=0,0,_xlfn.XLOOKUP($G6,Puntos!A:A,Puntos!B:B,TRUE)))","v":""},{"$f":"IF($B6=\"\",\"\",_xlfn.XLOOKUP($B6,Carreras!$D:$D,Carreras!$A:$A,0,0,1))","v":""},{"$f":"IF($B6=\"\",\"\",IF($I6=0,0,_xlfn.XLOOKUP($I6,Puntos!A:A,Puntos!B:B,TRUE)))","v":""},{"$f":"IF($B6=\"\",\"\",_xlfn.XLOOKUP($B6,Carreras!$E:$E,Carreras!$A:$A,0,0,1))","v":""},{"$f":"IF($B6=\"\",\"\",IF($K6=0,0,_xlfn.XLOOKUP($K6,Puntos!$A:$A,Puntos!$B:$B)))","v":""},"",{"$f":"IF(B6=\"\",\"\",_xlfn.IFS(M6=0,0,M6=1,0,M6=2,50,M6=3,100,M6=4,150))","v":""},"",0]
[4,{"$f":"IF(Carreras!$K9=0,\"\",Carreras!$K9)","v":""},{"$f":"IF(B7=\"\",\"\",_xlfn.XLOOKUP(B7,Socios!A:A,Socios!B:B,FALSE,0,1))","v":""},{"$f":"IF(B7=\"\",\"\",_xlfn.XLOOKUP(B7,Socios!A:A,Socios!C:C,FALSE,0,1))","v":""},{"$f":"IF($B7=\"\",\"\",_xlfn.XLOOKUP($B7,Carreras!$B:$B,Carreras!$A:$A,0,0,1))","v":""},{"$f":"IF($B7=\"\",\"\",IF($E7=0,0,_xlfn.XLOOKUP($E7,Puntos!A:A,Puntos!B:B,TRUE)))","v":""},{"$f":"IF($B7=\"\",\"\",_xlfn.XLOOKUP($B7,Carreras!C:C,Carreras!A:A,0,0,1))","v":""},{"$f":"IF($B7=\"\",\"\",IF($G7=0,0,_xlfn.XLOOKUP($G7,Puntos!A:A,Puntos!B:B,TRUE)))","v":""},{"$f":"IF($B7=\"\",\"\",_xlfn.XLOOKUP($B7,Carreras!$D:$D,Carreras!$A:$A,0,0,1))","v":""},{"$f":"IF($B7=\"\",\"\",IF($I7=0,0,_xlfn.XLOOKUP($I7,Puntos!A:A,Puntos!B:B,TRUE)))","v":""},{"$f":"IF($B7=\"\",\"\",_xlfn.XLOOKUP($B7,Carreras!$E:$E,Carreras!$A:$A,0,0,1))","v":""},{"$f":"IF($B7=\"\",\"\",IF($K7=0,0,_xlfn.XLOOKUP($K7,Puntos!$A:$A,Puntos!$B:$B)))","v":""},"",{"$f":"IF(B7=\"\",\"\",_xlfn.IFS(M7=0,0,M7=1,0,M7=2,50,M7=3,100,M7=4,150))","v":""},"",0]
[5,{"$f":"IF(Carreras!$K6=0,\"\",Carreras!$K6)","v":""},{"$f":"IF(B8=\"\",\"\",_xlfn.XLOOKUP(B8,Socios!A:A,Socios!B:B,FALSE,0,1))","v":""},{"$f":"IF(B8=\"\",\"\",_xlfn.XLOOKUP(B8,Socios!A:A,Socios!C:C,FALSE,0,1))","v":""},{"$f":"IF($B8=\"\",\"\",_xlfn.XLOOKUP($B8,Carreras!$B:$B,Carreras!$A:$A,0,0,1))","v":""},{"$f":"IF($B8=\"\",\"\",IF($E8=0,0,_xlfn.XLOOKUP($E8,Puntos!A:A,Puntos!B:B,TRUE)))","v":""},{"$f":"IF($B8=\"\",\"\",_xlfn.XLOOKUP($B8,Carreras!C:C,Carreras!A:A,0,0,1))","v":""},{"$f":"IF($B8=\"\",\"\",IF($G8=0,0,_xlfn.XLOOKUP($G8,Puntos!A:A,Puntos!B:B,TRUE)))","v":""},{"$f":"IF($B8=\"\",\"\",_xlfn.XLOOKUP($B8,Carreras!$D:$D,Carreras!$A:$A,0,0,1))","v":""},{"$f":"IF($B8=\"\",\"\",IF($I8=0,0,_xlfn.XLOOKUP($I8,Puntos!A:A,Puntos!B:B,TRUE)))","v":""},{"$f":"IF($B8=\"\",\"\",_xlfn.XLOOKUP($B8,Carreras!$E:$E,Carreras!$A:$A,0,0,1))","v":""},{"$f":"IF($B8=\"\",\"\",IF($K8=0,0,_xlfn.XLOOKUP($K8,Puntos!$A:$A,Puntos!$B:$B)))","v":""},"",{"$f":"IF(B8=\"\",\"\",_xlfn.IFS(M8=0,0,M8=1,0,M8=2,50,M8=3,100,M8=4,150))","v":""},"",0]
[6,{"$f":"IF(Carreras!$K8=0,\"\",Carreras!$K8)","v":""},{"$f":"IF(B9=\"\",\"\",_xlfn.XLOOKUP(B9,Socios!A:A,Socios!B:B,FALSE,0,1))","v":""},{"$f":"IF(B9=\"\",\"\",_xlfn.XLOOKUP(B9,Socios!A:A,Socios!C:C,FALSE,0,1))","v":""},{"$f":"IF($B9=\"\",\"\",_xlfn.XLOOKUP($B9,Carreras!$B:$B,Carreras!$A:$A,0,0,1))","v":""},{"$f":"IF($B9=\"\",\"\",IF($E9=0,0,_xlfn.XLOOKUP($E9,Puntos!A:A,Puntos!B:B,TRUE)))","v":""},{"$f":"IF($B9=\"\",\"\",_xlfn.XLOOKUP($B9,Carreras!C:C,Carreras!A:A,0,0,1))","v":""},{"$f":"IF($B9=\"\",\"\",IF($G9=0,0,_xlfn.XLOOKUP($G9,Puntos!A:A,Puntos!B:B,TRUE)))","v":""},{"$f":"IF($B9=\"\",\"\",_xlfn.XLOOKUP($B9,Carreras!$D:$D,Carreras!$A:$A,0,0,1))","v":""},{"$f":"IF($B9=\"\",\"\",IF($I9=0,0,_xlfn.XLOOKUP($I9,Puntos!A:A,Puntos!B:B,TRUE)))","v":""},{"$f":"IF($B9=\"\",\"\",_xlfn.XLOOKUP($B9,Carreras!$E:$E,Carreras!$A:$A,0,0,1))","v":""},{"$f":"IF($B9=\"\",\"\",IF($K9=0,0,_xlfn.XLOOKUP($K9,Puntos!$A:$A,Puntos!$B:$B)))","v":""},"",{"$f":"IF(B9=\"\",\"\",_xlfn.IFS(M9=0,0,M9=1,0,M9=2,50,M9=3,100,M9=4,150))","v":""},"",0]
[7,{"$f":"IF(Carreras!$K10=0,\"\",Carreras!$K10)","v":""},{"$f":"IF(B10=\"\",\"\",_xlfn.XLOOKUP(B10,Socios!A:A,Socios!B:B,FALSE,0,1))","v":""},{"$f":"IF(B10=\"\",\"\",_xlfn.XLOOKUP(B10,Socios!A:A,Socios!C:C,FALSE,0,1))","v":""},{"$f":"IF($B10=\"\",\"\",_xlfn.XLOOKUP($B10,Carreras!$B:$B,Carreras!$A:$A,0,0,1))","v":""},{"$f":"IF($B10=\"\",\"\",IF($E10=0,0,_xlfn.XLOOKUP($E10,Puntos!A:A,Puntos!B:B,TRUE)))","v":""},{"$f":"IF($B10=\"\",\"\",_xlfn.XLOOKUP($B10,Carreras!C:C,Carreras!A:A,0,0,1))","v":""},{"$f":"IF($B10=\"\",\"\",IF($G10=0,0,_xlfn.XLOOKUP($G10,Puntos!A:A,Puntos!B:B,TRUE)))","v":""},{"$f":"IF($B10=\"\",\"\",_xlfn.XLOOKUP($B10,Carreras!$D:$D,Carreras!$A:$A,0,0,1))","v":""},{"$f":"IF($B10=\"\",\"\",IF($I10=0,0,_xlfn.XLOOKUP($I10,Puntos!A:A,Puntos!B:B,TRUE)))","v":""},{"$f":"IF($B10=\"\",\"\",_xlfn.XLOOKUP($B10,Carreras!$E:$E,Carreras!$A:$A,0,0,1))","v":""},{"$f":"IF($B10=\"\",\"\",IF($K10=0,0,_xlfn.XLOOKUP($K10,Puntos!$A:$A,Puntos!$B:$B)))","v":""},"",{"$f":"IF(B10=\"\",\"\",_xlfn.IFS(M10=0,0,M10=1,0,M10=2,50,M10=3,100,M10=4,150))","v":""},"",0]
[8,{"$f":"IF(Carreras!$K7=0,\"\",Carreras!$K7)","v":""},{"$f":"IF(B11=\"\",\"\",_xlfn.XLOOKUP(B11,Socios!A:A,Socios!B:B,FALSE,0,1))","v":""},{"$f":"IF(B11=\"\",\"\",_xlfn.XLOOKUP(B11,Socios!A:A,Socios!C:C,FALSE,0,1))","v":""},{"$f":"IF($B11=\"\",\"\",_xlfn.XLOOKUP($B11,Carreras!$B:$B,Carreras!$A:$A,0,0,1))","v":""},{"$f":"IF($B11=\"\",\"\",IF($E11=0,0,_xlfn.XLOOKUP($E11,Puntos!A:A,Puntos!B:B,TRUE)))","v":""},{"$f":"IF($B11=\"\",\"\",_xlfn.XLOOKUP($B11,Carreras!C:C,Carreras!A:A,0,0,1))","v":""},{"$f":"IF($B11=\"\",\"\",IF($G11=0,0,_xlfn.XLOOKUP($G11,Puntos!A:A,Puntos!B:B,TRUE)))","v":""},{"$f":"IF($B11=\"\",\"\",_xlfn.XLOOKUP($B11,Carreras!$D:$D,Carreras!$A:$A,0,0,1))","v":""},{"$f":"IF($B11=\"\",\"\",IF($I11=0,0,_xlfn.XLOOKUP($I11,Puntos!A:A,Puntos!B:B,TRUE)))","v":""},{"$f":"IF($B11=\"\",\"\",_xlfn.XLOOKUP($B11,Carreras!$E:$E,Carreras!$A:$A,0,0,1))","v":""},{"$f":"IF($B11=\"\",\"\",IF($K11=0,0,_xlfn.XLOOKUP($K11,Puntos!$A:$A,Puntos!$B:$B)))","v":""},"",{"$f":"IF(B11=\"\",\"\",_xlfn.IFS(M11=0,0,M11=1,0,M11=2,50,M11=3,100,M11=4,150))","v":""},"",0]
[9,{"$f":"IF(Carreras!$K4=0,\"\",Carreras!$K4)","v":""},{"$f":"IF(B12=\"\",\"\",_xlfn.XLOOKUP(B12,Socios!A:A,Socios!B:B,FALSE,0,1))","v":""},{"$f":"IF(B12=\"\",\"\",_xlfn.XLOOKUP(B12,Socios!A:A,Socios!C:C,FALSE,0,1))","v":""},{"$f":"IF($B12=\"\",\"\",_xlfn.XLOOKUP($B12,Carreras!$B:$B,Carreras!$A:$A,0,0,1))","v":""},{"$f":"IF($B12=\"\",\"\",IF($E12=0,0,_xlfn.XLOOKUP($E12,Puntos!A:A,Puntos!B:B,TRUE)))","v":""},{"$f":"IF($B12=\"\",\"\",_xlfn.XLOOKUP($B12,Carreras!C:C,Carreras!A:A,0,0,1))","v":""},{"$f":"IF($B12=\"\",\"\",IF($G12=0,0,_xlfn.XLOOKUP($G12,Puntos!A:A,Puntos!B:B,TRUE)))","v":""},{"$f":"IF($B12=\"\",\"\",_xlfn.XLOOKUP($B12,Carreras!$D:$D,Carreras!$A:$A,0,0,1))","v":""},{"$f":"IF($B12=\"\",\"\",IF($I12=0,0,_xlfn.XLOOKUP($I12,Puntos!A:A,Puntos!B:B,TRUE)))","v":""},{"$f":"IF($B12=\"\",\"\",_xlfn.XLOOKUP($B12,Carreras!$E:$E,Carreras!$A:$A,0,0,1))","v":""},{"$f":"IF($B12=\"\",\"\",IF($K12=0,0,_xlfn.XLOOKUP($K12,Puntos!$A:$A,Puntos!$B:$B)))","v":""},"",{"$f":"IF(B12=\"\",\"\",_xlfn.IFS(M12=0,0,M12=1,0,M12=2,50,M12=3,100,M12=4,150))","v":""},"",0]
[10,{"$f":"IF(Carreras!$K12=0,\"\",Carreras!$K12)","v":""},{"$f":"IF(B13=\"\",\"\",_xlfn.XLOOKUP(B13,Socios!A:A,Socios!B:B,FALSE,0,1))","v":""},{"$f":"IF(B13=\"\",\"\",_xlfn.XLOOKUP(B13,Socios!A:A,Socios!C:C,FALSE,0,1))","v":""},{"$f":"IF($B13=\"\",\"\",_xlfn.XLOOKUP($B13,Carreras!$B:$B,Carreras!$A:$A,0,0,1))","v":""},{"$f":"IF($B13=\"\",\"\",IF($E13=0,0,_xlfn.XLOOKUP($E13,Puntos!A:A,Puntos!B:B,TRUE)))","v":""},{"$f":"IF($B13=\"\",\"\",_xlfn.XLOOKUP($B13,Carreras!C:C,Carreras!A:A,0,0,1))","v":""},{"$f":"IF($B13=\"\",\"\",IF($G13=0,0,_xlfn.XLOOKUP($G13,Puntos!A:A,Puntos!B:B,TRUE)))","v":""},{"$f":"IF($B13=\"\",\"\",_xlfn.XLOOKUP($B13,Carreras!$D:$D,Carreras!$A:$A,0,0,1))","v":""},{"$f":"IF($B13=\"\",\"\",IF($I13=0,0,_xlfn.XLOOKUP($I13,Puntos!A:A,Puntos!B:B,TRUE)))","v":""},{"$f":"IF($B13=\"\",\"\",_xlfn.XLOOKUP($B13,Carreras!$E:$E,Carreras!$A:$A,0,0,1))","v":""},{"$f":"IF($B13=\"\",\"\",IF($K13=0,0,_xlfn.XLOOKUP($K13,Puntos!$A:$A,Puntos!$B:$B)))","v":""},"",{"$f":"IF(B13=\"\",\"\",_xlfn.IFS(M13=0,0,M13=1,0,M13=2,50,M13=3,100,M13=4,150))","v":""},"",0]
[11,{"$f":"IF(Carreras!$K13=0,\"\",Carreras!$K13)","v":""},{"$f":"IF(B14=\"\",\"\",_xlfn.XLOOKUP(B14,Socios!A:A,Socios!B:B,FALSE,0,1))","v":""},{"$f":"IF(B14=\"\",\"\",_xlfn.XLOOKUP(B14,Socios!A:A,Socios!C:C,FALSE,0,1))","v":""},{"$f":"IF($B14=\"\",\"\",_xlfn.XLOOKUP($B14,Carreras!$B:$B,Carreras!$A:$A,0,0,1))","v":""},{"$f":"IF($B14=\"\",\"\",IF($E14=0,0,_xlfn.XLOOKUP($E14,Puntos!A:A,Puntos!B:B,TRUE)))","v":""},{"$f":"IF($B14=\"\",\"\",_xlfn.XLOOKUP($B14,Carreras!C:C,Carreras!A:A,0,0,1))","v":""},{"$f":"IF($B14=\"\",\"\",IF($G14=0,0,_xlfn.XLOOKUP($G14,Puntos!A:A,Puntos!B:B,TRUE)))","v":""},{"$f":"IF($B14=\"\",\"\",_xlfn.XLOOKUP($B14,Carreras!$D:$D,Carreras!$A:$A,0,0,1))","v":""},{"$f":"IF($B14=\"\",\"\",IF($I14=0,0,_xlfn.XLOOKUP($I14,Puntos!A:A,Puntos!B:B,TRUE)))","v":""},{"$f":"IF($B14=\"\",\"\",_xlfn.XLOOKUP($B14,Carreras!$E:$E,Carreras!$A:$A,0,0,1))","v":""},{"$f":"IF($B14=\"\",\"\",IF($K14=0,0,_xlfn.XLOOKUP($K14,Puntos!$A:$A,Puntos!$B:$B)))","v":""},"",{"$f":"IF(B14=\"\",\"\",_xlfn.IFS(M14=0,0,M14=1,0,M14=2,50,M14=3,100,M14=4,150))","v":""},"",0]
[12,{"$f":"IF(Carreras!$K14=0,\"\",Carreras!$K14)","v":""},{"$f":"IF(B15=\"\",\"\",_xlfn.XLOOKUP(B15,Socios!A:A,Socios!B:B,FALSE,0,1))","v":""},{"$f":"IF(B15=\"\",\"\",_xlfn.XLOOKUP(B15,Socios!A:A,Socios!C:C,FALSE,0,1))","v":""},{"$f":"IF($B15=\"\",\"\",_xlfn.XLOOKUP($B15,Carreras!$B:$B,Carreras!$A:$A,0,0,1))","v":""},{"$f":"IF($B15=\"\",\"\",IF($E15=0,0,_xlfn.XLOOKUP($E15,Puntos!A:A,Puntos!B:B,TRUE)))","v":""},{"$f":"IF($B15=\"\",\"\",_xlfn.XLOOKUP($B15,Carreras!C:C,Carreras!A:A,0,0,1))","v":""},{"$f":"IF($B15=\"\",\"\",IF($G15=0,0,_xlfn.XLOOKUP($G15,Puntos!A:A,Puntos!B:B,TRUE)))","v":""},{"$f":"IF($B15=\"\",\"\",_xlfn.XLOOKUP($B15,Carreras!$D:$D,Carreras!$A:$A,0,0,1))","v":""},{"$f":"IF($B15=\"\",\"\",IF($I15=0,0,_xlfn.XLOOKUP($I15,Puntos!A:A,Puntos!B:B,TRUE)))","v":""},{"$f":"IF($B15=\"\",\"\",_xlfn.XLOOKUP($B15,Carreras!$E:$E,Carreras!$A:$A,0,0,1))","v":""},{"$f":"IF($B15=\"\",\"\",IF($K15=0,0,_xlfn.XLOOKUP($K15,Puntos!$A:$A,Puntos!$B:$B)))","v":""},"",{"$f":"IF(B15=\"\",\"\",_xlfn.IFS(M15=0,0,M15=1,0,M15=2,50,M15=3,100,M15=4,150))","v":""},"",0]
[13,{"$f":"IF(Carreras!$K15=0,\"\",Carreras!$K15)","v":""},{"$f":"IF(B16=\"\",\"\",_xlfn.XLOOKUP(B16,Socios!A:A,Socios!B:B,FALSE,0,1))","v":""},{"$f":"IF(B16=\"\",\"\",_xlfn.XLOOKUP(B16,Socios!A:A,Socios!C:C,FALSE,0,1))","v":""},{"$f":"IF($B16=\"\",\"\",_xlfn.XLOOKUP($B16,Carreras!$B:$B,Carreras!$A:$A,0,0,1))","v":""},{"$f":"IF($B16=\"\",\"\",IF($E16=0,0,_xlfn.XLOOKUP($E16,Puntos!A:A,Puntos!B:B,TRUE)))","v":""},{"$f":"IF($B16=\"\",\"\",_xlfn.XLOOKUP($B16,Carreras!C:C,Carreras!A:A,0,0,1))","v":""},{"$f":"IF($B16=\"\",\"\",IF($G16=0,0,_xlfn.XLOOKUP($G16,Puntos!A:A,Puntos!B:B,TRUE)))","v":""},{"$f":"IF($B16=\"\",\"\",_xlfn.XLOOKUP($B16,Carreras!$D:$D,Carreras!$A:$A,0,0,1))","v":""},{"$f":"IF($B16=\"\",\"\",IF($I16=0,0,_xlfn.XLOOKUP($I16,Puntos!A:A,Puntos!B:B,TRUE)))","v":""},{"$f":"IF($B16=\"\",\"\",_xlfn.XLOOKUP($B16,Carreras!$E:$E,Carreras!$A:$A,0,0,1))","v":""},{"$f":"IF($B16=\"\",\"\",IF($K16=0,0,_xlfn.XLOOKUP($K16,Puntos!$A:$A,Puntos!$B:$B)))","v":""},"",{"$f":"IF(B16=\"\",\"\",_xlfn.IFS(M16=0,0,M16=1,0,M16=2,50,M16=3,100,M16=4,150))","v":""},"",0]
[14,{"$f":"IF(Carreras!$K11=0,\"\",Carreras!$K11)","v":""},{"$f":"IF(B17=\"\",\"\",_xlfn.XLOOKUP(B17,Socios!A:A,Socios!B:B,FALSE,0,1))","v":""},{"$f":"IF(B17=\"\",\"\",_xlfn.XLOOKUP(B17,Socios!A:A,Socios!C:C,FALSE,0,1))","v":""},{"$f":"IF($B17=\"\",\"\",_xlfn.XLOOKUP($B17,Carreras!$B:$B,Carreras!$A:$A,0,0,1))","v":""},{"$f":"IF($B17=\"\",\"\",IF($E17=0,0,_xlfn.XLOOKUP($E17,Puntos!A:A,Puntos!B:B,TRUE)))","v":""},{"$f":"IF($B17=\"\",\"\",_xlfn.XLOOKUP($B17,Carreras!C:C,Carreras!A:A,0,0,1))","v":""},{"$f":"IF($B17=\"\",\"\",IF($G17=0,0,_xlfn.XLOOKUP($G17,Puntos!A:A,Puntos!B:B,TRUE)))","v":""},{"$f":"IF($B17=\"\",\"\",_xlfn.XLOOKUP($B17,Carreras!$D:$D,Carreras!$A:$A,0,0,1))","v":""},{"$f":"IF($B17=\"\",\"\",IF($I17=0,0,_xlfn.XLOOKUP($I17,Puntos!A:A,Puntos!B:B,TRUE)))","v":""},{"$f":"IF($B17=\"\",\"\",_xlfn.XLOOKUP($B17,Carreras!$E:$E,Carreras!$A:$A,0,0,1))","v":""},{"$f":"IF($B17=\"\",\"\",IF($K17=0,0,_xlfn.XLOOKUP($K17,Puntos!$A:$A,Puntos!$B:$B)))","v":""},"",{"$f":"IF(B17=\"\",\"\",_xlfn.IFS(M17=0,0,M17=1,0,M17=2,50,M17=3,100,M17=4,150))","v":""},"",0]
[15,{"$f":"IF(Carreras!$K16=0,\"\",Carreras!$K16)","v":""},{"$f":"IF(B18=\"\",\"\",_xlfn.XLOOKUP(B18,Socios!A:A,Socios!B:B,FALSE,0,1))","v":""},{"$f":"IF(B18=\"\",\"\",_xlfn.XLOOKUP(B18,Socios!A:A,Socios!C:C,FALSE,0,1))","v":""},{"$f":"IF($B18=\"\",\"\",_xlfn.XLOOKUP($B18,Carreras!$B:$B,Carreras!$A:$A,0,0,1))","v":""},{"$f":"IF($B18=\"\",\"\",IF($E18=0,0,_xlfn.XLOOKUP($E18,Puntos!A:A,Puntos!B:B,TRUE)))","v":""},{"$f":"IF($B18=\"\",\"\",_xlfn.XLOOKUP($B18,Carreras!C:C,Carreras!A:A,0,0,1))","v":""},{"$f":"IF($B18=\"\",\"\",IF($G18=0,0,_xlfn.XLOOKUP($G18,Puntos!A:A,Puntos!B:B,TRUE)))","v":""},{"$f":"IF($B18=\"\",\"\",_xlfn.XLOOKUP($B18,Carreras!$D:$D,Carreras!$A:$A,0,0,1))","v":""},{"$f":"IF($B18=\"\",\"\",IF($I18=0,0,_xlfn.XLOOKUP($I18,Puntos!A:A,Puntos!B:B,TRUE)))","v":""},{"$f":"IF($B18=\"\",\"\",_xlfn.XLOOKUP($B18,Carreras!$E:$E,Carreras!$A:$A,0,0,1))","v":""},{"$f":"IF($B18=\"\",\"\",IF($K18=0,0,_xlfn.XLOOKUP($K18,Puntos!$A:$A,Puntos!$B:$B)))","v":""},"",{"$f":"IF(B18=\"\",\"\",_xlfn.IFS(M18=0,0,M18=1,0,M18=2,50,M18=3,100,M18=4,150))","v":""},"",0]
[16,{"$f":"IF(Carreras!$K17=0,\"\",Carreras!$K17)","v":""},{"$f":"IF(B19=\"\",\"\",_xlfn.XLOOKUP(B19,Socios!A:A,Socios!B:B,FALSE,0,1))","v":""},{"$f":"IF(B19=\"\",\"\",_xlfn.XLOOKUP(B19,Socios!A:A,Socios!C:C,FALSE,0,1))","v":""},{"$f":"IF($B19=\"\",\"\",_xlfn.XLOOKUP($B19,Carreras!$B:$B,Carreras!$A:$A,0,0,1))","v":""},{"$f":"IF($B19=\"\",\"\",IF($E19=0,0,_xlfn.XLOOKUP($E19,Puntos!A:A,Puntos!B:B,TRUE)))","v":""},{"$f":"IF($B19=\"\",\"\",_xlfn.XLOOKUP($B19,Carreras!C:C,Carreras!A:A,0,0,1))","v":""},{"$f":"IF($B19=\"\",\"\",IF($G19=0,0,_xlfn.XLOOKUP($G19,Puntos!A:A,Puntos!B:B,TRUE)))","v":""},{"$f":"IF($B19=\"\",\"\",_xlfn.XLOOKUP($B19,Carreras!$D:$D,Carreras!$A:$A,0,0,1))","v":""},{"$f":"IF($B19=\"\",\"\",IF($I19=0,0,_xlfn.XLOOKUP($I19,Puntos!A:A,Puntos!B:B,TRUE)))","v":""},{"$f":"IF($B19=\"\",\"\",_xlfn.XLOOKUP($B19,Carreras!$E:$E,Carreras!$A:$A,0,0,1))","v":""},{"$f":"IF($B19=\"\",\"\",IF($K19=0,0,_xlfn.XLOOKUP($K19,Puntos!$A:$A,Puntos!$B:$B)))","v":""},"",{"$f":"IF(B19=\"\",\"\",_xlfn.IFS(M19=0,0,M19=1,0,M19=2,50,M19=3,100,M19=4,150))","v":""},"",0]
[17,{"$f":"IF(Carreras!$K18=0,\"\",Carreras!$K18)","v":""},{"$f":"IF(B20=\"\",\"\",_xlfn.XLOOKUP(B20,Socios!A:A,Socios!B:B,FALSE,0,1))","v":""},{"$f":"IF(B20=\"\",\"\",_xlfn.XLOOKUP(B20,Socios!A:A,Socios!C:C,FALSE,0,1))","v":""},{"$f":"IF($B20=\"\",\"\",_xlfn.XLOOKUP($B20,Carreras!$B:$B,Carreras!$A:$A,0,0,1))","v":""},{"$f":"IF($B20=\"\",\"\",IF($E20=0,0,_xlfn.XLOOKUP($E20,Puntos!A:A,Puntos!B:B,TRUE)))","v":""},{"$f":"IF($B20=\"\",\"\",_xlfn.XLOOKUP($B20,Carreras!C:C,Carreras!A:A,0,0,1))","v":""},{"$f":"IF($B20=\"\",\"\",IF($G20=0,0,_xlfn.XLOOKUP($G20,Puntos!A:A,Puntos!B:B,TRUE)))","v":""},{"$f":"IF($B20=\"\",\"\",_xlfn.XLOOKUP($B20,Carreras!$D:$D,Carreras!$A:$A,0,0,1))","v":""},{"$f":"IF($B20=\"\",\"\",IF($I20=0,0,_xlfn.XLOOKUP($I20,Puntos!A:A,Puntos!B:B,TRUE)))","v":""},{"$f":"IF($B20=\"\",\"\",_xlfn.XLOOKUP($B20,Carreras!$E:$E,Carreras!$A:$A,0,0,1))","v":""},{"$f":"IF($B20=\"\",\"\",IF($K20=0,0,_xlfn.XLOOKUP($K20,Puntos!$A:$A,Puntos!$B:$B)))","v":""},"",{"$f":"IF(B20=\"\",\"\",_xlfn.IFS(M20=0,0,M20=1,0,M20=2,50,M20=3,100,M20=4,150))","v":""},"",0]
[18,{"$f":"IF(Carreras!$K19=0,\"\",Carreras!$K19)","v":""},{"$f":"IF(B21=\"\",\"\",_xlfn.XLOOKUP(B21,Socios!A:A,Socios!B:B,FALSE,0,1))","v":""},{"$f":"IF(B21=\"\",\"\",_xlfn.XLOOKUP(B21,Socios!A:A,Socios!C:C,FALSE,0,1))","v":""},{"$f":"IF($B21=\"\",\"\",_xlfn.XLOOKUP($B21,Carreras!$B:$B,Carreras!$A:$A,0,0,1))","v":""},{"$f":"IF($B21=\"\",\"\",IF($E21=0,0,_xlfn.XLOOKUP($E21,Puntos!A:A,Puntos!B:B,TRUE)))","v":""},{"$f":"IF($B21=\"\",\"\",_xlfn.XLOOKUP($B21,Carreras!C:C,Carreras!A:A,0,0,1))","v":""},{"$f":"IF($B21=\"\",\"\",IF($G21=0,0,_xlfn.XLOOKUP($G21,Puntos!A:A,Puntos!B:B,TRUE)))","v":""},{"$f":"IF($B21=\"\",\"\",_xlfn.XLOOKUP($B21,Carreras!$D:$D,Carreras!$A:$A,0,0,1))","v":""},{"$f":"IF($B21=\"\",\"\",IF($I21=0,0,_xlfn.XLOOKUP($I21,Puntos!A:A,Puntos!B:B,TRUE)))","v":""},{"$f":"IF($B21=\"\",\"\",_xlfn.XLOOKUP($B21,Carreras!$E:$E,Carreras!$A:$A,0,0,1))","v":""},{"$f":"IF($B21=\"\",\"\",IF($K21=0,0,_xlfn.XLOOKUP($K21,Puntos!$A:$A,Puntos!$B:$B)))","v":""},"",{"$f":"IF(B21=\"\",\"\",_xlfn.IFS(M21=0,0,M21=1,0,M21=2,50,M21=3,100,M21=4,150))","v":""},"",0]
[19,{"$f":"IF(Carreras!$K20=0,\"\",Carreras!$K20)","v":""},{"$f":"IF(B22=\"\",\"\",_xlfn.XLOOKUP(B22,Socios!A:A,Socios!B:B,FALSE,0,1))","v":""},{"$f":"IF(B22=\"\",\"\",_xlfn.XLOOKUP(B22,Socios!A:A,Socios!C:C,FALSE,0,1))","v":""},{"$f":"IF($B22=\"\",\"\",_xlfn.XLOOKUP($B22,Carreras!$B:$B,Carreras!$A:$A,0,0,1))","v":""},{"$f":"IF($B22=\"\",\"\",IF($E22=0,0,_xlfn.XLOOKUP($E22,Puntos!A:A,Puntos!B:B,TRUE)))","v":""},{"$f":"IF($B22=\"\",\"\",_xlfn.XLOOKUP($B22,Carreras!C:C,Carreras!A:A,0,0,1))","v":""},{"$f":"IF($B22=\"\",\"\",IF($G22=0,0,_xlfn.XLOOKUP($G22,Puntos!A:A,Puntos!B:B,TRUE)))","v":""},{"$f":"IF($B22=\"\",\"\",_xlfn.XLOOKUP($B22,Carreras!$D:$D,Carreras!$A:$A,0,0,1))","v":""},{"$f":"IF($B22=\"\",\"\",IF($I22=0,0,_xlfn.XLOOKUP($I22,Puntos!A:A,Puntos!B:B,TRUE)))","v":""},{"$f":"IF($B22=\"\",\"\",_xlfn.XLOOKUP($B22,Carreras!$E:$E,Carreras!$A:$A,0,0,1))","v":""},{"$f":"IF($B22=\"\",\"\",IF($K22=0,0,_xlfn.XLOOKUP($K22,Puntos!$A:$A,Puntos!$B:$B)))","v":""},"",{"$f":"IF(B22=\"\",\"\",_xlfn.IFS(M22=0,0,M22=1,0,M22=2,50,M22=3,100,M22=4,150))","v":""},"",0]
[20,{"$f":"IF(Carreras!$K21=0,\"\",Carreras!$K21)","v":""},{"$f":"IF(B23=\"\",\"\",_xlfn.XLOOKUP(B23,Socios!A:A,Socios!B:B,FALSE,0,1))","v":""},{"$f":"IF(B23=\"\",\"\",_xlfn.XLOOKUP(B23,Socios!A:A,Socios!C:C,FALSE,0,1))","v":""},{"$f":"IF($B23=\"\",\"\",_xlfn.XLOOKUP($B23,Carreras!$B:$B,Carreras!$A:$A,0,0,1))","v":""},{"$f":"IF($B23=\"\",\"\",IF($E23=0,0,_xlfn.XLOOKUP($E23,Puntos!A:A,Puntos!B:B,TRUE)))","v":""},{"$f":"IF($B23=\"\",\"\",_xlfn.XLOOKUP($B23,Carreras!C:C,Carreras!A:A,0,0,1))","v":""},{"$f":"IF($B23=\"\",\"\",IF($G23=0,0,_xlfn.XLOOKUP($G23,Puntos!A:A,Puntos!B:B,TRUE)))","v":""},{"$f":"IF($B23=\"\",\"\",_xlfn.XLOOKUP($B23,Carreras!$D:$D,Carreras!$A:$A,0,0,1))","v":""},{"$f":"IF($B23=\"\",\"\",IF($I23=0,0,_xlfn.XLOOKUP($I23,Puntos!A:A,Puntos!B:B,TRUE)))","v":""},{"$f":"IF($B23=\"\",\"\",_xlfn.XLOOKUP($B23,Carreras!$E:$E,Carreras!$A:$A,0,0,1))","v":""},{"$f":"IF($B23=\"\",\"\",IF($K23=0,0,_xlfn.XLOOKUP($K23,Puntos!$A:$A,Puntos!$B:$B)))","v":""},"",{"$f":"IF(B23=\"\",\"\",_xlfn.IFS(M23=0,0,M23=1,0,M23=2,50,M23=3,100,M23=4,150))","v":""},"",0]
[21,{"$f":"IF(Carreras!$K22=0,\"\",Carreras!$K22)","v":""},{"$f":"IF(B24=\"\",\"\",_xlfn.XLOOKUP(B24,Socios!A:A,Socios!B:B,FALSE,0,1))","v":""},{"$f":"IF(B24=\"\",\"\",_xlfn.XLOOKUP(B24,Socios!A:A,Socios!C:C,FALSE,0,1))","v":""},{"$f":"IF($B24=\"\",\"\",_xlfn.XLOOKUP($B24,Carreras!$B:$B,Carreras!$A:$A,0,0,1))","v":""},{"$f":"IF($B24=\"\",\"\",IF($E24=0,0,_xlfn.XLOOKUP($E24,Puntos!A:A,Puntos!B:B,TRUE)))","v":""},{"$f":"IF($B24=\"\",\"\",_xlfn.XLOOKUP($B24,Carreras!C:C,Carreras!A:A,0,0,1))","v":""},{"$f":"IF($B24=\"\",\"\",IF($G24=0,0,_xlfn.XLOOKUP($G24,Puntos!A:A,Puntos!B:B,TRUE)))","v":""},{"$f":"IF($B24=\"\",\"\",_xlfn.XLOOKUP($B24,Carreras!$D:$D,Carreras!$A:$A,0,0,1))","v":""},{"$f":"IF($B24=\"\",\"\",IF($I24=0,0,_xlfn.XLOOKUP($I24,Puntos!A:A,Puntos!B:B,TRUE)))","v":""},{"$f":"IF($B24=\"\",\"\",_xlfn.XLOOKUP($B24,Carreras!$E:$E,Carreras!$A:$A,0,0,1))","v":""},{"$f":"IF($B24=\"\",\"\",IF($K24=0,0,_xlfn.XLOOKUP($K24,Puntos!$A:$A,Puntos!$B:$B)))","v":""},"",{"$f":"IF(B24=\"\",\"\",_xlfn.IFS(M24=0,0,M24=1,0,M24=2,50,M24=3,100,M24=4,150))","v":""},"",0]
[22,{"$f":"IF(Carreras!$K23=0,\"\",Carreras!$K23)","v":""},{"$f":"IF(B25=\"\",\"\",_xlfn.XLOOKUP(B25,Socios!A:A,Socios!B:B,FALSE,0,1))","v":""},{"$f":"IF(B25=\"\",\"\",_xlfn.XLOOKUP(B25,Socios!A:A,Socios!C:C,FALSE,0,1))","v":""},{"$f":"IF($B25=\"\",\"\",_xlfn.XLOOKUP($B25,Carreras!$B:$B,Carreras!$A:$A,0,0,1))","v":""},{"$f":"IF($B25=\"\",\"\",IF($E25=0,0,_xlfn.XLOOKUP($E25,Puntos!A:A,Puntos!B:B,TRUE)))","v":""},{"$f":"IF($B25=\"\",\"\",_xlfn.XLOOKUP($B25,Carreras!C:C,Carreras!A:A,0,0,1))","v":""},{"$f":"IF($B25=\"\",\"\",IF($G25=0,0,_xlfn.XLOOKUP($G25,Puntos!A:A,Puntos!B:B,TRUE)))","v":""},{"$f":"IF($B25=\"\",\"\",_xlfn.XLOOKUP($B25,Carreras!$D:$D,Carreras!$A:$A,0,0,1))","v":""},{"$f":"IF($B25=\"\",\"\",IF($I25=0,0,_xlfn.XLOOKUP($I25,Puntos!A:A,Puntos!B:B,TRUE)))","v":""},{"$f":"IF($B25=\"\",\"\",_xlfn.XLOOKUP($B25,Carreras!$E:$E,Carreras!$A:$A,0,0,1))","v":""},{"$f":"IF($B25=\"\",\"\",IF($K25=0,0,_xlfn.XLOOKUP($K25,Puntos!$A:$A,Puntos!$B:$B)))","v":""},"",{"$f":"IF(B25=\"\",\"\",_xlfn.IFS(M25=0,0,M25=1,0,M25=2,50,M25=3,100,M25=4,150))","v":""},"",0]
[23,{"$f":"IF(Carreras!$K24=0,\"\",Carreras!$K24)","v":""},{"$f":"IF(B26=\"\",\"\",_xlfn.XLOOKUP(B26,Socios!A:A,Socios!B:B,FALSE,0,1))","v":""},{"$f":"IF(B26=\"\",\"\",_xlfn.XLOOKUP(B26,Socios!A:A,Socios!C:C,FALSE,0,1))","v":""},{"$f":"IF($B26=\"\",\"\",_xlfn.XLOOKUP($B26,Carreras!$B:$B,Carreras!$A:$A,0,0,1))","v":""},{"$f":"IF($B26=\"\",\"\",IF($E26=0,0,_xlfn.XLOOKUP($E26,Puntos!A:A,Puntos!B:B,TRUE)))","v":""},{"$f":"IF($B26=\"\",\"\",_xlfn.XLOOKUP($B26,Carreras!C:C,Carreras!A:A,0,0,1))","v":""},{"$f":"IF($B26=\"\",\"\",IF($G26=0,0,_xlfn.XLOOKUP($G26,Puntos!A:A,Puntos!B:B,TRUE)))","v":""},{"$f":"IF($B26=\"\",\"\",_xlfn.XLOOKUP($B26,Carreras!$D:$D,Carreras!$A:$A,0,0,1))","v":""},{"$f":"IF($B26=\"\",\"\",IF($I26=0,0,_xlfn.XLOOKUP($I26,Puntos!A:A,Puntos!B:B,TRUE)))","v":""},{"$f":"IF($B26=\"\",\"\",_xlfn.XLOOKUP($B26,Carreras!$E:$E,Carreras!$A:$A,0,0,1))","v":""},{"$f":"IF($B26=\"\",\"\",IF($K26=0,0,_xlfn.XLOOKUP($K26,Puntos!$A:$A,Puntos!$B:$B)))","v":""},"",{"$f":"IF(B26=\"\",\"\",_xlfn.IFS(M26=0,0,M26=1,0,M26=2,50,M26=3,100,M26=4,150))","v":""},"",0]
[24,{"$f":"IF(Carreras!$K25=0,\"\",Carreras!$K25)","v":""},{"$f":"IF(B27=\"\",\"\",_xlfn.XLOOKUP(B27,Socios!A:A,Socios!B:B,FALSE,0,1))","v":""},{"$f":"IF(B27=\"\",\"\",_xlfn.XLOOKUP(B27,Socios!A:A,Socios!C:C,FALSE,0,1))","v":""},{"$f":"IF($B27=\"\",\"\",_xlfn.XLOOKUP($B27,Carreras!$B:$B,Carreras!$A:$A,0,0,1))","v":""},{"$f":"IF($B27=\"\",\"\",IF($E27=0,0,_xlfn.XLOOKUP($E27,Puntos!A:A,Puntos!B:B,TRUE)))","v":""},{"$f":"IF($B27=\"\",\"\",_xlfn.XLOOKUP($B27,Carreras!C:C,Carreras!A:A,0,0,1))","v":""},{"$f":"IF($B27=\"\",\"\",IF($G27=0,0,_xlfn.XLOOKUP($G27,Puntos!A:A,Puntos!B:B,TRUE)))","v":""},{"$f":"IF($B27=\"\",\"\",_xlfn.XLOOKUP($B27,Carreras!$D:$D,Carreras!$A:$A,0,0,1))","v":""},{"$f":"IF($B27=\"\",\"\",IF($I27=0,0,_xlfn.XLOOKUP($I27,Puntos!A:A,Puntos!B:B,TRUE)))","v":""},{"$f":"IF($B27=\"\",\"\",_xlfn.XLOOKUP($B27,Carreras!$E:$E,Carreras!$A:$A,0,0,1))","v":""},{"$f":"IF($B27=\"\",\"\",IF($K27=0,0,_xlfn.XLOOKUP($K27,Puntos!$A:$A,Puntos!$B:$B)))","v":""},"",{"$f":"IF(B27=\"\",\"\",_xlfn.IFS(M27=0,0,M27=1,0,M27=2,50,M27=3,100,M27=4,150))","v":""},"",0]
[25,{"$f":"IF(Carreras!$K26=0,\"\",Carreras!$K26)","v":""},{"$f":"IF(B28=\"\",\"\",_xlfn.XLOOKUP(B28,Socios!A:A,Socios!B:B,FALSE,0,1))","v":""},{"$f":"IF(B28=\"\",\"\",_xlfn.XLOOKUP(B28,Socios!A:A,Socios!C:C,FALSE,0,1))","v":""},{"$f":"IF($B28=\"\",\"\",_xlfn.XLOOKUP($B28,Carreras!$B:$B,Carreras!$A:$A,0,0,1))","v":""},{"$f":"IF($B28=\"\",\"\",IF($E28=0,0,_xlfn.XLOOKUP($E28,Puntos!A:A,Puntos!B:B,TRUE)))","v":""},{"$f":"IF($B28=\"\",\"\",_xlfn.XLOOKUP($B28,Carreras!C:C,Carreras!A:A,0,0,1))","v":""},{"$f":"IF($B28=\"\",\"\",IF($G28=0,0,_xlfn.XLOOKUP($G28,Puntos!A:A,Puntos!B:B,TRUE)))","v":""},{"$f":"IF($B28=\"\",\"\",_xlfn.XLOOKUP($B28,Carreras!$D:$D,Carreras!$A:$A,0,0,1))","v":""},{"$f":"IF($B28=\"\",\"\",IF($I28=0,0,_xlfn.XLOOKUP($I28,Puntos!A:A,Puntos!B:B,TRUE)))","v":""},{"$f":"IF($B28=\"\",\"\",_xlfn.XLOOKUP($B28,Carreras!$E:$E,Carreras!$A:$A,0,0,1))","v":""},{"$f":"IF($B28=\"\",\"\",IF($K28=0,0,_xlfn.XLOOKUP($K28,Puntos!$A:$A,Puntos!$B:$B)))","v":""},"",{"$f":"IF(B28=\"\",\"\",_xlfn.IFS(M28=0,0,M28=1,0,M28=2,50,M28=3,100,M28=4,150))","v":""},"",0]
[26,{"$f":"IF(Carreras!$K27=0,\"\",Carreras!$K27)","v":""},{"$f":"IF(B29=\"\",\"\",_xlfn.XLOOKUP(B29,Socios!A:A,Socios!B:B,FALSE,0,1))","v":""},{"$f":"IF(B29=\"\",\"\",_xlfn.XLOOKUP(B29,Socios!A:A,Socios!C:C,FALSE,0,1))","v":""},{"$f":"IF($B29=\"\",\"\",_xlfn.XLOOKUP($B29,Carreras!$B:$B,Carreras!$A:$A,0,0,1))","v":""},{"$f":"IF($B29=\"\",\"\",IF($E29=0,0,_xlfn.XLOOKUP($E29,Puntos!A:A,Puntos!B:B,TRUE)))","v":""},{"$f":"IF($B29=\"\",\"\",_xlfn.XLOOKUP($B29,Carreras!C:C,Carreras!A:A,0,0,1))","v":""},{"$f":"IF($B29=\"\",\"\",IF($G29=0,0,_xlfn.XLOOKUP($G29,Puntos!A:A,Puntos!B:B,TRUE)))","v":""},{"$f":"IF($B29=\"\",\"\",_xlfn.XLOOKUP($B29,Carreras!$D:$D,Carreras!$A:$A,0,0,1))","v":""},{"$f":"IF($B29=\"\",\"\",IF($I29=0,0,_xlfn.XLOOKUP($I29,Puntos!A:A,Puntos!B:B,TRUE)))","v":""},{"$f":"IF($B29=\"\",\"\",_xlfn.XLOOKUP($B29,Carreras!$E:$E,Carreras!$A:$A,0,0,1))","v":""},{"$f":"IF($B29=\"\",\"\",IF($K29=0,0,_xlfn.XLOOKUP($K29,Puntos!$A:$A,Puntos!$B:$B)))","v":""},"",{"$f":"IF(B29=\"\",\"\",_xlfn.IFS(M29=0,0,M29=1,0,M29=2,50,M29=3,100,M29=4,150))","v":""},"",0]
[27,{"$f":"IF(Carreras!$K28=0,\"\",Carreras!$K28)","v":""},{"$f":"IF(B30=\"\",\"\",_xlfn.XLOOKUP(B30,Socios!A:A,Socios!B:B,FALSE,0,1))","v":""},{"$f":"IF(B30=\"\",\"\",_xlfn.XLOOKUP(B30,Socios!A:A,Socios!C:C,FALSE,0,1))","v":""},{"$f":"IF($B30=\"\",\"\",_xlfn.XLOOKUP($B30,Carreras!$B:$B,Carreras!$A:$A,0,0,1))","v":""},{"$f":"IF($B30=\"\",\"\",IF($E30=0,0,_xlfn.XLOOKUP($E30,Puntos!A:A,Puntos!B:B,TRUE)))","v":""},{"$f":"IF($B30=\"\",\"\",_xlfn.XLOOKUP($B30,Carreras!C:C,Carreras!A:A,0,0,1))","v":""},{"$f":"IF($B30=\"\",\"\",IF($G30=0,0,_xlfn.XLOOKUP($G30,Puntos!A:A,Puntos!B:B,TRUE)))","v":""},{"$f":"IF($B30=\"\",\"\",_xlfn.XLOOKUP($B30,Carreras!$D:$D,Carreras!$A:$A,0,0,1))","v":""},{"$f":"IF($B30=\"\",\"\",IF($I30=0,0,_xlfn.XLOOKUP($I30,Puntos!A:A,Puntos!B:B,TRUE)))","v":""},{"$f":"IF($B30=\"\",\"\",_xlfn.XLOOKUP($B30,Carreras!$E:$E,Carreras!$A:$A,0,0,1))","v":""},{"$f":"IF($B30=\"\",\"\",IF($K30=0,0,_xlfn.XLOOKUP($K30,Puntos!$A:$A,Puntos!$B:$B)))","v":""},"",{"$f":"IF(B30=\"\",\"\",_xlfn.IFS(M30=0,0,M30=1,0,M30=2,50,M30=3,100,M30=4,150))","v":""},"",0]
[28,{"$f":"IF(Carreras!$K29=0,\"\",Carreras!$K29)","v":""},{"$f":"IF(B31=\"\",\"\",_xlfn.XLOOKUP(B31,Socios!A:A,Socios!B:B,FALSE,0,1))","v":""},{"$f":"IF(B31=\"\",\"\",_xlfn.XLOOKUP(B31,Socios!A:A,Socios!C:C,FALSE,0,1))","v":""},{"$f":"IF($B31=\"\",\"\",_xlfn.XLOOKUP($B31,Carreras!$B:$B,Carreras!$A:$A,0,0,1))","v":""},{"$f":"IF($B31=\"\",\"\",IF($E31=0,0,_xlfn.XLOOKUP($E31,Puntos!A:A,Puntos!B:B,TRUE)))","v":""},{"$f":"IF($B31=\"\",\"\",_xlfn.XLOOKUP($B31,Carreras!C:C,Carreras!A:A,0,0,1))","v":""},{"$f":"IF($B31=\"\",\"\",IF($G31=0,0,_xlfn.XLOOKUP($G31,Puntos!A:A,Puntos!B:B,TRUE)))","v":""},{"$f":"IF($B31=\"\",\"\",_xlfn.XLOOKUP($B31,Carreras!$D:$D,Carreras!$A:$A,0,0,1))","v":""},{"$f":"IF($B31=\"\",\"\",IF($I31=0,0,_xlfn.XLOOKUP($I31,Puntos!A:A,Puntos!B:B,TRUE)))","v":""},{"$f":"IF($B31=\"\",\"\",_xlfn.XLOOKUP($B31,Carreras!$E:$E,Carreras!$A:$A,0,0,1))","v":""},{"$f":"IF($B31=\"\",\"\",IF($K31=0,0,_xlfn.XLOOKUP($K31,Puntos!$A:$A,Puntos!$B:$B)))","v":""},"",{"$f":"IF(B31=\"\",\"\",_xlfn.IFS(M31=0,0,M31=1,0,M31=2,50,M31=3,100,M31=4,150))","v":""},"",0]
[29,{"$f":"IF(Carreras!$K30=0,\"\",Carreras!$K30)","v":""},{"$f":"IF(B32=\"\",\"\",_xlfn.XLOOKUP(B32,Socios!A:A,Socios!B:B,FALSE,0,1))","v":""},{"$f":"IF(B32=\"\",\"\",_xlfn.XLOOKUP(B32,Socios!A:A,Socios!C:C,FALSE,0,1))","v":""},{"$f":"IF($B32=\"\",\"\",_xlfn.XLOOKUP($B32,Carreras!$B:$B,Carreras!$A:$A,0,0,1))","v":""},{"$f":"IF($B32=\"\",\"\",IF($E32=0,0,_xlfn.XLOOKUP($E32,Puntos!A:A,Puntos!B:B,TRUE)))","v":""},{"$f":"IF($B32=\"\",\"\",_xlfn.XLOOKUP($B32,Carreras!C:C,Carreras!A:A,0,0,1))","v":""},{"$f":"IF($B32=\"\",\"\",IF($G32=0,0,_xlfn.XLOOKUP($G32,Puntos!A:A,Puntos!B:B,TRUE)))","v":""},{"$f":"IF($B32=\"\",\"\",_xlfn.XLOOKUP($B32,Carreras!$D:$D,Carreras!$A:$A,0,0,1))","v":""},{"$f":"IF($B32=\"\",\"\",IF($I32=0,0,_xlfn.XLOOKUP($I32,Puntos!A:A,Puntos!B:B,TRUE)))","v":""},{"$f":"IF($B32=\"\",\"\",_xlfn.XLOOKUP($B32,Carreras!$E:$E,Carreras!$A:$A,0,0,1))","v":""},{"$f":"IF($B32=\"\",\"\",IF($K32=0,0,_xlfn.XLOOKUP($K32,Puntos!$A:$A,Puntos!$B:$B)))","v":""},"",{"$f":"IF(B32=\"\",\"\",_xlfn.IFS(M32=0,0,M32=1,0,M32=2,50,M32=3,100,M32=4,150))","v":""},"",0]
[30,{"$f":"IF(Carreras!$K31=0,\"\",Carreras!$K31)","v":""},{"$f":"IF(B33=\"\",\"\",_xlfn.XLOOKUP(B33,Socios!A:A,Socios!B:B,FALSE,0,1))","v":""},{"$f":"IF(B33=\"\",\"\",_xlfn.XLOOKUP(B33,Socios!A:A,Socios!C:C,FALSE,0,1))","v":""},{"$f":"IF($B33=\"\",\"\",_xlfn.XLOOKUP($B33,Carreras!$B:$B,Carreras!$A:$A,0,0,1))","v":""},{"$f":"IF($B33=\"\",\"\",IF($E33=0,0,_xlfn.XLOOKUP($E33,Puntos!A:A,Puntos!B:B,TRUE)))","v":""},{"$f":"IF($B33=\"\",\"\",_xlfn.XLOOKUP($B33,Carreras!C:C,Carreras!A:A,0,0,1))","v":""},{"$f":"IF($B33=\"\",\"\",IF($G33=0,0,_xlfn.XLOOKUP($G33,Puntos!A:A,Puntos!B:B,TRUE)))","v":""},{"$f":"IF($B33=\"\",\"\",_xlfn.XLOOKUP($B33,Carreras!$D:$D,Carreras!$A:$A,0,0,1))","v":""},{"$f":"IF($B33=\"\",\"\",IF($I33=0,0,_xlfn.XLOOKUP($I33,Puntos!A:A,Puntos!B:B,TRUE)))","v":""},{"$f":"IF($B33=\"\",\"\",_xlfn.XLOOKUP($B33,Carreras!$E:$E,Carreras!$A:$A,0,0,1))","v":""},{"$f":"IF($B33=\"\",\"\",IF($K33=0,0,_xlfn.XLOOKUP($K33,Puntos!$A:$A,Puntos!$B:$B)))","v":""},"",{"$f":"IF(B33=\"\",\"\",_xlfn.IFS(M33=0,0,M33=1,0,M33=2,50,M33=3,100,M33=4,150))","v":""},"",0]
[31,{"$f":"IF(Carreras!$K32=0,\"\",Carreras!$K32)","v":""},{"$f":"IF(B34=\"\",\"\",_xlfn.XLOOKUP(B34,Socios!A:A,Socios!B:B,FALSE,0,1))","v":""},{"$f":"IF(B34=\"\",\"\",_xlfn.XLOOKUP(B34,Socios!A:A,Socios!C:C,FALSE,0,1))","v":""},{"$f":"IF($B34=\"\",\"\",_xlfn.XLOOKUP($B34,Carreras!$B:$B,Carreras!$A:$A,0,0,1))","v":""},{"$f":"IF($B34=\"\",\"\",IF($E34=0,0,_xlfn.XLOOKUP($E34,Puntos!A:A,Puntos!B:B,TRUE)))","v":""},{"$f":"IF($B34=\"\",\"\",_xlfn.XLOOKUP($B34,Carreras!C:C,Carreras!A:A,0,0,1))","v":""},{"$f":"IF($B34=\"\",\"\",IF($G34=0,0,_xlfn.XLOOKUP($G34,Puntos!A:A,Puntos!B:B,TRUE)))","v":""},{"$f":"IF($B34=\"\",\"\",_xlfn.XLOOKUP($B34,Carreras!$D:$D,Carreras!$A:$A,0,0,1))","v":""},{"$f":"IF($B34=\"\",\"\",IF($I34=0,0,_xlfn.XLOOKUP($I34,Puntos!A:A,Puntos!B:B,TRUE)))","v":""},{"$f":"IF($B34=\"\",\"\",_xlfn.XLOOKUP($B34,Carreras!$E:$E,Carreras!$A:$A,0,0,1))","v":""},{"$f":"IF($B34=\"\",\"\",IF($K34=0,0,_xlfn.XLOOKUP($K34,Puntos!$A:$A,Puntos!$B:$B)))","v":""},"",{"$f":"IF(B34=\"\",\"\",_xlfn.IFS(M34=0,0,M34=1,0,M34=2,50,M34=3,100,M34=4,150))","v":""},"",0]
[32,{"$f":"IF(Carreras!$K33=0,\"\",Carreras!$K33)","v":""},{"$f":"IF(B35=\"\",\"\",_xlfn.XLOOKUP(B35,Socios!A:A,Socios!B:B,FALSE,0,1))","v":""},{"$f":"IF(B35=\"\",\"\",_xlfn.XLOOKUP(B35,Socios!A:A,Socios!C:C,FALSE,0,1))","v":""},{"$f":"IF($B35=\"\",\"\",_xlfn.XLOOKUP($B35,Carreras!$B:$B,Carreras!$A:$A,0,0,1))","v":""},{"$f":"IF($B35=\"\",\"\",IF($E35=0,0,_xlfn.XLOOKUP($E35,Puntos!A:A,Puntos!B:B,TRUE)))","v":""},{"$f":"IF($B35=\"\",\"\",_xlfn.XLOOKUP($B35,Carreras!C:C,Carreras!A:A,0,0,1))","v":""},{"$f":"IF($B35=\"\",\"\",IF($G35=0,0,_xlfn.XLOOKUP($G35,Puntos!A:A,Puntos!B:B,TRUE)))","v":""},{"$f":"IF($B35=\"\",\"\",_xlfn.XLOOKUP($B35,Carreras!$D:$D,Carreras!$A:$A,0,0,1))","v":""},{"$f":"IF($B35=\"\",\"\",IF($I35=0,0,_xlfn.XLOOKUP($I35,Puntos!A:A,Puntos!B:B,TRUE)))","v":""},{"$f":"IF($B35=\"\",\"\",_xlfn.XLOOKUP($B35,Carreras!$E:$E,Carreras!$A:$A,0,0,1))","v":""},{"$f":"IF($B35=\"\",\"\",IF($K35=0,0,_xlfn.XLOOKUP($K35,Puntos!$A:$A,Puntos!$B:$B)))","v":""},"",{"$f":"IF(B35=\"\",\"\",_xlfn.IFS(M35=0,0,M35=1,0,M35=2,50,M35=3,100,M35=4,150))","v":""},"",0]
[33,{"$f":"IF(Carreras!$K34=0,\"\",Carreras!$K34)","v":""},{"$f":"IF(B36=\"\",\"\",_xlfn.XLOOKUP(B36,Socios!A:A,Socios!B:B,FALSE,0,1))","v":""},{"$f":"IF(B36=\"\",\"\",_xlfn.XLOOKUP(B36,Socios!A:A,Socios!C:C,FALSE,0,1))","v":""},{"$f":"IF($B36=\"\",\"\",_xlfn.XLOOKUP($B36,Carreras!$B:$B,Carreras!$A:$A,0,0,1))","v":""},{"$f":"IF($B36=\"\",\"\",IF($E36=0,0,_xlfn.XLOOKUP($E36,Puntos!A:A,Puntos!B:B,TRUE)))","v":""},{"$f":"IF($B36=\"\",\"\",_xlfn.XLOOKUP($B36,Carreras!C:C,Carreras!A:A,0,0,1))","v":""},{"$f":"IF($B36=\"\",\"\",IF($G36=0,0,_xlfn.XLOOKUP($G36,Puntos!A:A,Puntos!B:B,TRUE)))","v":""},{"$f":"IF($B36=\"\",\"\",_xlfn.XLOOKUP($B36,Carreras!$D:$D,Carreras!$A:$A,0,0,1))","v":""},{"$f":"IF($B36=\"\",\"\",IF($I36=0,0,_xlfn.XLOOKUP($I36,Puntos!A:A,Puntos!B:B,TRUE)))","v":""},{"$f":"IF($B36=\"\",\"\",_xlfn.XLOOKUP($B36,Carreras!$E:$E,Carreras!$A:$A,0,0,1))","v":""},{"$f":"IF($B36=\"\",\"\",IF($K36=0,0,_xlfn.XLOOKUP($K36,Puntos!$A:$A,Puntos!$B:$B)))","v":""},{"$f":"IF($B36=\"\",\"\",COUNTIF(F36,\">0\")+COUNTIF(H36,\">0\")+COUNTIF(J36,\">0\")+COUNTIF(L36,\">0\"))","v":""},{"$f":"IF(B36=\"\",\"\",_xlfn.IFS(M36=0,0,M36=1,0,M36=2,50,M36=3,100,M36=4,150))","v":""},{"$f":"IF(B36=\"\",\"\",F36+H36+J36+L36+N36)","v":""},{"$f":"IF(B36=\"\",0,O36-MIN(F36,H36,J36,L36))","v":0}]
[34,{"$f":"IF(Carreras!$K35=0,\"\",Carreras!$K35)","v":""},{"$f":"IF(B37=\"\",\"\",_xlfn.XLOOKUP(B37,Socios!A:A,Socios!B:B,FALSE,0,1))","v":""},{"$f":"IF(B37=\"\",\"\",_xlfn.XLOOKUP(B37,Socios!A:A,Socios!C:C,FALSE,0,1))","v":""},{"$f":"IF($B37=\"\",\"\",_xlfn.XLOOKUP($B37,Carreras!$B:$B,Carreras!$A:$A,0,0,1))","v":""},{"$f":"IF($B37=\"\",\"\",IF($E37=0,0,_xlfn.XLOOKUP($E37,Puntos!A:A,Puntos!B:B,TRUE)))","v":""},{"$f":"IF($B37=\"\",\"\",_xlfn.XLOOKUP($B37,Carreras!C:C,Carreras!A:A,0,0,1))","v":""},{"$f":"IF($B37=\"\",\"\",IF($G37=0,0,_xlfn.XLOOKUP($G37,Puntos!A:A,Puntos!B:B,TRUE)))","v":""},{"$f":"IF($B37=\"\",\"\",_xlfn.XLOOKUP($B37,Carreras!$D:$D,Carreras!$A:$A,0,0,1))","v":""},{"$f":"IF($B37=\"\",\"\",IF($I37=0,0,_xlfn.XLOOKUP($I37,Puntos!A:A,Puntos!B:B,TRUE)))","v":""},{"$f":"IF($B37=\"\",\"\",_xlfn.XLOOKUP($B37,Carreras!$E:$E,Carreras!$A:$A,0,0,1))","v":""},{"$f":"IF($B37=\"\",\"\",IF($K37=0,0,_xlfn.XLOOKUP($K37,Puntos!$A:$A,Puntos!$B:$B)))","v":""},"",{"$f":"IF(B37=\"\",\"\",_xlfn.IFS(M37=0,0,M37=1,0,M37=2,50,M37=3,100,M37=4,150))","v":""},"",0]
[35,{"$f":"IF(Carreras!$K36=0,\"\",Carreras!$K36)","v":""},{"$f":"IF(B38=\"\",\"\",_xlfn.XLOOKUP(B38,Socios!A:A,Socios!B:B,FALSE,0,1))","v":""},{"$f":"IF(B38=\"\",\"\",_xlfn.XLOOKUP(B38,Socios!A:A,Socios!C:C,FALSE,0,1))","v":""},{"$f":"IF($B38=\"\",\"\",_xlfn.XLOOKUP($B38,Carreras!$B:$B,Carreras!$A:$A,0,0,1))","v":""},{"$f":"IF($B38=\"\",\"\",IF($E38=0,0,_xlfn.XLOOKUP($E38,Puntos!A:A,Puntos!B:B,TRUE)))","v":""},{"$f":"IF($B38=\"\",\"\",_xlfn.XLOOKUP($B38,Carreras!C:C,Carreras!A:A,0,0,1))","v":""},{"$f":"IF($B38=\"\",\"\",IF($G38=0,0,_xlfn.XLOOKUP($G38,Puntos!A:A,Puntos!B:B,TRUE)))","v":""},{"$f":"IF($B38=\"\",\"\",_xlfn.XLOOKUP($B38,Carreras!$D:$D,Carreras!$A:$A,0,0,1))","v":""},{"$f":"IF($B38=\"\",\"\",IF($I38=0,0,_xlfn.XLOOKUP($I38,Puntos!A:A,Puntos!B:B,TRUE)))","v":""},{"$f":"IF($B38=\"\",\"\",_xlfn.XLOOKUP($B38,Carreras!$E:$E,Carreras!$A:$A,0,0,1))","v":""},{"$f":"IF($B38=\"\",\"\",IF($K38=0,0,_xlfn.XLOOKUP($K38,Puntos!$A:$A,Puntos!$B:$B)))","v":""},"",{"$f":"IF(B38=\"\",\"\",_xlfn.IFS(M38=0,0,M38=1,0,M38=2,50,M38=3,100,M38=4,150))","v":""},"",0]
[36,{"$f":"IF(Carreras!$K37=0,\"\",Carreras!$K37)","v":""},{"$f":"IF(B39=\"\",\"\",_xlfn.XLOOKUP(B39,Socios!A:A,Socios!B:B,FALSE,0,1))","v":""},{"$f":"IF(B39=\"\",\"\",_xlfn.XLOOKUP(B39,Socios!A:A,Socios!C:C,FALSE,0,1))","v":""},{"$f":"IF($B39=\"\",\"\",_xlfn.XLOOKUP($B39,Carreras!$B:$B,Carreras!$A:$A,0,0,1))","v":""},{"$f":"IF($B39=\"\",\"\",IF($E39=0,0,_xlfn.XLOOKUP($E39,Puntos!A:A,Puntos!B:B,TRUE)))","v":""},{"$f":"IF($B39=\"\",\"\",_xlfn.XLOOKUP($B39,Carreras!C:C,Carreras!A:A,0,0,1))","v":""},{"$f":"IF($B39=\"\",\"\",IF($G39=0,0,_xlfn.XLOOKUP($G39,Puntos!A:A,Puntos!B:B,TRUE)))","v":""},{"$f":"IF($B39=\"\",\"\",_xlfn.XLOOKUP($B39,Carreras!$D:$D,Carreras!$A:$A,0,0,1))","v":""},{"$f":"IF($B39=\"\",\"\",IF($I39=0,0,_xlfn.XLOOKUP($I39,Puntos!A:A,Puntos!B:B,TRUE)))","v":""},{"$f":"IF($B39=\"\",\"\",_xlfn.XLOOKUP($B39,Carreras!$E:$E,Carreras!$A:$A,0,0,1))","v":""},{"$f":"IF($B39=\"\",\"\",IF($K39=0,0,_xlfn.XLOOKUP($K39,Puntos!$A:$A,Puntos!$B:$B)))","v":""},"",{"$f":"IF(B39=\"\",\"\",_xlfn.IFS(M39=0,0,M39=1,0,M39=2,50,M39=3,100,M39=4,150))","v":""},"",0]
[37,{"$f":"IF(Carreras!$K38=0,\"\",Carreras!$K38)","v":""},{"$f":"IF(B40=\"\",\"\",_xlfn.XLOOKUP(B40,Socios!A:A,Socios!B:B,FALSE,0,1))","v":""},{"$f":"IF(B40=\"\",\"\",_xlfn.XLOOKUP(B40,Socios!A:A,Socios!C:C,FALSE,0,1))","v":""},{"$f":"IF($B40=\"\",\"\",_xlfn.XLOOKUP($B40,Carreras!$B:$B,Carreras!$A:$A,0,0,1))","v":""},{"$f":"IF($B40=\"\",\"\",IF($E40=0,0,_xlfn.XLOOKUP($E40,Puntos!A:A,Puntos!B:B,TRUE)))","v":""},{"$f":"IF($B40=\"\",\"\",_xlfn.XLOOKUP($B40,Carreras!C:C,Carreras!A:A,0,0,1))","v":""},{"$f":"IF($B40=\"\",\"\",IF($G40=0,0,_xlfn.XLOOKUP($G40,Puntos!A:A,Puntos!B:B,TRUE)))","v":""},{"$f":"IF($B40=\"\",\"\",_xlfn.XLOOKUP($B40,Carreras!$D:$D,Carreras!$A:$A,0,0,1))","v":""},{"$f":"IF($B40=\"\",\"\",IF($I40=0,0,_xlfn.XLOOKUP($I40,Puntos!A:A,Puntos!B:B,TRUE)))","v":""},{"$f":"IF($B40=\"\",\"\",_xlfn.XLOOKUP($B40,Carreras!$E:$E,Carreras!$A:$A,0,0,1))","v":""},{"$f":"IF($B40=\"\",\"\",IF($K40=0,0,_xlfn.XLOOKUP($K40,Puntos!$A:$A,Puntos!$B:$B)))","v":""},"",{"$f":"IF(B40=\"\",\"\",_xlfn.IFS(M40=0,0,M40=1,0,M40=2,50,M40=3,100,M40=4,150))","v":""},"",0]
[38,{"$f":"IF(Carreras!$K39=0,\"\",Carreras!$K39)","v":""},{"$f":"IF(B41=\"\",\"\",_xlfn.XLOOKUP(B41,Socios!A:A,Socios!B:B,FALSE,0,1))","v":""},{"$f":"IF(B41=\"\",\"\",_xlfn.XLOOKUP(B41,Socios!A:A,Socios!C:C,FALSE,0,1))","v":""},{"$f":"IF($B41=\"\",\"\",_xlfn.XLOOKUP($B41,Carreras!$B:$B,Carreras!$A:$A,0,0,1))","v":""},{"$f":"IF($B41=\"\",\"\",IF($E41=0,0,_xlfn.XLOOKUP($E41,Puntos!A:A,Puntos!B:B,TRUE)))","v":""},{"$f":"IF($B41=\"\",\"\",_xlfn.XLOOKUP($B41,Carreras!C:C,Carreras!A:A,0,0,1))","v":""},{"$f":"IF($B41=\"\",\"\",IF($G41=0,0,_xlfn.XLOOKUP($G41,Puntos!A:A,Puntos!B:B,TRUE)))","v":""},{"$f":"IF($B41=\"\",\"\",_xlfn.XLOOKUP($B41,Carreras!$D:$D,Carreras!$A:$A,0,0,1))","v":""},{"$f":"IF($B41=\"\",\"\",IF($I41=0,0,_xlfn.XLOOKUP($I41,Puntos!A:A,Puntos!B:B,TRUE)))","v":""},{"$f":"IF($B41=\"\",\"\",_xlfn.XLOOKUP($B41,Carreras!$E:$E,Carreras!$A:$A,0,0,1))","v":""},{"$f":"IF($B41=\"\",\"\",IF($K41=0,0,_xlfn.XLOOKUP($K41,Puntos!$A:$A,Puntos!$B:$B)))","v":""},"",{"$f":"IF(B41=\"\",\"\",_xlfn.IFS(M41=0,0,M41=1,0,M41=2,50,M41=3,100,M41=4,150))","v":""},"",0]
[39,{"$f":"IF(Carreras!$K40=0,\"\",Carreras!$K40)","v":""},{"$f":"IF(B42=\"\",\"\",_xlfn.XLOOKUP(B42,Socios!A:A,Socios!B:B,FALSE,0,1))","v":""},{"$f":"IF(B42=\"\",\"\",_xlfn.XLOOKUP(B42,Socios!A:A,Socios!C:C,FALSE,0,1))","v":""},{"$f":"IF($B42=\"\",\"\",_xlfn.XLOOKUP($B42,Carreras!$B:$B,Carreras!$A:$A,0,0,1))","v":""},{"$f":"IF($B42=\"\",\"\",IF($E42=0,0,_xlfn.XLOOKUP($E42,Puntos!A:A,Puntos!B:B,TRUE)))","v":""},{"$f":"IF($B42=\"\",\"\",_xlfn.XLOOKUP($B42,Carreras!C:C,Carreras!A:A,0,0,1))","v":""},{"$f":"IF($B42=\"\",\"\",IF($G42=0,0,_xlfn.XLOOKUP($G42,Puntos!A:A,Puntos!B:B,TRUE)))","v":""},{"$f":"IF($B42=\"\",\"\",_xlfn.XLOOKUP($B42,Carreras!$D:$D,Carreras!$A:$A,0,0,1))","v":""},{"$f":"IF($B42=\"\",\"\",IF($I42=0,0,_xlfn.XLOOKUP($I42,Puntos!A:A,Puntos!B:B,TRUE)))","v":""},{"$f":"IF($B42=\"\",\"\",_xlfn.XLOOKUP($B42,Carreras!$E:$E,Carreras!$A:$A,0,0,1))","v":""},{"$f":"IF($B42=\"\",\"\",IF($K42=0,0,_xlfn.XLOOKUP($K42,Puntos!$A:$A,Puntos!$B:$B)))","v":""},"",{"$f":"IF(B42=\"\",\"\",_xlfn.IFS(M42=0,0,M42=1,0,M42=2,50,M42=3,100,M42=4,150))","v":""},"",0]
[40,{"$f":"IF(Carreras!$K41=0,\"\",Carreras!$K41)","v":""},{"$f":"IF(B43=\"\",\"\",_xlfn.XLOOKUP(B43,Socios!A:A,Socios!B:B,FALSE,0,1))","v":""},{"$f":"IF(B43=\"\",\"\",_xlfn.XLOOKUP(B43,Socios!A:A,Socios!C:C,FALSE,0,1))","v":""},{"$f":"IF($B43=\"\",\"\",_xlfn.XLOOKUP($B43,Carreras!$B:$B,Carreras!$A:$A,0,0,1))","v":""},{"$f":"IF($B43=\"\",\"\",IF($E43=0,0,_xlfn.XLOOKUP($E43,Puntos!A:A,Puntos!B:B,TRUE)))","v":""},{"$f":"IF($B43=\"\",\"\",_xlfn.XLOOKUP($B43,Carreras!C:C,Carreras!A:A,0,0,1))","v":""},{"$f":"IF($B43=\"\",\"\",IF($G43=0,0,_xlfn.XLOOKUP($G43,Puntos!A:A,Puntos!B:B,TRUE)))","v":""},{"$f":"IF($B43=\"\",\"\",_xlfn.XLOOKUP($B43,Carreras!$D:$D,Carreras!$A:$A,0,0,1))","v":""},{"$f":"IF($B43=\"\",\"\",IF($I43=0,0,_xlfn.XLOOKUP($I43,Puntos!A:A,Puntos!B:B,TRUE)))","v":""},{"$f":"IF($B43=\"\",\"\",_xlfn.XLOOKUP($B43,Carreras!$E:$E,Carreras!$A:$A,0,0,1))","v":""},{"$f":"IF($B43=\"\",\"\",IF($K43=0,0,_xlfn.XLOOKUP($K43,Puntos!$A:$A,Puntos!$B:$B)))","v":""},"",{"$f":"IF(B43=\"\",\"\",_xlfn.IFS(M43=0,0,M43=1,0,M43=2,50,M43=3,100,M43=4,150))","v":""},"",0]
[41,{"$f":"IF(Carreras!$K42=0,\"\",Carreras!$K42)","v":""},{"$f":"IF(B44=\"\",\"\",_xlfn.XLOOKUP(B44,Socios!A:A,Socios!B:B,FALSE,0,1))","v":""},{"$f":"IF(B44=\"\",\"\",_xlfn.XLOOKUP(B44,Socios!A:A,Socios!C:C,FALSE,0,1))","v":""},{"$f":"IF($B44=\"\",\"\",_xlfn.XLOOKUP($B44,Carreras!$B:$B,Carreras!$A:$A,0,0,1))","v":""},{"$f":"IF($B44=\"\",\"\",IF($E44=0,0,_xlfn.XLOOKUP($E44,Puntos!A:A,Puntos!B:B,TRUE)))","v":""},{"$f":"IF($B44=\"\",\"\",_xlfn.XLOOKUP($B44,Carreras!C:C,Carreras!A:A,0,0,1))","v":""},{"$f":"IF($B44=\"\",\"\",IF($G44=0,0,_xlfn.XLOOKUP($G44,Puntos!A:A,Puntos!B:B,TRUE)))","v":""},{"$f":"IF($B44=\"\",\"\",_xlfn.XLOOKUP($B44,Carreras!$D:$D,Carreras!$A:$A,0,0,1))","v":""},{"$f":"IF($B44=\"\",\"\",IF($I44=0,0,_xlfn.XLOOKUP($I44,Puntos!A:A,Puntos!B:B,TRUE)))","v":""},{"$f":"IF($B44=\"\",\"\",_xlfn.XLOOKUP($B44,Carreras!$E:$E,Carreras!$A:$A,0,0,1))","v":""},{"$f":"IF($B44=\"\",\"\",IF($K44=0,0,_xlfn.XLOOKUP($K44,Puntos!$A:$A,Puntos!$B:$B)))","v":""},"",{"$f":"IF(B44=\"\",\"\",_xlfn.IFS(M44=0,0,M44=1,0,M44=2,50,M44=3,100,M44=4,150))","v":""},"",0]
[42,{"$f":"IF(Carreras!$K43=0,\"\",Carreras!$K43)","v":""},{"$f":"IF(B45=\"\",\"\",_xlfn.XLOOKUP(B45,Socios!A:A,Socios!B:B,FALSE,0,1))","v":""},{"$f":"IF(B45=\"\",\"\",_xlfn.XLOOKUP(B45,Socios!A:A,Socios!C:C,FALSE,0,1))","v":""},{"$f":"IF($B45=\"\",\"\",_xlfn.XLOOKUP($B45,Carreras!$B:$B,Carreras!$A:$A,0,0,1))","v":""},{"$f":"IF($B45=\"\",\"\",IF($E45=0,0,_xlfn.XLOOKUP($E45,Puntos!A:A,Puntos!B:B,TRUE)))","v":""},{"$f":"IF($B45=\"\",\"\",_xlfn.XLOOKUP($B45,Carreras!C:C,Carreras!A:A,0,0,1))","v":""},{"$f":"IF($B45=\"\",\"\",IF($G45=0,0,_xlfn.XLOOKUP($G45,Puntos!A:A,Puntos!B:B,TRUE)))","v":""},{"$f":"IF($B45=\"\",\"\",_xlfn.XLOOKUP($B45,Carreras!$D:$D,Carreras!$A:$A,0,0,1))","v":""},{"$f":"IF($B45=\"\",\"\",IF($I45=0,0,_xlfn.XLOOKUP($I45,Puntos!A:A,Puntos!B:B,TRUE)))","v":""},{"$f":"IF($B45=\"\",\"\",_xlfn.XLOOKUP($B45,Carreras!$E:$E,Carreras!$A:$A,0,0,1))","v":""},{"$f":"IF($B45=\"\",\"\",IF($K45=0,0,_xlfn.XLOOKUP($K45,Puntos!$A:$A,Puntos!$B:$B)))","v":""},"",{"$f":"IF(B45=\"\",\"\",_xlfn.IFS(M45=0,0,M45=1,0,M45=2,50,M45=3,100,M45=4,150))","v":""},"",0]
[43,{"$f":"IF(Carreras!$K44=0,\"\",Carreras!$K44)","v":""},{"$f":"IF(B46=\"\",\"\",_xlfn.XLOOKUP(B46,Socios!A:A,Socios!B:B,FALSE,0,1))","v":""},{"$f":"IF(B46=\"\",\"\",_xlfn.XLOOKUP(B46,Socios!A:A,Socios!C:C,FALSE,0,1))","v":""},{"$f":"IF($B46=\"\",\"\",_xlfn.XLOOKUP($B46,Carreras!$B:$B,Carreras!$A:$A,0,0,1))","v":""},{"$f":"IF($B46=\"\",\"\",IF($E46=0,0,_xlfn.XLOOKUP($E46,Puntos!A:A,Puntos!B:B,TRUE)))","v":""},{"$f":"IF($B46=\"\",\"\",_xlfn.XLOOKUP($B46,Carreras!C:C,Carreras!A:A,0,0,1))","v":""},{"$f":"IF($B46=\"\",\"\",IF($G46=0,0,_xlfn.XLOOKUP($G46,Puntos!A:A,Puntos!B:B,TRUE)))","v":""},{"$f":"IF($B46=\"\",\"\",_xlfn.XLOOKUP($B46,Carreras!$D:$D,Carreras!$A:$A,0,0,1))","v":""},{"$f":"IF($B46=\"\",\"\",IF($I46=0,0,_xlfn.XLOOKUP($I46,Puntos!A:A,Puntos!B:B,TRUE)))","v":""},{"$f":"IF($B46=\"\",\"\",_xlfn.XLOOKUP($B46,Carreras!$E:$E,Carreras!$A:$A,0,0,1))","v":""},{"$f":"IF($B46=\"\",\"\",IF($K46=0,0,_xlfn.XLOOKUP($K46,Puntos!$A:$A,Puntos!$B:$B)))","v":""},"",{"$f":"IF(B46=\"\",\"\",_xlfn.IFS(M46=0,0,M46=1,0,M46=2,50,M46=3,100,M46=4,150))","v":""},"",0]
[44,{"$f":"IF(Carreras!$K45=0,\"\",Carreras!$K45)","v":""},{"$f":"IF(B47=\"\",\"\",_xlfn.XLOOKUP(B47,Socios!A:A,Socios!B:B,FALSE,0,1))","v":""},{"$f":"IF(B47=\"\",\"\",_xlfn.XLOOKUP(B47,Socios!A:A,Socios!C:C,FALSE,0,1))","v":""},{"$f":"IF($B47=\"\",\"\",_xlfn.XLOOKUP($B47,Carreras!$B:$B,Carreras!$A:$A,0,0,1))","v":""},{"$f":"IF($B47=\"\",\"\",IF($E47=0,0,_xlfn.XLOOKUP($E47,Puntos!A:A,Puntos!B:B,TRUE)))","v":""},{"$f":"IF($B47=\"\",\"\",_xlfn.XLOOKUP($B47,Carreras!C:C,Carreras!A:A,0,0,1))","v":""},{"$f":"IF($B47=\"\",\"\",IF($G47=0,0,_xlfn.XLOOKUP($G47,Puntos!A:A,Puntos!B:B,TRUE)))","v":""},{"$f":"IF($B47=\"\",\"\",_xlfn.XLOOKUP($B47,Carreras!$D:$D,Carreras!$A:$A,0,0,1))","v":""},{"$f":"IF($B47=\"\",\"\",IF($I47=0,0,_xlfn.XLOOKUP($I47,Puntos!A:A,Puntos!B:B,TRUE)))","v":""},{"$f":"IF($B47=\"\",\"\",_xlfn.XLOOKUP($B47,Carreras!$E:$E,Carreras!$A:$A,0,0,1))","v":""},{"$f":"IF($B47=\"\",\"\",IF($K47=0,0,_xlfn.XLOOKUP($K47,Puntos!$A:$A,Puntos!$B:$B)))","v":""},"",{"$f":"IF(B47=\"\",\"\",_xlfn.IFS(M47=0,0,M47=1,0,M47=2,50,M47=3,100,M47=4,150))","v":""},"",0]
[45,{"$f":"IF(Carreras!$K46=0,\"\",Carreras!$K46)","v":""},{"$f":"IF(B48=\"\",\"\",_xlfn.XLOOKUP(B48,Socios!A:A,Socios!B:B,FALSE,0,1))","v":""},{"$f":"IF(B48=\"\",\"\",_xlfn.XLOOKUP(B48,Socios!A:A,Socios!C:C,FALSE,0,1))","v":""},{"$f":"IF($B48=\"\",\"\",_xlfn.XLOOKUP($B48,Carreras!$B:$B,Carreras!$A:$A,0,0,1))","v":""},{"$f":"IF($B48=\"\",\"\",IF($E48=0,0,_xlfn.XLOOKUP($E48,Puntos!A:A,Puntos!B:B,TRUE)))","v":""},{"$f":"IF($B48=\"\",\"\",_xlfn.XLOOKUP($B48,Carreras!C:C,Carreras!A:A,0,0,1))","v":""},{"$f":"IF($B48=\"\",\"\",IF($G48=0,0,_xlfn.XLOOKUP($G48,Puntos!A:A,Puntos!B:B,TRUE)))","v":""},{"$f":"IF($B48=\"\",\"\",_xlfn.XLOOKUP($B48,Carreras!$D:$D,Carreras!$A:$A,0,0,1))","v":""},{"$f":"IF($B48=\"\",\"\",IF($I48=0,0,_xlfn.XLOOKUP($I48,Puntos!A:A,Puntos!B:B,TRUE)))","v":""},{"$f":"IF($B48=\"\",\"\",_xlfn.XLOOKUP($B48,Carreras!$E:$E,Carreras!$A:$A,0,0,1))","v":""},{"$f":"IF($B48=\"\",\"\",IF($K48=0,0,_xlfn.XLOOKUP($K48,Puntos!$A:$A,Puntos!$B:$B)))","v":""},"",{"$f":"IF(B48=\"\",\"\",_xlfn.IFS(M48=0,0,M48=1,0,M48=2,50,M48=3,100,M48=4,150))","v":""},"",0]
[46,{"$f":"IF(Carreras!$K47=0,\"\",Carreras!$K47)","v":""},{"$f":"IF(B49=\"\",\"\",_xlfn.XLOOKUP(B49,Socios!A:A,Socios!B:B,FALSE,0,1))","v":""},{"$f":"IF(B49=\"\",\"\",_xlfn.XLOOKUP(B49,Socios!A:A,Socios!C:C,FALSE,0,1))","v":""},{"$f":"IF($B49=\"\",\"\",_xlfn.XLOOKUP($B49,Carreras!$B:$B,Carreras!$A:$A,0,0,1))","v":""},{"$f":"IF($B49=\"\",\"\",IF($E49=0,0,_xlfn.XLOOKUP($E49,Puntos!A:A,Puntos!B:B,TRUE)))","v":""},{"$f":"IF($B49=\"\",\"\",_xlfn.XLOOKUP($B49,Carreras!C:C,Carreras!A:A,0,0,1))","v":""},{"$f":"IF($B49=\"\",\"\",IF($G49=0,0,_xlfn.XLOOKUP($G49,Puntos!A:A,Puntos!B:B,TRUE)))","v":""},{"$f":"IF($B49=\"\",\"\",_xlfn.XLOOKUP($B49,Carreras!$D:$D,Carreras!$A:$A,0,0,1))","v":""},{"$f":"IF($B49=\"\",\"\",IF($I49=0,0,_xlfn.XLOOKUP($I49,Puntos!A:A,Puntos!B:B,TRUE)))","v":""},{"$f":"IF($B49=\"\",\"\",_xlfn.XLOOKUP($B49,Carreras!$E:$E,Carreras!$A:$A,0,0,1))","v":""},{"$f":"IF($B49=\"\",\"\",IF($K49=0,0,_xlfn.XLOOKUP($K49,Puntos!$A:$A,Puntos!$B:$B)))","v":""},"",{"$f":"IF(B49=\"\",\"\",_xlfn.IFS(M49=0,0,M49=1,0,M49=2,50,M49=3,100,M49=4,150))","v":""},"",0]
[47,{"$f":"IF(Carreras!$K48=0,\"\",Carreras!$K48)","v":""},{"$f":"IF(B50=\"\",\"\",_xlfn.XLOOKUP(B50,Socios!A:A,Socios!B:B,FALSE,0,1))","v":""},{"$f":"IF(B50=\"\",\"\",_xlfn.XLOOKUP(B50,Socios!A:A,Socios!C:C,FALSE,0,1))","v":""},{"$f":"IF($B50=\"\",\"\",_xlfn.XLOOKUP($B50,Carreras!$B:$B,Carreras!$A:$A,0,0,1))","v":""},{"$f":"IF($B50=\"\",\"\",IF($E50=0,0,_xlfn.XLOOKUP($E50,Puntos!A:A,Puntos!B:B,TRUE)))","v":""},{"$f":"IF($B50=\"\",\"\",_xlfn.XLOOKUP($B50,Carreras!C:C,Carreras!A:A,0,0,1))","v":""},{"$f":"IF($B50=\"\",\"\",IF($G50=0,0,_xlfn.XLOOKUP($G50,Puntos!A:A,Puntos!B:B,TRUE)))","v":""},{"$f":"IF($B50=\"\",\"\",_xlfn.XLOOKUP($B50,Carreras!$D:$D,Carreras!$A:$A,0,0,1))","v":""},{"$f":"IF($B50=\"\",\"\",IF($I50=0,0,_xlfn.XLOOKUP($I50,Puntos!A:A,Puntos!B:B,TRUE)))","v":""},{"$f":"IF($B50=\"\",\"\",_xlfn.XLOOKUP($B50,Carreras!$E:$E,Carreras!$A:$A,0,0,1))","v":""},{"$f":"IF($B50=\"\",\"\",IF($K50=0,0,_xlfn.XLOOKUP($K50,Puntos!$A:$A,Puntos!$B:$B)))","v":""},"",{"$f":"IF(B50=\"\",\"\",_xlfn.IFS(M50=0,0,M50=1,0,M50=2,50,M50=3,100,M50=4,150))","v":""},"",0]
[48,{"$f":"IF(Carreras!$K49=0,\"\",Carreras!$K49)","v":""},{"$f":"IF(B51=\"\",\"\",_xlfn.XLOOKUP(B51,Socios!A:A,Socios!B:B,FALSE,0,1))","v":""},{"$f":"IF(B51=\"\",\"\",_xlfn.XLOOKUP(B51,Socios!A:A,Socios!C:C,FALSE,0,1))","v":""},{"$f":"IF($B51=\"\",\"\",_xlfn.XLOOKUP($B51,Carreras!$B:$B,Carreras!$A:$A,0,0,1))","v":""},{"$f":"IF($B51=\"\",\"\",IF($E51=0,0,_xlfn.XLOOKUP($E51,Puntos!A:A,Puntos!B:B,TRUE)))","v":""},{"$f":"IF($B51=\"\",\"\",_xlfn.XLOOKUP($B51,Carreras!C:C,Carreras!A:A,0,0,1))","v":""},{"$f":"IF($B51=\"\",\"\",IF($G51=0,0,_xlfn.XLOOKUP($G51,Puntos!A:A,Puntos!B:B,TRUE)))","v":""},{"$f":"IF($B51=\"\",\"\",_xlfn.XLOOKUP($B51,Carreras!$D:$D,Carreras!$A:$A,0,0,1))","v":""},{"$f":"IF($B51=\"\",\"\",IF($I51=0,0,_xlfn.XLOOKUP($I51,Puntos!A:A,Puntos!B:B,TRUE)))","v":""},{"$f":"IF($B51=\"\",\"\",_xlfn.XLOOKUP($B51,Carreras!$E:$E,Carreras!$A:$A,0,0,1))","v":""},{"$f":"IF($B51=\"\",\"\",IF($K51=0,0,_xlfn.XLOOKUP($K51,Puntos!$A:$A,Puntos!$B:$B)))","v":""},"",{"$f":"IF(B51=\"\",\"\",_xlfn.IFS(M51=0,0,M51=1,0,M51=2,50,M51=3,100,M51=4,150))","v":""},"",0]
[49,{"$f":"IF(Carreras!$K50=0,\"\",Carreras!$K50)","v":""},{"$f":"IF(B52=\"\",\"\",_xlfn.XLOOKUP(B52,Socios!A:A,Socios!B:B,FALSE,0,1))","v":""},{"$f":"IF(B52=\"\",\"\",_xlfn.XLOOKUP(B52,Socios!A:A,Socios!C:C,FALSE,0,1))","v":""},{"$f":"IF($B52=\"\",\"\",_xlfn.XLOOKUP($B52,Carreras!$B:$B,Carreras!$A:$A,0,0,1))","v":""},{"$f":"IF($B52=\"\",\"\",IF($E52=0,0,_xlfn.XLOOKUP($E52,Puntos!A:A,Puntos!B:B,TRUE)))","v":""},{"$f":"IF($B52=\"\",\"\",_xlfn.XLOOKUP($B52,Carreras!C:C,Carreras!A:A,0,0,1))","v":""},{"$f":"IF($B52=\"\",\"\",IF($G52=0,0,_xlfn.XLOOKUP($G52,Puntos!A:A,Puntos!B:B,TRUE)))","v":""},{"$f":"IF($B52=\"\",\"\",_xlfn.XLOOKUP($B52,Carreras!$D:$D,Carreras!$A:$A,0,0,1))","v":""},{"$f":"IF($B52=\"\",\"\",IF($I52=0,0,_xlfn.XLOOKUP($I52,Puntos!A:A,Puntos!B:B,TRUE)))","v":""},{"$f":"IF($B52=\"\",\"\",_xlfn.XLOOKUP($B52,Carreras!$E:$E,Carreras!$A:$A,0,0,1))","v":""},{"$f":"IF($B52=\"\",\"\",IF($K52=0,0,_xlfn.XLOOKUP($K52,Puntos!$A:$A,Puntos!$B:$B)))","v":""},"",{"$f":"IF(B52=\"\",\"\",_xlfn.IFS(M52=0,0,M52=1,0,M52=2,50,M52=3,100,M52=4,150))","v":""},"",0]
[50,{"$f":"IF(Carreras!$K51=0,\"\",Carreras!$K51)","v":""},{"$f":"IF(B53=\"\",\"\",_xlfn.XLOOKUP(B53,Socios!A:A,Socios!B:B,FALSE,0,1))","v":""},{"$f":"IF(B53=\"\",\"\",_xlfn.XLOOKUP(B53,Socios!A:A,Socios!C:C,FALSE,0,1))","v":""},{"$f":"IF($B53=\"\",\"\",_xlfn.XLOOKUP($B53,Carreras!$B:$B,Carreras!$A:$A,0,0,1))","v":""},{"$f":"IF($B53=\"\",\"\",IF($E53=0,0,_xlfn.XLOOKUP($E53,Puntos!A:A,Puntos!B:B,TRUE)))","v":""},{"$f":"IF($B53=\"\",\"\",_xlfn.XLOOKUP($B53,Carreras!C:C,Carreras!A:A,0,0,1))","v":""},{"$f":"IF($B53=\"\",\"\",IF($G53=0,0,_xlfn.XLOOKUP($G53,Puntos!A:A,Puntos!B:B,TRUE)))","v":""},{"$f":"IF($B53=\"\",\"\",_xlfn.XLOOKUP($B53,Carreras!$D:$D,Carreras!$A:$A,0,0,1))","v":""},{"$f":"IF($B53=\"\",\"\",IF($I53=0,0,_xlfn.XLOOKUP($I53,Puntos!A:A,Puntos!B:B,TRUE)))","v":""},{"$f":"IF($B53=\"\",\"\",_xlfn.XLOOKUP($B53,Carreras!$E:$E,Carreras!$A:$A,0,0,1))","v":""},{"$f":"IF($B53=\"\",\"\",IF($K53=0,0,_xlfn.XLOOKUP($K53,Puntos!$A:$A,Puntos!$B:$B)))","v":""},"",{"$f":"IF(B53=\"\",\"\",_xlfn.IFS(M53=0,0,M53=1,0,M53=2,50,M53=3,100,M53=4,150))","v":""},"",0]
[51,{"$f":"IF(Carreras!$K52=0,\"\",Carreras!$K52)","v":""},{"$f":"IF(B54=\"\",\"\",_xlfn.XLOOKUP(B54,Socios!A:A,Socios!B:B,FALSE,0,1))","v":""},{"$f":"IF(B54=\"\",\"\",_xlfn.XLOOKUP(B54,Socios!A:A,Socios!C:C,FALSE,0,1))","v":""},{"$f":"IF($B54=\"\",\"\",_xlfn.XLOOKUP($B54,Carreras!$B:$B,Carreras!$A:$A,0,0,1))","v":""},{"$f":"IF($B54=\"\",\"\",IF($E54=0,0,_xlfn.XLOOKUP($E54,Puntos!A:A,Puntos!B:B,TRUE)))","v":""},{"$f":"IF($B54=\"\",\"\",_xlfn.XLOOKUP($B54,Carreras!C:C,Carreras!A:A,0,0,1))","v":""},{"$f":"IF($B54=\"\",\"\",IF($G54=0,0,_xlfn.XLOOKUP($G54,Puntos!A:A,Puntos!B:B,TRUE)))","v":""},{"$f":"IF($B54=\"\",\"\",_xlfn.XLOOKUP($B54,Carreras!$D:$D,Carreras!$A:$A,0,0,1))","v":""},{"$f":"IF($B54=\"\",\"\",IF($I54=0,0,_xlfn.XLOOKUP($I54,Puntos!A:A,Puntos!B:B,TRUE)))","v":""},{"$f":"IF($B54=\"\",\"\",_xlfn.XLOOKUP($B54,Carreras!$E:$E,Carreras!$A:$A,0,0,1))","v":""},{"$f":"IF($B54=\"\",\"\",IF($K54=0,0,_xlfn.XLOOKUP($K54,Puntos!$A:$A,Puntos!$B:$B)))","v":""},"",{"$f":"IF(B54=\"\",\"\",_xlfn.IFS(M54=0,0,M54=1,0,M54=2,50,M54=3,100,M54=4,150))","v":""},"",0]
[52,{"$f":"IF(Carreras!$K53=0,\"\",Carreras!$K53)","v":""},{"$f":"IF(B55=\"\",\"\",_xlfn.XLOOKUP(B55,Socios!A:A,Socios!B:B,FALSE,0,1))","v":""},{"$f":"IF(B55=\"\",\"\",_xlfn.XLOOKUP(B55,Socios!A:A,Socios!C:C,FALSE,0,1))","v":""},{"$f":"IF($B55=\"\",\"\",_xlfn.XLOOKUP($B55,Carreras!$B:$B,Carreras!$A:$A,0,0,1))","v":""},{"$f":"IF($B55=\"\",\"\",IF($E55=0,0,_xlfn.XLOOKUP($E55,Puntos!A:A,Puntos!B:B,TRUE)))","v":""},{"$f":"IF($B55=\"\",\"\",_xlfn.XLOOKUP($B55,Carreras!C:C,Carreras!A:A,0,0,1))","v":""},{"$f":"IF($B55=\"\",\"\",IF($G55=0,0,_xlfn.XLOOKUP($G55,Puntos!A:A,Puntos!B:B,TRUE)))","v":""},{"$f":"IF($B55=\"\",\"\",_xlfn.XLOOKUP($B55,Carreras!$D:$D,Carreras!$A:$A,0,0,1))","v":""},{"$f":"IF($B55=\"\",\"\",IF($I55=0,0,_xlfn.XLOOKUP($I55,Puntos!A:A,Puntos!B:B,TRUE)))","v":""},{"$f":"IF($B55=\"\",\"\",_xlfn.XLOOKUP($B55,Carreras!$E:$E,Carreras!$A:$A,0,0,1))","v":""},{"$f":"IF($B55=\"\",\"\",IF($K55=0,0,_xlfn.XLOOKUP($K55,Puntos!$A:$A,Puntos!$B:$B)))","v":""},"",{"$f":"IF(B55=\"\",\"\",_xlfn.IFS(M55=0,0,M55=1,0,M55=2,50,M55=3,100,M55=4,150))","v":""},"",0]
[53,{"$f":"IF(Carreras!$K54=0,\"\",Carreras!$K54)","v":""},{"$f":"IF(B56=\"\",\"\",_xlfn.XLOOKUP(B56,Socios!A:A,Socios!B:B,FALSE,0,1))","v":""},{"$f":"IF(B56=\"\",\"\",_xlfn.XLOOKUP(B56,Socios!A:A,Socios!C:C,FALSE,0,1))","v":""},{"$f":"IF($B56=\"\",\"\",_xlfn.XLOOKUP($B56,Carreras!$B:$B,Carreras!$A:$A,0,0,1))","v":""},{"$f":"IF($B56=\"\",\"\",IF($E56=0,0,_xlfn.XLOOKUP($E56,Puntos!A:A,Puntos!B:B,TRUE)))","v":""},{"$f":"IF($B56=\"\",\"\",_xlfn.XLOOKUP($B56,Carreras!C:C,Carreras!A:A,0,0,1))","v":""},{"$f":"IF($B56=\"\",\"\",IF($G56=0,0,_xlfn.XLOOKUP($G56,Puntos!A:A,Puntos!B:B,TRUE)))","v":""},{"$f":"IF($B56=\"\",\"\",_xlfn.XLOOKUP($B56,Carreras!$D:$D,Carreras!$A:$A,0,0,1))","v":""},{"$f":"IF($B56=\"\",\"\",IF($I56=0,0,_xlfn.XLOOKUP($I56,Puntos!A:A,Puntos!B:B,TRUE)))","v":""},{"$f":"IF($B56=\"\",\"\",_xlfn.XLOOKUP($B56,Carreras!$E:$E,Carreras!$A:$A,0,0,1))","v":""},{"$f":"IF($B56=\"\",\"\",IF($K56=0,0,_xlfn.XLOOKUP($K56,Puntos!$A:$A,Puntos!$B:$B)))","v":""},"",{"$f":"IF(B56=\"\",\"\",_xlfn.IFS(M56=0,0,M56=1,0,M56=2,50,M56=3,100,M56=4,150))","v":""},"",0]
[54,{"$f":"IF(Carreras!$K55=0,\"\",Carreras!$K55)","v":""},{"$f":"IF(B57=\"\",\"\",_xlfn.XLOOKUP(B57,Socios!A:A,Socios!B:B,FALSE,0,1))","v":""},{"$f":"IF(B57=\"\",\"\",_xlfn.XLOOKUP(B57,Socios!A:A,Socios!C:C,FALSE,0,1))","v":""},{"$f":"IF($B57=\"\",\"\",_xlfn.XLOOKUP($B57,Carreras!$B:$B,Carreras!$A:$A,0,0,1))","v":""},{"$f":"IF($B57=\"\",\"\",IF($E57=0,0,_xlfn.XLOOKUP($E57,Puntos!A:A,Puntos!B:B,TRUE)))","v":""},{"$f":"IF($B57=\"\",\"\",_xlfn.XLOOKUP($B57,Carreras!C:C,Carreras!A:A,0,0,1))","v":""},{"$f":"IF($B57=\"\",\"\",IF($G57=0,0,_xlfn.XLOOKUP($G57,Puntos!A:A,Puntos!B:B,TRUE)))","v":""},{"$f":"IF($B57=\"\",\"\",_xlfn.XLOOKUP($B57,Carreras!$D:$D,Carreras!$A:$A,0,0,1))","v":""},{"$f":"IF($B57=\"\",\"\",IF($I57=0,0,_xlfn.XLOOKUP($I57,Puntos!A:A,Puntos!B:B,TRUE)))","v":""},{"$f":"IF($B57=\"\",\"\",_xlfn.XLOOKUP($B57,Carreras!$E:$E,Carreras!$A:$A,0,0,1))","v":""},{"$f":"IF($B57=\"\",\"\",IF($K57=0,0,_xlfn.XLOOKUP($K57,Puntos!$A:$A,Puntos!$B:$B)))","v":""},"",{"$f":"IF(B57=\"\",\"\",_xlfn.IFS(M57=0,0,M57=1,0,M57=2,50,M57=3,100,M57=4,150))","v":""},"",0]
[55,{"$f":"IF(Carreras!$K56=0,\"\",Carreras!$K56)","v":""},{"$f":"IF(B58=\"\",\"\",_xlfn.XLOOKUP(B58,Socios!A:A,Socios!B:B,FALSE,0,1))","v":""},{"$f":"IF(B58=\"\",\"\",_xlfn.XLOOKUP(B58,Socios!A:A,Socios!C:C,FALSE,0,1))","v":""},{"$f":"IF($B58=\"\",\"\",_xlfn.XLOOKUP($B58,Carreras!$B:$B,Carreras!$A:$A,0,0,1))","v":""},{"$f":"IF($B58=\"\",\"\",IF($E58=0,0,_xlfn.XLOOKUP($E58,Puntos!A:A,Puntos!B:B,TRUE)))","v":""},{"$f":"IF($B58=\"\",\"\",_xlfn.XLOOKUP($B58,Carreras!C:C,Carreras!A:A,0,0,1))","v":""},{"$f":"IF($B58=\"\",\"\",IF($G58=0,0,_xlfn.XLOOKUP($G58,Puntos!A:A,Puntos!B:B,TRUE)))","v":""},{"$f":"IF($B58=\"\",\"\",_xlfn.XLOOKUP($B58,Carreras!$D:$D,Carreras!$A:$A,0,0,1))","v":""},{"$f":"IF($B58=\"\",\"\",IF($I58=0,0,_xlfn.XLOOKUP($I58,Puntos!A:A,Puntos!B:B,TRUE)))","v":""},{"$f":"IF($B58=\"\",\"\",_xlfn.XLOOKUP($B58,Carreras!$E:$E,Carreras!$A:$A,0,0,1))","v":""},{"$f":"IF($B58=\"\",\"\",IF($K58=0,0,_xlfn.XLOOKUP($K58,Puntos!$A:$A,Puntos!$B:$B)))","v":""},"",{"$f":"IF(B58=\"\",\"\",_xlfn.IFS(M58=0,0,M58=1,0,M58=2,50,M58=3,100,M58=4,150))","v":""},"",0]
[56,{"$f":"IF(Carreras!$K57=0,\"\",Carreras!$K57)","v":""},{"$f":"IF(B59=\"\",\"\",_xlfn.XLOOKUP(B59,Socios!A:A,Socios!B:B,FALSE,0,1))","v":""},{"$f":"IF(B59=\"\",\"\",_xlfn.XLOOKUP(B59,Socios!A:A,Socios!C:C,FALSE,0,1))","v":""},{"$f":"IF($B59=\"\",\"\",_xlfn.XLOOKUP($B59,Carreras!$B:$B,Carreras!$A:$A,0,0,1))","v":""},{"$f":"IF($B59=\"\",\"\",IF($E59=0,0,_xlfn.XLOOKUP($E59,Puntos!A:A,Puntos!B:B,TRUE)))","v":""},{"$f":"IF($B59=\"\",\"\",_xlfn.XLOOKUP($B59,Carreras!C:C,Carreras!A:A,0,0,1))","v":""},{"$f":"IF($B59=\"\",\"\",IF($G59=0,0,_xlfn.XLOOKUP($G59,Puntos!A:A,Puntos!B:B,TRUE)))","v":""},{"$f":"IF($B59=\"\",\"\",_xlfn.XLOOKUP($B59,Carreras!$D:$D,Carreras!$A:$A,0,0,1))","v":""},{"$f":"IF($B59=\"\",\"\",IF($I59=0,0,_xlfn.XLOOKUP($I59,Puntos!A:A,Puntos!B:B,TRUE)))","v":""},{"$f":"IF($B59=\"\",\"\",_xlfn.XLOOKUP($B59,Carreras!$E:$E,Carreras!$A:$A,0,0,1))","v":""},{"$f":"IF($B59=\"\",\"\",IF($K59=0,0,_xlfn.XLOOKUP($K59,Puntos!$A:$A,Puntos!$B:$B)))","v":""},"",{"$f":"IF(B59=\"\",\"\",_xlfn.IFS(M59=0,0,M59=1,0,M59=2,50,M59=3,100,M59=4,150))","v":""},"",0]
[57,{"$f":"IF(Carreras!$K58=0,\"\",Carreras!$K58)","v":""},{"$f":"IF(B60=\"\",\"\",_xlfn.XLOOKUP(B60,Socios!A:A,Socios!B:B,FALSE,0,1))","v":""},{"$f":"IF(B60=\"\",\"\",_xlfn.XLOOKUP(B60,Socios!A:A,Socios!C:C,FALSE,0,1))","v":""},{"$f":"IF($B60=\"\",\"\",_xlfn.XLOOKUP($B60,Carreras!$B:$B,Carreras!$A:$A,0,0,1))","v":""},{"$f":"IF($B60=\"\",\"\",IF($E60=0,0,_xlfn.XLOOKUP($E60,Puntos!A:A,Puntos!B:B,TRUE)))","v":""},{"$f":"IF($B60=\"\",\"\",_xlfn.XLOOKUP($B60,Carreras!C:C,Carreras!A:A,0,0,1))","v":""},{"$f":"IF($B60=\"\",\"\",IF($G60=0,0,_xlfn.XLOOKUP($G60,Puntos!A:A,Puntos!B:B,TRUE)))","v":""},{"$f":"IF($B60=\"\",\"\",_xlfn.XLOOKUP($B60,Carreras!$D:$D,Carreras!$A:$A,0,0,1))","v":""},{"$f":"IF($B60=\"\",\"\",IF($I60=0,0,_xlfn.XLOOKUP($I60,Puntos!A:A,Puntos!B:B,TRUE)))","v":""},{"$f":"IF($B60=\"\",\"\",_xlfn.XLOOKUP($B60,Carreras!$E:$E,Carreras!$A:$A,0,0,1))","v":""},{"$f":"IF($B60=\"\",\"\",IF($K60=0,0,_xlfn.XLOOKUP($K60,Puntos!$A:$A,Puntos!$B:$B)))","v":""},"",{"$f":"IF(B60=\"\",\"\",_xlfn.IFS(M60=0,0,M60=1,0,M60=2,50,M60=3,100,M60=4,150))","v":""},"",0]
[58,{"$f":"IF(Carreras!$K59=0,\"\",Carreras!$K59)","v":""},{"$f":"IF(B61=\"\",\"\",_xlfn.XLOOKUP(B61,Socios!A:A,Socios!B:B,FALSE,0,1))","v":""},{"$f":"IF(B61=\"\",\"\",_xlfn.XLOOKUP(B61,Socios!A:A,Socios!C:C,FALSE,0,1))","v":""},{"$f":"IF($B61=\"\",\"\",_xlfn.XLOOKUP($B61,Carreras!$B:$B,Carreras!$A:$A,0,0,1))","v":""},{"$f":"IF($B61=\"\",\"\",IF($E61=0,0,_xlfn.XLOOKUP($E61,Puntos!A:A,Puntos!B:B,TRUE)))","v":""},{"$f":"IF($B61=\"\",\"\",_xlfn.XLOOKUP($B61,Carreras!C:C,Carreras!A:A,0,0,1))","v":""},{"$f":"IF($B61=\"\",\"\",IF($G61=0,0,_xlfn.XLOOKUP($G61,Puntos!A:A,Puntos!B:B,TRUE)))","v":""},{"$f":"IF($B61=\"\",\"\",_xlfn.XLOOKUP($B61,Carreras!$D:$D,Carreras!$A:$A,0,0,1))","v":""},{"$f":"IF($B61=\"\",\"\",IF($I61=0,0,_xlfn.XLOOKUP($I61,Puntos!A:A,Puntos!B:B,TRUE)))","v":""},{"$f":"IF($B61=\"\",\"\",_xlfn.XLOOKUP($B61,Carreras!$E:$E,Carreras!$A:$A,0,0,1))","v":""},{"$f":"IF($B61=\"\",\"\",IF($K61=0,0,_xlfn.XLOOKUP($K61,Puntos!$A:$A,Puntos!$B:$B)))","v":""},"",{"$f":"IF(B61=\"\",\"\",_xlfn.IFS(M61=0,0,M61=1,0,M61=2,50,M61=3,100,M61=4,150))","v":""},"",0]
[59,{"$f":"IF(Carreras!$K60=0,\"\",Carreras!$K60)","v":""},{"$f":"IF(B62=\"\",\"\",_xlfn.XLOOKUP(B62,Socios!A:A,Socios!B:B,FALSE,0,1))","v":""},{"$f":"IF(B62=\"\",\"\",_xlfn.XLOOKUP(B62,Socios!A:A,Socios!C:C,FALSE,0,1))","v":""},{"$f":"IF($B62=\"\",\"\",_xlfn.XLOOKUP($B62,Carreras!$B:$B,Carreras!$A:$A,0,0,1))","v":""},{"$f":"IF($B62=\"\",\"\",IF($E62=0,0,_xlfn.XLOOKUP($E62,Puntos!A:A,Puntos!B:B,TRUE)))","v":""},{"$f":"IF($B62=\"\",\"\",_xlfn.XLOOKUP($B62,Carreras!C:C,Carreras!A:A,0,0,1))","v":""},{"$f":"IF($B62=\"\",\"\",IF($G62=0,0,_xlfn.XLOOKUP($G62,Puntos!A:A,Puntos!B:B,TRUE)))","v":""},{"$f":"IF($B62=\"\",\"\",_xlfn.XLOOKUP($B62,Carreras!$D:$D,Carreras!$A:$A,0,0,1))","v":""},{"$f":"IF($B62=\"\",\"\",IF($I62=0,0,_xlfn.XLOOKUP($I62,Puntos!A:A,Puntos!B:B,TRUE)))","v":""},{"$f":"IF($B62=\"\",\"\",_xlfn.XLOOKUP($B62,Carreras!$E:$E,Carreras!$A:$A,0,0,1))","v":""},{"$f":"IF($B62=\"\",\"\",IF($K62=0,0,_xlfn.XLOOKUP($K62,Puntos!$A:$A,Puntos!$B:$B)))","v":""},"",{"$f":"IF(B62=\"\",\"\",_xlfn.IFS(M62=0,0,M62=1,0,M62=2,50,M62=3,100,M62=4,150))","v":""},"",0]
[60,{"$f":"IF(Carreras!$K61=0,\"\",Carreras!$K61)","v":""},{"$f":"IF(B63=\"\",\"\",_xlfn.XLOOKUP(B63,Socios!A:A,Socios!B:B,FALSE,0,1))","v":""},{"$f":"IF(B63=\"\",\"\",_xlfn.XLOOKUP(B63,Socios!A:A,Socios!C:C,FALSE,0,1))","v":""},{"$f":"IF($B63=\"\",\"\",_xlfn.XLOOKUP($B63,Carreras!$B:$B,Carreras!$A:$A,0,0,1))","v":""},{"$f":"IF($B63=\"\",\"\",IF($E63=0,0,_xlfn.XLOOKUP($E63,Puntos!A:A,Puntos!B:B,TRUE)))","v":""},{"$f":"IF($B63=\"\",\"\",_xlfn.XLOOKUP($B63,Carreras!C:C,Carreras!A:A,0,0,1))","v":""},{"$f":"IF($B63=\"\",\"\",IF($G63=0,0,_xlfn.XLOOKUP($G63,Puntos!A:A,Puntos!B:B,TRUE)))","v":""},{"$f":"IF($B63=\"\",\"\",_xlfn.XLOOKUP($B63,Carreras!$D:$D,Carreras!$A:$A,0,0,1))","v":""},{"$f":"IF($B63=\"\",\"\",IF($I63=0,0,_xlfn.XLOOKUP($I63,Puntos!A:A,Puntos!B:B,TRUE)))","v":""},{"$f":"IF($B63=\"\",\"\",_xlfn.XLOOKUP($B63,Carreras!$E:$E,Carreras!$A:$A,0,0,1))","v":""},{"$f":"IF($B63=\"\",\"\",IF($K63=0,0,_xlfn.XLOOKUP($K63,Puntos!$A:$A,Puntos!$B:$B)))","v":""},"",{"$f":"IF(B63=\"\",\"\",_xlfn.IFS(M63=0,0,M63=1,0,M63=2,50,M63=3,100,M63=4,150))","v":""},"",0]
[61,{"$f":"IF(Carreras!$K62=0,\"\",Carreras!$K62)","v":""},{"$f":"IF(B64=\"\",\"\",_xlfn.XLOOKUP(B64,Socios!A:A,Socios!B:B,FALSE,0,1))","v":""},{"$f":"IF(B64=\"\",\"\",_xlfn.XLOOKUP(B64,Socios!A:A,Socios!C:C,FALSE,0,1))","v":""},{"$f":"IF($B64=\"\",\"\",_xlfn.XLOOKUP($B64,Carreras!$B:$B,Carreras!$A:$A,0,0,1))","v":""},{"$f":"IF($B64=\"\",\"\",IF($E64=0,0,_xlfn.XLOOKUP($E64,Puntos!A:A,Puntos!B:B,TRUE)))","v":""},{"$f":"IF($B64=\"\",\"\",_xlfn.XLOOKUP($B64,Carreras!C:C,Carreras!A:A,0,0,1))","v":""},{"$f":"IF($B64=\"\",\"\",IF($G64=0,0,_xlfn.XLOOKUP($G64,Puntos!A:A,Puntos!B:B,TRUE)))","v":""},{"$f":"IF($B64=\"\",\"\",_xlfn.XLOOKUP($B64,Carreras!$D:$D,Carreras!$A:$A,0,0,1))","v":""},{"$f":"IF($B64=\"\",\"\",IF($I64=0,0,_xlfn.XLOOKUP($I64,Puntos!A:A,Puntos!B:B,TRUE)))","v":""},{"$f":"IF($B64=\"\",\"\",_xlfn.XLOOKUP($B64,Carreras!$E:$E,Carreras!$A:$A,0,0,1))","v":""},{"$f":"IF($B64=\"\",\"\",IF($K64=0,0,_xlfn.XLOOKUP($K64,Puntos!$A:$A,Puntos!$B:$B)))","v":""},"",{"$f":"IF(B64=\"\",\"\",_xlfn.IFS(M64=0,0,M64=1,0,M64=2,50,M64=3,100,M64=4,150))","v":""},"",0]
[62,{"$f":"IF(Carreras!$K63=0,\"\",Carreras!$K63)","v":""},{"$f":"IF(B65=\"\",\"\",_xlfn.XLOOKUP(B65,Socios!A:A,Socios!B:B,FALSE,0,1))","v":""},{"$f":"IF(B65=\"\",\"\",_xlfn.XLOOKUP(B65,Socios!A:A,Socios!C:C,FALSE,0,1))","v":""},{"$f":"IF($B65=\"\",\"\",_xlfn.XLOOKUP($B65,Carreras!$B:$B,Carreras!$A:$A,0,0,1))","v":""},{"$f":"IF($B65=\"\",\"\",IF($E65=0,0,_xlfn.XLOOKUP($E65,Puntos!A:A,Puntos!B:B,TRUE)))","v":""},{"$f":"IF($B65=\"\",\"\",_xlfn.XLOOKUP($B65,Carreras!C:C,Carreras!A:A,0,0,1))","v":""},{"$f":"IF($B65=\"\",\"\",IF($G65=0,0,_xlfn.XLOOKUP($G65,Puntos!A:A,Puntos!B:B,TRUE)))","v":""},{"$f":"IF($B65=\"\",\"\",_xlfn.XLOOKUP($B65,Carreras!$D:$D,Carreras!$A:$A,0,0,1))","v":""},{"$f":"IF($B65=\"\",\"\",IF($I65=0,0,_xlfn.XLOOKUP($I65,Puntos!A:A,Puntos!B:B,TRUE)))","v":""},{"$f":"IF($B65=\"\",\"\",_xlfn.XLOOKUP($B65,Carreras!$E:$E,Carreras!$A:$A,0,0,1))","v":""},{"$f":"IF($B65=\"\",\"\",IF($K65=0,0,_xlfn.XLOOKUP($K65,Puntos!$A:$A,Puntos!$B:$B)))","v":""},"",{"$f":"IF(B65=\"\",\"\",_xlfn.IFS(M65=0,0,M65=1,0,M65=2,50,M65=3,100,M65=4,150))","v":""},"",0]
[63,{"$f":"IF(Carreras!$K64=0,\"\",Carreras!$K64)","v":""},{"$f":"IF(B66=\"\",\"\",_xlfn.XLOOKUP(B66,Socios!A:A,Socios!B:B,FALSE,0,1))","v":""},{"$f":"IF(B66=\"\",\"\",_xlfn.XLOOKUP(B66,Socios!A:A,Socios!C:C,FALSE,0,1))","v":""},{"$f":"IF($B66=\"\",\"\",_xlfn.XLOOKUP($B66,Carreras!$B:$B,Carreras!$A:$A,0,0,1))","v":""},{"$f":"IF($B66=\"\",\"\",IF($E66=0,0,_xlfn.XLOOKUP($E66,Puntos!A:A,Puntos!B:B,TRUE)))","v":""},{"$f":"IF($B66=\"\",\"\",_xlfn.XLOOKUP($B66,Carreras!C:C,Carreras!A:A,0,0,1))","v":""},{"$f":"IF($B66=\"\",\"\",IF($G66=0,0,_xlfn.XLOOKUP($G66,Puntos!A:A,Puntos!B:B,TRUE)))","v":""},{"$f":"IF($B66=\"\",\"\",_xlfn.XLOOKUP($B66,Carreras!$D:$D,Carreras!$A:$A,0,0,1))","v":""},{"$f":"IF($B66=\"\",\"\",IF($I66=0,0,_xlfn.XLOOKUP($I66,Puntos!A:A,Puntos!B:B,TRUE)))","v":""},{"$f":"IF($B66=\"\",\"\",_xlfn.XLOOKUP($B66,Carreras!$E:$E,Carreras!$A:$A,0,0,1))","v":""},{"$f":"IF($B66=\"\",\"\",IF($K66=0,0,_xlfn.XLOOKUP($K66,Puntos!$A:$A,Puntos!$B:$B)))","v":""},"",{"$f":"IF(B66=\"\",\"\",_xlfn.IFS(M66=0,0,M66=1,0,M66=2,50,M66=3,100,M66=4,150))","v":""},"",0]
[64,{"$f":"IF(Carreras!$K65=0,\"\",Carreras!$K65)","v":""},{"$f":"IF(B67=\"\",\"\",_xlfn.XLOOKUP(B67,Socios!A:A,Socios!B:B,FALSE,0,1))","v":""},{"$f":"IF(B67=\"\",\"\",_xlfn.XLOOKUP(B67,Socios!A:A,Socios!C:C,FALSE,0,1))","v":""},{"$f":"IF($B67=\"\",\"\",_xlfn.XLOOKUP($B67,Carreras!$B:$B,Carreras!$A:$A,0,0,1))","v":""},{"$f":"IF($B67=\"\",\"\",IF($E67=0,0,_xlfn.XLOOKUP($E67,Puntos!A:A,Puntos!B:B,TRUE)))","v":""},{"$f":"IF($B67=\"\",\"\",_xlfn.XLOOKUP($B67,Carreras!C:C,Carreras!A:A,0,0,1))","v":""},{"$f":"IF($B67=\"\",\"\",IF($G67=0,0,_xlfn.XLOOKUP($G67,Puntos!A:A,Puntos!B:B,TRUE)))","v":""},{"$f":"IF($B67=\"\",\"\",_xlfn.XLOOKUP($B67,Carreras!$D:$D,Carreras!$A:$A,0,0,1))","v":""},{"$f":"IF($B67=\"\",\"\",IF($I67=0,0,_xlfn.XLOOKUP($I67,Puntos!A:A,Puntos!B:B,TRUE)))","v":""},{"$f":"IF($B67=\"\",\"\",_xlfn.XLOOKUP($B67,Carreras!$E:$E,Carreras!$A:$A,0,0,1))","v":""},{"$f":"IF($B67=\"\",\"\",IF($K67=0,0,_xlfn.XLOOKUP($K67,Puntos!$A:$A,Puntos!$B:$B)))","v":""},"",{"$f":"IF(B67=\"\",\"\",_xlfn.IFS(M67=0,0,M67=1,0,M67=2,50,M67=3,100,M67=4,150))","v":""},"",0]
[65,{"$f":"IF(Carreras!$K66=0,\"\",Carreras!$K66)","v":""},{"$f":"IF(B68=\"\",\"\",_xlfn.XLOOKUP(B68,Socios!A:A,Socios!B:B,FALSE,0,1))","v":""},{"$f":"IF(B68=\"\",\"\",_xlfn.XLOOKUP(B68,Socios!A:A,Socios!C:C,FALSE,0,1))","v":""},{"$f":"IF($B68=\"\",\"\",_xlfn.XLOOKUP($B68,Carreras!$B:$B,Carreras!$A:$A,0,0,1))","v":""},{"$f":"IF($B68=\"\",\"\",IF($E68=0,0,_xlfn.XLOOKUP($E68,Puntos!A:A,Puntos!B:B,TRUE)))","v":""},{"$f":"IF($B68=\"\",\"\",_xlfn.XLOOKUP($B68,Carreras!C:C,Carreras!A:A,0,0,1))","v":""},{"$f":"IF($B68=\"\",\"\",IF($G68=0,0,_xlfn.XLOOKUP($G68,Puntos!A:A,Puntos!B:B,TRUE)))","v":""},{"$f":"IF($B68=\"\",\"\",_xlfn.XLOOKUP($B68,Carreras!$D:$D,Carreras!$A:$A,0,0,1))","v":""},{"$f":"IF($B68=\"\",\"\",IF($I68=0,0,_xlfn.XLOOKUP($I68,Puntos!A:A,Puntos!B:B,TRUE)))","v":""},{"$f":"IF($B68=\"\",\"\",_xlfn.XLOOKUP($B68,Carreras!$E:$E,Carreras!$A:$A,0,0,1))","v":""},{"$f":"IF($B68=\"\",\"\",IF($K68=0,0,_xlfn.XLOOKUP($K68,Puntos!$A:$A,Puntos!$B:$B)))","v":""},{"$f":"IF($B68=\"\",\"\",COUNTIF(F68,\">0\")+COUNTIF(H68,\">0\")+COUNTIF(J68,\">0\")+COUNTIF(L68,\">0\"))","v":""},{"$f":"IF(B68=\"\",\"\",_xlfn.IFS(M68=0,0,M68=1,0,M68=2,50,M68=3,100,M68=4,150))","v":""},{"$f":"IF(B68=\"\",\"\",F68+H68+J68+L68+N68)","v":""},{"$f":"IF(B68=\"\",0,O68-MIN(F68,H68,J68,L68))","v":0}]
[66,{"$f":"IF(Carreras!$K67=0,\"\",Carreras!$K67)","v":""},{"$f":"IF(B69=\"\",\"\",_xlfn.XLOOKUP(B69,Socios!A:A,Socios!B:B,FALSE,0,1))","v":""},{"$f":"IF(B69=\"\",\"\",_xlfn.XLOOKUP(B69,Socios!A:A,Socios!C:C,FALSE,0,1))","v":""},{"$f":"IF($B69=\"\",\"\",_xlfn.XLOOKUP($B69,Carreras!$B:$B,Carreras!$A:$A,0,0,1))","v":""},{"$f":"IF($B69=\"\",\"\",IF($E69=0,0,_xlfn.XLOOKUP($E69,Puntos!A:A,Puntos!B:B,TRUE)))","v":""},{"$f":"IF($B69=\"\",\"\",_xlfn.XLOOKUP($B69,Carreras!C:C,Carreras!A:A,0,0,1))","v":""},{"$f":"IF($B69=\"\",\"\",IF($G69=0,0,_xlfn.XLOOKUP($G69,Puntos!A:A,Puntos!B:B,TRUE)))","v":""},{"$f":"IF($B69=\"\",\"\",_xlfn.XLOOKUP($B69,Carreras!$D:$D,Carreras!$A:$A,0,0,1))","v":""},{"$f":"IF($B69=\"\",\"\",IF($I69=0,0,_xlfn.XLOOKUP($I69,Puntos!A:A,Puntos!B:B,TRUE)))","v":""},{"$f":"IF($B69=\"\",\"\",_xlfn.XLOOKUP($B69,Carreras!$E:$E,Carreras!$A:$A,0,0,1))","v":""},{"$f":"IF($B69=\"\",\"\",IF($K69=0,0,_xlfn.XLOOKUP($K69,Puntos!$A:$A,Puntos!$B:$B)))","v":""},"",{"$f":"IF(B69=\"\",\"\",_xlfn.IFS(M69=0,0,M69=1,0,M69=2,50,M69=3,100,M69=4,150))","v":""},"",0]
[{"$f":"A69+1","v":67},{"$f":"IF(Carreras!$K68=0,\"\",Carreras!$K68)","v":""},{"$f":"IF(B70=\"\",\"\",_xlfn.XLOOKUP(B70,Socios!A:A,Socios!B:B,FALSE,0,1))","v":""},{"$f":"IF(B70=\"\",\"\",_xlfn.XLOOKUP(B70,Socios!A:A,Socios!C:C,FALSE,0,1))","v":""},{"$f":"IF($B70=\"\",\"\",_xlfn.XLOOKUP($B70,Carreras!$B:$B,Carreras!$A:$A,0,0,1))","v":""},{"$f":"IF($B70=\"\",\"\",IF($E70=0,0,_xlfn.XLOOKUP($E70,Puntos!A:A,Puntos!B:B,TRUE)))","v":""},{"$f":"IF($B70=\"\",\"\",_xlfn.XLOOKUP($B70,Carreras!C:C,Carreras!A:A,0,0,1))","v":""},{"$f":"IF($B70=\"\",\"\",IF($G70=0,0,_xlfn.XLOOKUP($G70,Puntos!A:A,Puntos!B:B,TRUE)))","v":""},{"$f":"IF($B70=\"\",\"\",_xlfn.XLOOKUP($B70,Carreras!$D:$D,Carreras!$A:$A,0,0,1))","v":""},{"$f":"IF($B70=\"\",\"\",IF($I70=0,0,_xlfn.XLOOKUP($I70,Puntos!A:A,Puntos!B:B,TRUE)))","v":""},{"$f":"IF($B70=\"\",\"\",_xlfn.XLOOKUP($B70,Carreras!$E:$E,Carreras!$A:$A,0,0,1))","v":""},{"$f":"IF($B70=\"\",\"\",IF($K70=0,0,_xlfn.XLOOKUP($K70,Puntos!$A:$A,Puntos!$B:$B)))","v":""},"",{"$f":"IF(B70=\"\",\"\",_xlfn.IFS(M70=0,0,M70=1,0,M70=2,50,M70=3,100,M70=4,150))","v":""},"",0]
[68,{"$f":"IF(Carreras!$K69=0,\"\",Carreras!$K69)","v":""},{"$f":"IF(B71=\"\",\"\",_xlfn.XLOOKUP(B71,Socios!A:A,Socios!B:B,FALSE,0,1))","v":""},{"$f":"IF(B71=\"\",\"\",_xlfn.XLOOKUP(B71,Socios!A:A,Socios!C:C,FALSE,0,1))","v":""},{"$f":"IF($B71=\"\",\"\",_xlfn.XLOOKUP($B71,Carreras!$B:$B,Carreras!$A:$A,0,0,1))","v":""},{"$f":"IF($B71=\"\",\"\",IF($E71=0,0,_xlfn.XLOOKUP($E71,Puntos!A:A,Puntos!B:B,TRUE)))","v":""},{"$f":"IF($B71=\"\",\"\",_xlfn.XLOOKUP($B71,Carreras!C:C,Carreras!A:A,0,0,1))","v":""},{"$f":"IF($B71=\"\",\"\",IF($G71=0,0,_xlfn.XLOOKUP($G71,Puntos!A:A,Puntos!B:B,TRUE)))","v":""},{"$f":"IF($B71=\"\",\"\",_xlfn.XLOOKUP($B71,Carreras!$D:$D,Carreras!$A:$A,0,0,1))","v":""},{"$f":"IF($B71=\"\",\"\",IF($I71=0,0,_xlfn.XLOOKUP($I71,Puntos!A:A,Puntos!B:B,TRUE)))","v":""},{"$f":"IF($B71=\"\",\"\",_xlfn.XLOOKUP($B71,Carreras!$E:$E,Carreras!$A:$A,0,0,1))","v":""},{"$f":"IF($B71=\"\",\"\",IF($K71=0,0,_xlfn.XLOOKUP($K71,Puntos!$A:$A,Puntos!$B:$B)))","v":""},"",{"$f":"IF(B71=\"\",\"\",_xlfn.IFS(M71=0,0,M71=1,0,M71=2,50,M71=3,100,M71=4,150))","v":""},"",0]
[69,{"$f":"IF(Carreras!$K70=0,\"\",Carreras!$K70)","v":""},{"$f":"IF(B72=\"\",\"\",_xlfn.XLOOKUP(B72,Socios!A:A,Socios!B:B,FALSE,0,1))","v":""},{"$f":"IF(B72=\"\",\"\",_xlfn.XLOOKUP(B72,Socios!A:A,Socios!C:C,FALSE,0,1))","v":""},{"$f":"IF($B72=\"\",\"\",_xlfn.XLOOKUP($B72,Carreras!$B:$B,Carreras!$A:$A,0,0,1))","v":""},{"$f":"IF($B72=\"\",\"\",IF($E72=0,0,_xlfn.XLOOKUP($E72,Puntos!A:A,Puntos!B:B,TRUE)))","v":""},{"$f":"IF($B72=\"\",\"\",_xlfn.XLOOKUP($B72,Carreras!C:C,Carreras!A:A,0,0,1))","v":""},{"$f":"IF($B72=\"\",\"\",IF($G72=0,0,_xlfn.XLOOKUP($G72,Puntos!A:A,Puntos!B:B,TRUE)))","v":""},{"$f":"IF($B72=\"\",\"\",_xlfn.XLOOKUP($B72,Carreras!$D:$D,Carreras!$A:$A,0,0,1))","v":""},{"$f":"IF($B72=\"\",\"\",IF($I72=0,0,_xlfn.XLOOKUP($I72,Puntos!A:A,Puntos!B:B,TRUE)))","v":""},{"$f":"IF($B72=\"\",\"\",_xlfn.XLOOKUP($B72,Carreras!$E:$E,Carreras!$A:$A,0,0,1))","v":""},{"$f":"IF($B72=\"\",\"\",IF($K72=0,0,_xlfn.XLOOKUP($K72,Puntos!$A:$A,Puntos!$B:$B)))","v":""},"",{"$f":"IF(B72=\"\",\"\",_xlfn.IFS(M72=0,0,M72=1,0,M72=2,50,M72=3,100,M72=4,150))","v":""},"",0]
[70,{"$f":"IF(Carreras!$K71=0,\"\",Carreras!$K71)","v":""},{"$f":"IF(B73=\"\",\"\",_xlfn.XLOOKUP(B73,Socios!A:A,Socios!B:B,FALSE,0,1))","v":""},{"$f":"IF(B73=\"\",\"\",_xlfn.XLOOKUP(B73,Socios!A:A,Socios!C:C,FALSE,0,1))","v":""},{"$f":"IF($B73=\"\",\"\",_xlfn.XLOOKUP($B73,Carreras!$B:$B,Carreras!$A:$A,0,0,1))","v":""},{"$f":"IF($B73=\"\",\"\",IF($E73=0,0,_xlfn.XLOOKUP($E73,Puntos!A:A,Puntos!B:B,TRUE)))","v":""},{"$f":"IF($B73=\"\",\"\",_xlfn.XLOOKUP($B73,Carreras!C:C,Carreras!A:A,0,0,1))","v":""},{"$f":"IF($B73=\"\",\"\",IF($G73=0,0,_xlfn.XLOOKUP($G73,Puntos!A:A,Puntos!B:B,TRUE)))","v":""},{"$f":"IF($B73=\"\",\"\",_xlfn.XLOOKUP($B73,Carreras!$D:$D,Carreras!$A:$A,0,0,1))","v":""},{"$f":"IF($B73=\"\",\"\",IF($I73=0,0,_xlfn.XLOOKUP($I73,Puntos!A:A,Puntos!B:B,TRUE)))","v":""},{"$f":"IF($B73=\"\",\"\",_xlfn.XLOOKUP($B73,Carreras!$E:$E,Carreras!$A:$A,0,0,1))","v":""},{"$f":"IF($B73=\"\",\"\",IF($K73=0,0,_xlfn.XLOOKUP($K73,Puntos!$A:$A,Puntos!$B:$B)))","v":""},"",{"$f":"IF(B73=\"\",\"\",_xlfn.IFS(M73=0,0,M73=1,0,M73=2,50,M73=3,100,M73=4,150))","v":""},"",0]
[71,{"$f":"IF(Carreras!$K72=0,\"\",Carreras!$K72)","v":""},{"$f":"IF(B74=\"\",\"\",_xlfn.XLOOKUP(B74,Socios!A:A,Socios!B:B,FALSE,0,1))","v":""},{"$f":"IF(B74=\"\",\"\",_xlfn.XLOOKUP(B74,Socios!A:A,Socios!C:C,FALSE,0,1))","v":""},{"$f":"IF($B74=\"\",\"\",_xlfn.XLOOKUP($B74,Carreras!$B:$B,Carreras!$A:$A,0,0,1))","v":""},{"$f":"IF($B74=\"\",\"\",IF($E74=0,0,_xlfn.XLOOKUP($E74,Puntos!A:A,Puntos!B:B,TRUE)))","v":""},{"$f":"IF($B74=\"\",\"\",_xlfn.XLOOKUP($B74,Carreras!C:C,Carreras!A:A,0,0,1))","v":""},{"$f":"IF($B74=\"\",\"\",IF($G74=0,0,_xlfn.XLOOKUP($G74,Puntos!A:A,Puntos!B:B,TRUE)))","v":""},{"$f":"IF($B74=\"\",\"\",_xlfn.XLOOKUP($B74,Carreras!$D:$D,Carreras!$A:$A,0,0,1))","v":""},{"$f":"IF($B74=\"\",\"\",IF($I74=0,0,_xlfn.XLOOKUP($I74,Puntos!A:A,Puntos!B:B,TRUE)))","v":""},{"$f":"IF($B74=\"\",\"\",_xlfn.XLOOKUP($B74,Carreras!$E:$E,Carreras!$A:$A,0,0,1))","v":""},{"$f":"IF($B74=\"\",\"\",IF($K74=0,0,_xlfn.XLOOKUP($K74,Puntos!$A:$A,Puntos!$B:$B)))","v":""},"",{"$f":"IF(B74=\"\",\"\",_xlfn.IFS(M74=0,0,M74=1,0,M74=2,50,M74=3,100,M74=4,150))","v":""},"",0]
[72,{"$f":"IF(Carreras!$K73=0,\"\",Carreras!$K73)","v":""},{"$f":"IF(B75=\"\",\"\",_xlfn.XLOOKUP(B75,Socios!A:A,Socios!B:B,FALSE,0,1))","v":""},{"$f":"IF(B75=\"\",\"\",_xlfn.XLOOKUP(B75,Socios!A:A,Socios!C:C,FALSE,0,1))","v":""},{"$f":"IF($B75=\"\",\"\",_xlfn.XLOOKUP($B75,Carreras!$B:$B,Carreras!$A:$A,0,0,1))","v":""},{"$f":"IF($B75=\"\",\"\",IF($E75=0,0,_xlfn.XLOOKUP($E75,Puntos!A:A,Puntos!B:B,TRUE)))","v":""},{"$f":"IF($B75=\"\",\"\",_xlfn.XLOOKUP($B75,Carreras!C:C,Carreras!A:A,0,0,1))","v":""},{"$f":"IF($B75=\"\",\"\",IF($G75=0,0,_xlfn.XLOOKUP($G75,Puntos!A:A,Puntos!B:B,TRUE)))","v":""},{"$f":"IF($B75=\"\",\"\",_xlfn.XLOOKUP($B75,Carreras!$D:$D,Carreras!$A:$A,0,0,1))","v":""},{"$f":"IF($B75=\"\",\"\",IF($I75=0,0,_xlfn.XLOOKUP($I75,Puntos!A:A,Puntos!B:B,TRUE)))","v":""},{"$f":"IF($B75=\"\",\"\",_xlfn.XLOOKUP($B75,Carreras!$E:$E,Carreras!$A:$A,0,0,1))","v":""},{"$f":"IF($B75=\"\",\"\",IF($K75=0,0,_xlfn.XLOOKUP($K75,Puntos!$A:$A,Puntos!$B:$B)))","v":""},"",{"$f":"IF(B75=\"\",\"\",_xlfn.IFS(M75=0,0,M75=1,0,M75=2,50,M75=3,100,M75=4,150))","v":""},"",0]
[73,{"$f":"IF(Carreras!$K74=0,\"\",Carreras!$K74)","v":""},{"$f":"IF(B76=\"\",\"\",_xlfn.XLOOKUP(B76,Socios!A:A,Socios!B:B,FALSE,0,1))","v":""},{"$f":"IF(B76=\"\",\"\",_xlfn.XLOOKUP(B76,Socios!A:A,Socios!C:C,FALSE,0,1))","v":""},{"$f":"IF($B76=\"\",\"\",_xlfn.XLOOKUP($B76,Carreras!$B:$B,Carreras!$A:$A,0,0,1))","v":""},{"$f":"IF($B76=\"\",\"\",IF($E76=0,0,_xlfn.XLOOKUP($E76,Puntos!A:A,Puntos!B:B,TRUE)))","v":""},{"$f":"IF($B76=\"\",\"\",_xlfn.XLOOKUP($B76,Carreras!C:C,Carreras!A:A,0,0,1))","v":""},{"$f":"IF($B76=\"\",\"\",IF($G76=0,0,_xlfn.XLOOKUP($G76,Puntos!A:A,Puntos!B:B,TRUE)))","v":""},{"$f":"IF($B76=\"\",\"\",_xlfn.XLOOKUP($B76,Carreras!$D:$D,Carreras!$A:$A,0,0,1))","v":""},{"$f":"IF($B76=\"\",\"\",IF($I76=0,0,_xlfn.XLOOKUP($I76,Puntos!A:A,Puntos!B:B,TRUE)))","v":""},{"$f":"IF($B76=\"\",\"\",_xlfn.XLOOKUP($B76,Carreras!$E:$E,Carreras!$A:$A,0,0,1))","v":""},{"$f":"IF($B76=\"\",\"\",IF($K76=0,0,_xlfn.XLOOKUP($K76,Puntos!$A:$A,Puntos!$B:$B)))","v":""},"",{"$f":"IF(B76=\"\",\"\",_xlfn.IFS(M76=0,0,M76=1,0,M76=2,50,M76=3,100,M76=4,150))","v":""},"",0]
[74,{"$f":"IF(Carreras!$K75=0,\"\",Carreras!$K75)","v":""},{"$f":"IF(B77=\"\",\"\",_xlfn.XLOOKUP(B77,Socios!A:A,Socios!B:B,FALSE,0,1))","v":""},{"$f":"IF(B77=\"\",\"\",_xlfn.XLOOKUP(B77,Socios!A:A,Socios!C:C,FALSE,0,1))","v":""},{"$f":"IF($B77=\"\",\"\",_xlfn.XLOOKUP($B77,Carreras!$B:$B,Carreras!$A:$A,0,0,1))","v":""},{"$f":"IF($B77=\"\",\"\",IF($E77=0,0,_xlfn.XLOOKUP($E77,Puntos!A:A,Puntos!B:B,TRUE)))","v":""},{"$f":"IF($B77=\"\",\"\",_xlfn.XLOOKUP($B77,Carreras!C:C,Carreras!A:A,0,0,1))","v":""},{"$f":"IF($B77=\"\",\"\",IF($G77=0,0,_xlfn.XLOOKUP($G77,Puntos!A:A,Puntos!B:B,TRUE)))","v":""},{"$f":"IF($B77=\"\",\"\",_xlfn.XLOOKUP($B77,Carreras!$D:$D,Carreras!$A:$A,0,0,1))","v":""},{"$f":"IF($B77=\"\",\"\",IF($I77=0,0,_xlfn.XLOOKUP($I77,Puntos!A:A,Puntos!B:B,TRUE)))","v":""},{"$f":"IF($B77=\"\",\"\",_xlfn.XLOOKUP($B77,Carreras!$E:$E,Carreras!$A:$A,0,0,1))","v":""},{"$f":"IF($B77=\"\",\"\",IF($K77=0,0,_xlfn.XLOOKUP($K77,Puntos!$A:$A,Puntos!$B:$B)))","v":""},"",{"$f":"IF(B77=\"\",\"\",_xlfn.IFS(M77=0,0,M77=1,0,M77=2,50,M77=3,100,M77=4,150))","v":""},"",0]
[75,{"$f":"IF(Carreras!$K76=0,\"\",Carreras!$K76)","v":""},{"$f":"IF(B78=\"\",\"\",_xlfn.XLOOKUP(B78,Socios!A:A,Socios!B:B,FALSE,0,1))","v":""},{"$f":"IF(B78=\"\",\"\",_xlfn.XLOOKUP(B78,Socios!A:A,Socios!C:C,FALSE,0,1))","v":""},{"$f":"IF($B78=\"\",\"\",_xlfn.XLOOKUP($B78,Carreras!$B:$B,Carreras!$A:$A,0,0,1))","v":""},{"$f":"IF($B78=\"\",\"\",IF($E78=0,0,_xlfn.XLOOKUP($E78,Puntos!A:A,Puntos!B:B,TRUE)))","v":""},{"$f":"IF($B78=\"\",\"\",_xlfn.XLOOKUP($B78,Carreras!C:C,Carreras!A:A,0,0,1))","v":""},{"$f":"IF($B78=\"\",\"\",IF($G78=0,0,_xlfn.XLOOKUP($G78,Puntos!A:A,Puntos!B:B,TRUE)))","v":""},{"$f":"IF($B78=\"\",\"\",_xlfn.XLOOKUP($B78,Carreras!$D:$D,Carreras!$A:$A,0,0,1))","v":""},{"$f":"IF($B78=\"\",\"\",IF($I78=0,0,_xlfn.XLOOKUP($I78,Puntos!A:A,Puntos!B:B,TRUE)))","v":""},{"$f":"IF($B78=\"\",\"\",_xlfn.XLOOKUP($B78,Carreras!$E:$E,Carreras!$A:$A,0,0,1))","v":""},{"$f":"IF($B78=\"\",\"\",IF($K78=0,0,_xlfn.XLOOKUP($K78,Puntos!$A:$A,Puntos!$B:$B)))","v":""},"",{"$f":"IF(B78=\"\",\"\",_xlfn.IFS(M78=0,0,M78=1,0,M78=2,50,M78=3,100,M78=4,150))","v":""},"",0]
[76,{"$f":"IF(Carreras!$K77=0,\"\",Carreras!$K77)","v":""},{"$f":"IF(B79=\"\",\"\",_xlfn.XLOOKUP(B79,Socios!A:A,Socios!B:B,FALSE,0,1))","v":""},{"$f":"IF(B79=\"\",\"\",_xlfn.XLOOKUP(B79,Socios!A:A,Socios!C:C,FALSE,0,1))","v":""},{"$f":"IF($B79=\"\",\"\",_xlfn.XLOOKUP($B79,Carreras!$B:$B,Carreras!$A:$A,0,0,1))","v":""},{"$f":"IF($B79=\"\",\"\",IF($E79=0,0,_xlfn.XLOOKUP($E79,Puntos!A:A,Puntos!B:B,TRUE)))","v":""},{"$f":"IF($B79=\"\",\"\",_xlfn.XLOOKUP($B79,Carreras!C:C,Carreras!A:A,0,0,1))","v":""},{"$f":"IF($B79=\"\",\"\",IF($G79=0,0,_xlfn.XLOOKUP($G79,Puntos!A:A,Puntos!B:B,TRUE)))","v":""},{"$f":"IF($B79=\"\",\"\",_xlfn.XLOOKUP($B79,Carreras!$D:$D,Carreras!$A:$A,0,0,1))","v":""},{"$f":"IF($B79=\"\",\"\",IF($I79=0,0,_xlfn.XLOOKUP($I79,Puntos!A:A,Puntos!B:B,TRUE)))","v":""},{"$f":"IF($B79=\"\",\"\",_xlfn.XLOOKUP($B79,Carreras!$E:$E,Carreras!$A:$A,0,0,1))","v":""},{"$f":"IF($B79=\"\",\"\",IF($K79=0,0,_xlfn.XLOOKUP($K79,Puntos!$A:$A,Puntos!$B:$B)))","v":""},"",{"$f":"IF(B79=\"\",\"\",_xlfn.IFS(M79=0,0,M79=1,0,M79=2,50,M79=3,100,M79=4,150))","v":""},"",0]
[77,{"$f":"IF(Carreras!$K78=0,\"\",Carreras!$K78)","v":""},{"$f":"IF(B80=\"\",\"\",_xlfn.XLOOKUP(B80,Socios!A:A,Socios!B:B,FALSE,0,1))","v":""},{"$f":"IF(B80=\"\",\"\",_xlfn.XLOOKUP(B80,Socios!A:A,Socios!C:C,FALSE,0,1))","v":""},{"$f":"IF($B80=\"\",\"\",_xlfn.XLOOKUP($B80,Carreras!$B:$B,Carreras!$A:$A,0,0,1))","v":""},{"$f":"IF($B80=\"\",\"\",IF($E80=0,0,_xlfn.XLOOKUP($E80,Puntos!A:A,Puntos!B:B,TRUE)))","v":""},{"$f":"IF($B80=\"\",\"\",_xlfn.XLOOKUP($B80,Carreras!C:C,Carreras!A:A,0,0,1))","v":""},{"$f":"IF($B80=\"\",\"\",IF($G80=0,0,_xlfn.XLOOKUP($G80,Puntos!A:A,Puntos!B:B,TRUE)))","v":""},{"$f":"IF($B80=\"\",\"\",_xlfn.XLOOKUP($B80,Carreras!$D:$D,Carreras!$A:$A,0,0,1))","v":""},{"$f":"IF($B80=\"\",\"\",IF($I80=0,0,_xlfn.XLOOKUP($I80,Puntos!A:A,Puntos!B:B,TRUE)))","v":""},{"$f":"IF($B80=\"\",\"\",_xlfn.XLOOKUP($B80,Carreras!$E:$E,Carreras!$A:$A,0,0,1))","v":""},{"$f":"IF($B80=\"\",\"\",IF($K80=0,0,_xlfn.XLOOKUP($K80,Puntos!$A:$A,Puntos!$B:$B)))","v":""},"",{"$f":"IF(B80=\"\",\"\",_xlfn.IFS(M80=0,0,M80=1,0,M80=2,50,M80=3,100,M80=4,150))","v":""},"",0]
[78,{"$f":"IF(Carreras!$K79=0,\"\",Carreras!$K79)","v":""},{"$f":"IF(B81=\"\",\"\",_xlfn.XLOOKUP(B81,Socios!A:A,Socios!B:B,FALSE,0,1))","v":""},{"$f":"IF(B81=\"\",\"\",_xlfn.XLOOKUP(B81,Socios!A:A,Socios!C:C,FALSE,0,1))","v":""},{"$f":"IF($B81=\"\",\"\",_xlfn.XLOOKUP($B81,Carreras!$B:$B,Carreras!$A:$A,0,0,1))","v":""},{"$f":"IF($B81=\"\",\"\",IF($E81=0,0,_xlfn.XLOOKUP($E81,Puntos!A:A,Puntos!B:B,TRUE)))","v":""},{"$f":"IF($B81=\"\",\"\",_xlfn.XLOOKUP($B81,Carreras!C:C,Carreras!A:A,0,0,1))","v":""},{"$f":"IF($B81=\"\",\"\",IF($G81=0,0,_xlfn.XLOOKUP($G81,Puntos!A:A,Puntos!B:B,TRUE)))","v":""},{"$f":"IF($B81=\"\",\"\",_xlfn.XLOOKUP($B81,Carreras!$D:$D,Carreras!$A:$A,0,0,1))","v":""},{"$f":"IF($B81=\"\",\"\",IF($I81=0,0,_xlfn.XLOOKUP($I81,Puntos!A:A,Puntos!B:B,TRUE)))","v":""},{"$f":"IF($B81=\"\",\"\",_xlfn.XLOOKUP($B81,Carreras!$E:$E,Carreras!$A:$A,0,0,1))","v":""},{"$f":"IF($B81=\"\",\"\",IF($K81=0,0,_xlfn.XLOOKUP($K81,Puntos!$A:$A,Puntos!$B:$B)))","v":""},"",{"$f":"IF(B81=\"\",\"\",_xlfn.IFS(M81=0,0,M81=1,0,M81=2,50,M81=3,100,M81=4,150))","v":""},"",0]
[79,{"$f":"IF(Carreras!$K80=0,\"\",Carreras!$K80)","v":""},{"$f":"IF(B82=\"\",\"\",_xlfn.XLOOKUP(B82,Socios!A:A,Socios!B:B,FALSE,0,1))","v":""},{"$f":"IF(B82=\"\",\"\",_xlfn.XLOOKUP(B82,Socios!A:A,Socios!C:C,FALSE,0,1))","v":""},{"$f":"IF($B82=\"\",\"\",_xlfn.XLOOKUP($B82,Carreras!$B:$B,Carreras!$A:$A,0,0,1))","v":""},{"$f":"IF($B82=\"\",\"\",IF($E82=0,0,_xlfn.XLOOKUP($E82,Puntos!A:A,Puntos!B:B,TRUE)))","v":""},{"$f":"IF($B82=\"\",\"\",_xlfn.XLOOKUP($B82,Carreras!C:C,Carreras!A:A,0,0,1))","v":""},{"$f":"IF($B82=\"\",\"\",IF($G82=0,0,_xlfn.XLOOKUP($G82,Puntos!A:A,Puntos!B:B,TRUE)))","v":""},{"$f":"IF($B82=\"\",\"\",_xlfn.XLOOKUP($B82,Carreras!$D:$D,Carreras!$A:$A,0,0,1))","v":""},{"$f":"IF($B82=\"\",\"\",IF($I82=0,0,_xlfn.XLOOKUP($I82,Puntos!A:A,Puntos!B:B,TRUE)))","v":""},{"$f":"IF($B82=\"\",\"\",_xlfn.XLOOKUP($B82,Carreras!$E:$E,Carreras!$A:$A,0,0,1))","v":""},{"$f":"IF($B82=\"\",\"\",IF($K82=0,0,_xlfn.XLOOKUP($K82,Puntos!$A:$A,Puntos!$B:$B)))","v":""},"",{"$f":"IF(B82=\"\",\"\",_xlfn.IFS(M82=0,0,M82=1,0,M82=2,50,M82=3,100,M82=4,150))","v":""},"",0]
[80,{"$f":"IF(Carreras!$K81=0,\"\",Carreras!$K81)","v":""},{"$f":"IF(B83=\"\",\"\",_xlfn.XLOOKUP(B83,Socios!A:A,Socios!B:B,FALSE,0,1))","v":""},{"$f":"IF(B83=\"\",\"\",_xlfn.XLOOKUP(B83,Socios!A:A,Socios!C:C,FALSE,0,1))","v":""},{"$f":"IF($B83=\"\",\"\",_xlfn.XLOOKUP($B83,Carreras!$B:$B,Carreras!$A:$A,0,0,1))","v":""},{"$f":"IF($B83=\"\",\"\",IF($E83=0,0,_xlfn.XLOOKUP($E83,Puntos!A:A,Puntos!B:B,TRUE)))","v":""},{"$f":"IF($B83=\"\",\"\",_xlfn.XLOOKUP($B83,Carreras!C:C,Carreras!A:A,0,0,1))","v":""},{"$f":"IF($B83=\"\",\"\",IF($G83=0,0,_xlfn.XLOOKUP($G83,Puntos!A:A,Puntos!B:B,TRUE)))","v":""},{"$f":"IF($B83=\"\",\"\",_xlfn.XLOOKUP($B83,Carreras!$D:$D,Carreras!$A:$A,0,0,1))","v":""},{"$f":"IF($B83=\"\",\"\",IF($I83=0,0,_xlfn.XLOOKUP($I83,Puntos!A:A,Puntos!B:B,TRUE)))","v":""},{"$f":"IF($B83=\"\",\"\",_xlfn.XLOOKUP($B83,Carreras!$E:$E,Carreras!$A:$A,0,0,1))","v":""},{"$f":"IF($B83=\"\",\"\",IF($K83=0,0,_xlfn.XLOOKUP($K83,Puntos!$A:$A,Puntos!$B:$B)))","v":""},"",{"$f":"IF(B83=\"\",\"\",_xlfn.IFS(M83=0,0,M83=1,0,M83=2,50,M83=3,100,M83=4,150))","v":""},"",0]
[81,{"$f":"IF(Carreras!$K82=0,\"\",Carreras!$K82)","v":""},{"$f":"IF(B84=\"\",\"\",_xlfn.XLOOKUP(B84,Socios!A:A,Socios!B:B,FALSE,0,1))","v":""},{"$f":"IF(B84=\"\",\"\",_xlfn.XLOOKUP(B84,Socios!A:A,Socios!C:C,FALSE,0,1))","v":""},{"$f":"IF($B84=\"\",\"\",_xlfn.XLOOKUP($B84,Carreras!$B:$B,Carreras!$A:$A,0,0,1))","v":""},{"$f":"IF($B84=\"\",\"\",IF($E84=0,0,_xlfn.XLOOKUP($E84,Puntos!A:A,Puntos!B:B,TRUE)))","v":""},{"$f":"IF($B84=\"\",\"\",_xlfn.XLOOKUP($B84,Carreras!C:C,Carreras!A:A,0,0,1))","v":""},{"$f":"IF($B84=\"\",\"\",IF($G84=0,0,_xlfn.XLOOKUP($G84,Puntos!A:A,Puntos!B:B,TRUE)))","v":""},{"$f":"IF($B84=\"\",\"\",_xlfn.XLOOKUP($B84,Carreras!$D:$D,Carreras!$A:$A,0,0,1))","v":""},{"$f":"IF($B84=\"\",\"\",IF($I84=0,0,_xlfn.XLOOKUP($I84,Puntos!A:A,Puntos!B:B,TRUE)))","v":""},{"$f":"IF($B84=\"\",\"\",_xlfn.XLOOKUP($B84,Carreras!$E:$E,Carreras!$A:$A,0,0,1))","v":""},{"$f":"IF($B84=\"\",\"\",IF($K84=0,0,_xlfn.XLOOKUP($K84,Puntos!$A:$A,Puntos!$B:$B)))","v":""},"",{"$f":"IF(B84=\"\",\"\",_xlfn.IFS(M84=0,0,M84=1,0,M84=2,50,M84=3,100,M84=4,150))","v":""},"",0]
[82,{"$f":"IF(Carreras!$K83=0,\"\",Carreras!$K83)","v":""},{"$f":"IF(B85=\"\",\"\",_xlfn.XLOOKUP(B85,Socios!A:A,Socios!B:B,FALSE,0,1))","v":""},{"$f":"IF(B85=\"\",\"\",_xlfn.XLOOKUP(B85,Socios!A:A,Socios!C:C,FALSE,0,1))","v":""},{"$f":"IF($B85=\"\",\"\",_xlfn.XLOOKUP($B85,Carreras!$B:$B,Carreras!$A:$A,0,0,1))","v":""},{"$f":"IF($B85=\"\",\"\",IF($E85=0,0,_xlfn.XLOOKUP($E85,Puntos!A:A,Puntos!B:B,TRUE)))","v":""},{"$f":"IF($B85=\"\",\"\",_xlfn.XLOOKUP($B85,Carreras!C:C,Carreras!A:A,0,0,1))","v":""},{"$f":"IF($B85=\"\",\"\",IF($G85=0,0,_xlfn.XLOOKUP($G85,Puntos!A:A,Puntos!B:B,TRUE)))","v":""},{"$f":"IF($B85=\"\",\"\",_xlfn.XLOOKUP($B85,Carreras!$D:$D,Carreras!$A:$A,0,0,1))","v":""},{"$f":"IF($B85=\"\",\"\",IF($I85=0,0,_xlfn.XLOOKUP($I85,Puntos!A:A,Puntos!B:B,TRUE)))","v":""},{"$f":"IF($B85=\"\",\"\",_xlfn.XLOOKUP($B85,Carreras!$E:$E,Carreras!$A:$A,0,0,1))","v":""},{"$f":"IF($B85=\"\",\"\",IF($K85=0,0,_xlfn.XLOOKUP($K85,Puntos!$A:$A,Puntos!$B:$B)))","v":""},"",{"$f":"IF(B85=\"\",\"\",_xlfn.IFS(M85=0,0,M85=1,0,M85=2,50,M85=3,100,M85=4,150))","v":""},"",0]
[83,{"$f":"IF(Carreras!$K84=0,\"\",Carreras!$K84)","v":""},{"$f":"IF(B86=\"\",\"\",_xlfn.XLOOKUP(B86,Socios!A:A,Socios!B:B,FALSE,0,1))","v":""},{"$f":"IF(B86=\"\",\"\",_xlfn.XLOOKUP(B86,Socios!A:A,Socios!C:C,FALSE,0,1))","v":""},{"$f":"IF($B86=\"\",\"\",_xlfn.XLOOKUP($B86,Carreras!$B:$B,Carreras!$A:$A,0,0,1))","v":""},{"$f":"IF($B86=\"\",\"\",IF($E86=0,0,_xlfn.XLOOKUP($E86,Puntos!A:A,Puntos!B:B,TRUE)))","v":""},{"$f":"IF($B86=\"\",\"\",_xlfn.XLOOKUP($B86,Carreras!C:C,Carreras!A:A,0,0,1))","v":""},{"$f":"IF($B86=\"\",\"\",IF($G86=0,0,_xlfn.XLOOKUP($G86,Puntos!A:A,Puntos!B:B,TRUE)))","v":""},{"$f":"IF($B86=\"\",\"\",_xlfn.XLOOKUP($B86,Carreras!$D:$D,Carreras!$A:$A,0,0,1))","v":""},{"$f":"IF($B86=\"\",\"\",IF($I86=0,0,_xlfn.XLOOKUP($I86,Puntos!A:A,Puntos!B:B,TRUE)))","v":""},{"$f":"IF($B86=\"\",\"\",_xlfn.XLOOKUP($B86,Carreras!$E:$E,Carreras!$A:$A,0,0,1))","v":""},{"$f":"IF($B86=\"\",\"\",IF($K86=0,0,_xlfn.XLOOKUP($K86,Puntos!$A:$A,Puntos!$B:$B)))","v":""},"",{"$f":"IF(B86=\"\",\"\",_xlfn.IFS(M86=0,0,M86=1,0,M86=2,50,M86=3,100,M86=4,150))","v":""},"",0]
[84,{"$f":"IF(Carreras!$K85=0,\"\",Carreras!$K85)","v":""},{"$f":"IF(B87=\"\",\"\",_xlfn.XLOOKUP(B87,Socios!A:A,Socios!B:B,FALSE,0,1))","v":""},{"$f":"IF(B87=\"\",\"\",_xlfn.XLOOKUP(B87,Socios!A:A,Socios!C:C,FALSE,0,1))","v":""},{"$f":"IF($B87=\"\",\"\",_xlfn.XLOOKUP($B87,Carreras!$B:$B,Carreras!$A:$A,0,0,1))","v":""},{"$f":"IF($B87=\"\",\"\",IF($E87=0,0,_xlfn.XLOOKUP($E87,Puntos!A:A,Puntos!B:B,TRUE)))","v":""},{"$f":"IF($B87=\"\",\"\",_xlfn.XLOOKUP($B87,Carreras!C:C,Carreras!A:A,0,0,1))","v":""},{"$f":"IF($B87=\"\",\"\",IF($G87=0,0,_xlfn.XLOOKUP($G87,Puntos!A:A,Puntos!B:B,TRUE)))","v":""},{"$f":"IF($B87=\"\",\"\",_xlfn.XLOOKUP($B87,Carreras!$D:$D,Carreras!$A:$A,0,0,1))","v":""},{"$f":"IF($B87=\"\",\"\",IF($I87=0,0,_xlfn.XLOOKUP($I87,Puntos!A:A,Puntos!B:B,TRUE)))","v":""},{"$f":"IF($B87=\"\",\"\",_xlfn.XLOOKUP($B87,Carreras!$E:$E,Carreras!$A:$A,0,0,1))","v":""},{"$f":"IF($B87=\"\",\"\",IF($K87=0,0,_xlfn.XLOOKUP($K87,Puntos!$A:$A,Puntos!$B:$B)))","v":""},"",{"$f":"IF(B87=\"\",\"\",_xlfn.IFS(M87=0,0,M87=1,0,M87=2,50,M87=3,100,M87=4,150))","v":""},"",0]
[85,{"$f":"IF(Carreras!$K86=0,\"\",Carreras!$K86)","v":""},{"$f":"IF(B88=\"\",\"\",_xlfn.XLOOKUP(B88,Socios!A:A,Socios!B:B,FALSE,0,1))","v":""},{"$f":"IF(B88=\"\",\"\",_xlfn.XLOOKUP(B88,Socios!A:A,Socios!C:C,FALSE,0,1))","v":""},{"$f":"IF($B88=\"\",\"\",_xlfn.XLOOKUP($B88,Carreras!$B:$B,Carreras!$A:$A,0,0,1))","v":""},{"$f":"IF($B88=\"\",\"\",IF($E88=0,0,_xlfn.XLOOKUP($E88,Puntos!A:A,Puntos!B:B,TRUE)))","v":""},{"$f":"IF($B88=\"\",\"\",_xlfn.XLOOKUP($B88,Carreras!C:C,Carreras!A:A,0,0,1))","v":""},{"$f":"IF($B88=\"\",\"\",IF($G88=0,0,_xlfn.XLOOKUP($G88,Puntos!A:A,Puntos!B:B,TRUE)))","v":""},{"$f":"IF($B88=\"\",\"\",_xlfn.XLOOKUP($B88,Carreras!$D:$D,Carreras!$A:$A,0,0,1))","v":""},{"$f":"IF($B88=\"\",\"\",IF($I88=0,0,_xlfn.XLOOKUP($I88,Puntos!A:A,Puntos!B:B,TRUE)))","v":""},{"$f":"IF($B88=\"\",\"\",_xlfn.XLOOKUP($B88,Carreras!$E:$E,Carreras!$A:$A,0,0,1))","v":""},{"$f":"IF($B88=\"\",\"\",IF($K88=0,0,_xlfn.XLOOKUP($K88,Puntos!$A:$A,Puntos!$B:$B)))","v":""},"",{"$f":"IF(B88=\"\",\"\",_xlfn.IFS(M88=0,0,M88=1,0,M88=2,50,M88=3,100,M88=4,150))","v":""},"",0]
[86,{"$f":"IF(Carreras!$K87=0,\"\",Carreras!$K87)","v":""},{"$f":"IF(B89=\"\",\"\",_xlfn.XLOOKUP(B89,Socios!A:A,Socios!B:B,FALSE,0,1))","v":""},{"$f":"IF(B89=\"\",\"\",_xlfn.XLOOKUP(B89,Socios!A:A,Socios!C:C,FALSE,0,1))","v":""},{"$f":"IF($B89=\"\",\"\",_xlfn.XLOOKUP($B89,Carreras!$B:$B,Carreras!$A:$A,0,0,1))","v":""},{"$f":"IF($B89=\"\",\"\",IF($E89=0,0,_xlfn.XLOOKUP($E89,Puntos!A:A,Puntos!B:B,TRUE)))","v":""},{"$f":"IF($B89=\"\",\"\",_xlfn.XLOOKUP($B89,Carreras!C:C,Carreras!A:A,0,0,1))","v":""},{"$f":"IF($B89=\"\",\"\",IF($G89=0,0,_xlfn.XLOOKUP($G89,Puntos!A:A,Puntos!B:B,TRUE)))","v":""},{"$f":"IF($B89=\"\",\"\",_xlfn.XLOOKUP($B89,Carreras!$D:$D,Carreras!$A:$A,0,0,1))","v":""},{"$f":"IF($B89=\"\",\"\",IF($I89=0,0,_xlfn.XLOOKUP($I89,Puntos!A:A,Puntos!B:B,TRUE)))","v":""},{"$f":"IF($B89=\"\",\"\",_xlfn.XLOOKUP($B89,Carreras!$E:$E,Carreras!$A:$A,0,0,1))","v":""},{"$f":"IF($B89=\"\",\"\",IF($K89=0,0,_xlfn.XLOOKUP($K89,Puntos!$A:$A,Puntos!$B:$B)))","v":""},"",{"$f":"IF(B89=\"\",\"\",_xlfn.IFS(M89=0,0,M89=1,0,M89=2,50,M89=3,100,M89=4,150))","v":""},"",0]
[87,{"$f":"IF(Carreras!$K88=0,\"\",Carreras!$K88)","v":""},{"$f":"IF(B90=\"\",\"\",_xlfn.XLOOKUP(B90,Socios!A:A,Socios!B:B,FALSE,0,1))","v":""},{"$f":"IF(B90=\"\",\"\",_xlfn.XLOOKUP(B90,Socios!A:A,Socios!C:C,FALSE,0,1))","v":""},{"$f":"IF($B90=\"\",\"\",_xlfn.XLOOKUP($B90,Carreras!$B:$B,Carreras!$A:$A,0,0,1))","v":""},{"$f":"IF($B90=\"\",\"\",IF($E90=0,0,_xlfn.XLOOKUP($E90,Puntos!A:A,Puntos!B:B,TRUE)))","v":""},{"$f":"IF($B90=\"\",\"\",_xlfn.XLOOKUP($B90,Carreras!C:C,Carreras!A:A,0,0,1))","v":""},{"$f":"IF($B90=\"\",\"\",IF($G90=0,0,_xlfn.XLOOKUP($G90,Puntos!A:A,Puntos!B:B,TRUE)))","v":""},{"$f":"IF($B90=\"\",\"\",_xlfn.XLOOKUP($B90,Carreras!$D:$D,Carreras!$A:$A,0,0,1))","v":""},{"$f":"IF($B90=\"\",\"\",IF($I90=0,0,_xlfn.XLOOKUP($I90,Puntos!A:A,Puntos!B:B,TRUE)))","v":""},{"$f":"IF($B90=\"\",\"\",_xlfn.XLOOKUP($B90,Carreras!$E:$E,Carreras!$A:$A,0,0,1))","v":""},{"$f":"IF($B90=\"\",\"\",IF($K90=0,0,_xlfn.XLOOKUP($K90,Puntos!$A:$A,Puntos!$B:$B)))","v":""},"",{"$f":"IF(B90=\"\",\"\",_xlfn.IFS(M90=0,0,M90=1,0,M90=2,50,M90=3,100,M90=4,150))","v":""},"",0]
[88,{"$f":"IF(Carreras!$K89=0,\"\",Carreras!$K89)","v":""},{"$f":"IF(B91=\"\",\"\",_xlfn.XLOOKUP(B91,Socios!A:A,Socios!B:B,FALSE,0,1))","v":""},{"$f":"IF(B91=\"\",\"\",_xlfn.XLOOKUP(B91,Socios!A:A,Socios!C:C,FALSE,0,1))","v":""},{"$f":"IF($B91=\"\",\"\",_xlfn.XLOOKUP($B91,Carreras!$B:$B,Carreras!$A:$A,0,0,1))","v":""},{"$f":"IF($B91=\"\",\"\",IF($E91=0,0,_xlfn.XLOOKUP($E91,Puntos!A:A,Puntos!B:B,TRUE)))","v":""},{"$f":"IF($B91=\"\",\"\",_xlfn.XLOOKUP($B91,Carreras!C:C,Carreras!A:A,0,0,1))","v":""},{"$f":"IF($B91=\"\",\"\",IF($G91=0,0,_xlfn.XLOOKUP($G91,Puntos!A:A,Puntos!B:B,TRUE)))","v":""},{"$f":"IF($B91=\"\",\"\",_xlfn.XLOOKUP($B91,Carreras!$D:$D,Carreras!$A:$A,0,0,1))","v":""},{"$f":"IF($B91=\"\",\"\",IF($I91=0,0,_xlfn.XLOOKUP($I91,Puntos!A:A,Puntos!B:B,TRUE)))","v":""},{"$f":"IF($B91=\"\",\"\",_xlfn.XLOOKUP($B91,Carreras!$E:$E,Carreras!$A:$A,0,0,1))","v":""},{"$f":"IF($B91=\"\",\"\",IF($K91=0,0,_xlfn.XLOOKUP($K91,Puntos!$A:$A,Puntos!$B:$B)))","v":""},"",{"$f":"IF(B91=\"\",\"\",_xlfn.IFS(M91=0,0,M91=1,0,M91=2,50,M91=3,100,M91=4,150))","v":""},"",0]
[89,{"$f":"IF(Carreras!$K90=0,\"\",Carreras!$K90)","v":""},{"$f":"IF(B92=\"\",\"\",_xlfn.XLOOKUP(B92,Socios!A:A,Socios!B:B,FALSE,0,1))","v":""},{"$f":"IF(B92=\"\",\"\",_xlfn.XLOOKUP(B92,Socios!A:A,Socios!C:C,FALSE,0,1))","v":""},{"$f":"IF($B92=\"\",\"\",_xlfn.XLOOKUP($B92,Carreras!$B:$B,Carreras!$A:$A,0,0,1))","v":""},{"$f":"IF($B92=\"\",\"\",IF($E92=0,0,_xlfn.XLOOKUP($E92,Puntos!A:A,Puntos!B:B,TRUE)))","v":""},{"$f":"IF($B92=\"\",\"\",_xlfn.XLOOKUP($B92,Carreras!C:C,Carreras!A:A,0,0,1))","v":""},{"$f":"IF($B92=\"\",\"\",IF($G92=0,0,_xlfn.XLOOKUP($G92,Puntos!A:A,Puntos!B:B,TRUE)))","v":""},{"$f":"IF($B92=\"\",\"\",_xlfn.XLOOKUP($B92,Carreras!$D:$D,Carreras!$A:$A,0,0,1))","v":""},{"$f":"IF($B92=\"\",\"\",IF($I92=0,0,_xlfn.XLOOKUP($I92,Puntos!A:A,Puntos!B:B,TRUE)))","v":""},{"$f":"IF($B92=\"\",\"\",_xlfn.XLOOKUP($B92,Carreras!$E:$E,Carreras!$A:$A,0,0,1))","v":""},{"$f":"IF($B92=\"\",\"\",IF($K92=0,0,_xlfn.XLOOKUP($K92,Puntos!$A:$A,Puntos!$B:$B)))","v":""},"",{"$f":"IF(B92=\"\",\"\",_xlfn.IFS(M92=0,0,M92=1,0,M92=2,50,M92=3,100,M92=4,150))","v":""},"",0]
[90,{"$f":"IF(Carreras!$K91=0,\"\",Carreras!$K91)","v":""},{"$f":"IF(B93=\"\",\"\",_xlfn.XLOOKUP(B93,Socios!A:A,Socios!B:B,FALSE,0,1))","v":""},{"$f":"IF(B93=\"\",\"\",_xlfn.XLOOKUP(B93,Socios!A:A,Socios!C:C,FALSE,0,1))","v":""},{"$f":"IF($B93=\"\",\"\",_xlfn.XLOOKUP($B93,Carreras!$B:$B,Carreras!$A:$A,0,0,1))","v":""},{"$f":"IF($B93=\"\",\"\",IF($E93=0,0,_xlfn.XLOOKUP($E93,Puntos!A:A,Puntos!B:B,TRUE)))","v":""},{"$f":"IF($B93=\"\",\"\",_xlfn.XLOOKUP($B93,Carreras!C:C,Carreras!A:A,0,0,1))","v":""},{"$f":"IF($B93=\"\",\"\",IF($G93=0,0,_xlfn.XLOOKUP($G93,Puntos!A:A,Puntos!B:B,TRUE)))","v":""},{"$f":"IF($B93=\"\",\"\",_xlfn.XLOOKUP($B93,Carreras!$D:$D,Carreras!$A:$A,0,0,1))","v":""},{"$f":"IF($B93=\"\",\"\",IF($I93=0,0,_xlfn.XLOOKUP($I93,Puntos!A:A,Puntos!B:B,TRUE)))","v":""},{"$f":"IF($B93=\"\",\"\",_xlfn.XLOOKUP($B93,Carreras!$E:$E,Carreras!$A:$A,0,0,1))","v":""},{"$f":"IF($B93=\"\",\"\",IF($K93=0,0,_xlfn.XLOOKUP($K93,Puntos!$A:$A,Puntos!$B:$B)))","v":""},"",{"$f":"IF(B93=\"\",\"\",_xlfn.IFS(M93=0,0,M93=1,0,M93=2,50,M93=3,100,M93=4,150))","v":""},"",0]
[91,{"$f":"IF(Carreras!$K92=0,\"\",Carreras!$K92)","v":""},{"$f":"IF(B94=\"\",\"\",_xlfn.XLOOKUP(B94,Socios!A:A,Socios!B:B,FALSE,0,1))","v":""},{"$f":"IF(B94=\"\",\"\",_xlfn.XLOOKUP(B94,Socios!A:A,Socios!C:C,FALSE,0,1))","v":""},{"$f":"IF($B94=\"\",\"\",_xlfn.XLOOKUP($B94,Carreras!$B:$B,Carreras!$A:$A,0,0,1))","v":""},{"$f":"IF($B94=\"\",\"\",IF($E94=0,0,_xlfn.XLOOKUP($E94,Puntos!A:A,Puntos!B:B,TRUE)))","v":""},{"$f":"IF($B94=\"\",\"\",_xlfn.XLOOKUP($B94,Carreras!C:C,Carreras!A:A,0,0,1))","v":""},{"$f":"IF($B94=\"\",\"\",IF($G94=0,0,_xlfn.XLOOKUP($G94,Puntos!A:A,Puntos!B:B,TRUE)))","v":""},{"$f":"IF($B94=\"\",\"\",_xlfn.XLOOKUP($B94,Carreras!$D:$D,Carreras!$A:$A,0,0,1))","v":""},{"$f":"IF($B94=\"\",\"\",IF($I94=0,0,_xlfn.XLOOKUP($I94,Puntos!A:A,Puntos!B:B,TRUE)))","v":""},{"$f":"IF($B94=\"\",\"\",_xlfn.XLOOKUP($B94,Carreras!$E:$E,Carreras!$A:$A,0,0,1))","v":""},{"$f":"IF($B94=\"\",\"\",IF($K94=0,0,_xlfn.XLOOKUP($K94,Puntos!$A:$A,Puntos!$B:$B)))","v":""},"",{"$f":"IF(B94=\"\",\"\",_xlfn.IFS(M94=0,0,M94=1,0,M94=2,50,M94=3,100,M94=4,150))","v":""},"",0]
[92,{"$f":"IF(Carreras!$K93=0,\"\",Carreras!$K93)","v":""},{"$f":"IF(B95=\"\",\"\",_xlfn.XLOOKUP(B95,Socios!A:A,Socios!B:B,FALSE,0,1))","v":""},{"$f":"IF(B95=\"\",\"\",_xlfn.XLOOKUP(B95,Socios!A:A,Socios!C:C,FALSE,0,1))","v":""},{"$f":"IF($B95=\"\",\"\",_xlfn.XLOOKUP($B95,Carreras!$B:$B,Carreras!$A:$A,0,0,1))","v":""},{"$f":"IF($B95=\"\",\"\",IF($E95=0,0,_xlfn.XLOOKUP($E95,Puntos!A:A,Puntos!B:B,TRUE)))","v":""},{"$f":"IF($B95=\"\",\"\",_xlfn.XLOOKUP($B95,Carreras!C:C,Carreras!A:A,0,0,1))","v":""},{"$f":"IF($B95=\"\",\"\",IF($G95=0,0,_xlfn.XLOOKUP($G95,Puntos!A:A,Puntos!B:B,TRUE)))","v":""},{"$f":"IF($B95=\"\",\"\",_xlfn.XLOOKUP($B95,Carreras!$D:$D,Carreras!$A:$A,0,0,1))","v":""},{"$f":"IF($B95=\"\",\"\",IF($I95=0,0,_xlfn.XLOOKUP($I95,Puntos!A:A,Puntos!B:B,TRUE)))","v":""},{"$f":"IF($B95=\"\",\"\",_xlfn.XLOOKUP($B95,Carreras!$E:$E,Carreras!$A:$A,0,0,1))","v":""},{"$f":"IF($B95=\"\",\"\",IF($K95=0,0,_xlfn.XLOOKUP($K95,Puntos!$A:$A,Puntos!$B:$B)))","v":""},"",{"$f":"IF(B95=\"\",\"\",_xlfn.IFS(M95=0,0,M95=1,0,M95=2,50,M95=3,100,M95=4,150))","v":""},"",0]
[93,{"$f":"IF(Carreras!$K94=0,\"\",Carreras!$K94)","v":""},{"$f":"IF(B96=\"\",\"\",_xlfn.XLOOKUP(B96,Socios!A:A,Socios!B:B,FALSE,0,1))","v":""},{"$f":"IF(B96=\"\",\"\",_xlfn.XLOOKUP(B96,Socios!A:A,Socios!C:C,FALSE,0,1))","v":""},{"$f":"IF($B96=\"\",\"\",_xlfn.XLOOKUP($B96,Carreras!$B:$B,Carreras!$A:$A,0,0,1))","v":""},{"$f":"IF($B96=\"\",\"\",IF($E96=0,0,_xlfn.XLOOKUP($E96,Puntos!A:A,Puntos!B:B,TRUE)))","v":""},{"$f":"IF($B96=\"\",\"\",_xlfn.XLOOKUP($B96,Carreras!C:C,Carreras!A:A,0,0,1))","v":""},{"$f":"IF($B96=\"\",\"\",IF($G96=0,0,_xlfn.XLOOKUP($G96,Puntos!A:A,Puntos!B:B,TRUE)))","v":""},{"$f":"IF($B96=\"\",\"\",_xlfn.XLOOKUP($B96,Carreras!$D:$D,Carreras!$A:$A,0,0,1))","v":""},{"$f":"IF($B96=\"\",\"\",IF($I96=0,0,_xlfn.XLOOKUP($I96,Puntos!A:A,Puntos!B:B,TRUE)))","v":""},{"$f":"IF($B96=\"\",\"\",_xlfn.XLOOKUP($B96,Carreras!$E:$E,Carreras!$A:$A,0,0,1))","v":""},{"$f":"IF($B96=\"\",\"\",IF($K96=0,0,_xlfn.XLOOKUP($K96,Puntos!$A:$A,Puntos!$B:$B)))","v":""},"",{"$f":"IF(B96=\"\",\"\",_xlfn.IFS(M96=0,0,M96=1,0,M96=2,50,M96=3,100,M96=4,150))","v":""},"",0]
[94,{"$f":"IF(Carreras!$K95=0,\"\",Carreras!$K95)","v":""},{"$f":"IF(B97=\"\",\"\",_xlfn.XLOOKUP(B97,Socios!A:A,Socios!B:B,FALSE,0,1))","v":""},{"$f":"IF(B97=\"\",\"\",_xlfn.XLOOKUP(B97,Socios!A:A,Socios!C:C,FALSE,0,1))","v":""},{"$f":"IF($B97=\"\",\"\",_xlfn.XLOOKUP($B97,Carreras!$B:$B,Carreras!$A:$A,0,0,1))","v":""},{"$f":"IF($B97=\"\",\"\",IF($E97=0,0,_xlfn.XLOOKUP($E97,Puntos!A:A,Puntos!B:B,TRUE)))","v":""},{"$f":"IF($B97=\"\",\"\",_xlfn.XLOOKUP($B97,Carreras!C:C,Carreras!A:A,0,0,1))","v":""},{"$f":"IF($B97=\"\",\"\",IF($G97=0,0,_xlfn.XLOOKUP($G97,Puntos!A:A,Puntos!B:B,TRUE)))","v":""},{"$f":"IF($B97=\"\",\"\",_xlfn.XLOOKUP($B97,Carreras!$D:$D,Carreras!$A:$A,0,0,1))","v":""},{"$f":"IF($B97=\"\",\"\",IF($I97=0,0,_xlfn.XLOOKUP($I97,Puntos!A:A,Puntos!B:B,TRUE)))","v":""},{"$f":"IF($B97=\"\",\"\",_xlfn.XLOOKUP($B97,Carreras!$E:$E,Carreras!$A:$A,0,0,1))","v":""},{"$f":"IF($B97=\"\",\"\",IF($K97=0,0,_xlfn.XLOOKUP($K97,Puntos!$A:$A,Puntos!$B:$B)))","v":""},"",{"$f":"IF(B97=\"\",\"\",_xlfn.IFS(M97=0,0,M97=1,0,M97=2,50,M97=3,100,M97=4,150))","v":""},"",0]
[95,{"$f":"IF(Carreras!$K96=0,\"\",Carreras!$K96)","v":""},{"$f":"IF(B98=\"\",\"\",_xlfn.XLOOKUP(B98,Socios!A:A,Socios!B:B,FALSE,0,1))","v":""},{"$f":"IF(B98=\"\",\"\",_xlfn.XLOOKUP(B98,Socios!A:A,Socios!C:C,FALSE,0,1))","v":""},{"$f":"IF($B98=\"\",\"\",_xlfn.XLOOKUP($B98,Carreras!$B:$B,Carreras!$A:$A,0,0,1))","v":""},{"$f":"IF($B98=\"\",\"\",IF($E98=0,0,_xlfn.XLOOKUP($E98,Puntos!A:A,Puntos!B:B,TRUE)))","v":""},{"$f":"IF($B98=\"\",\"\",_xlfn.XLOOKUP($B98,Carreras!C:C,Carreras!A:A,0,0,1))","v":""},{"$f":"IF($B98=\"\",\"\",IF($G98=0,0,_xlfn.XLOOKUP($G98,Puntos!A:A,Puntos!B:B,TRUE)))","v":""},{"$f":"IF($B98=\"\",\"\",_xlfn.XLOOKUP($B98,Carreras!$D:$D,Carreras!$A:$A,0,0,1))","v":""},{"$f":"IF($B98=\"\",\"\",IF($I98=0,0,_xlfn.XLOOKUP($I98,Puntos!A:A,Puntos!B:B,TRUE)))","v":""},{"$f":"IF($B98=\"\",\"\",_xlfn.XLOOKUP($B98,Carreras!$E:$E,Carreras!$A:$A,0,0,1))","v":""},{"$f":"IF($B98=\"\",\"\",IF($K98=0,0,_xlfn.XLOOKUP($K98,Puntos!$A:$A,Puntos!$B:$B)))","v":""},"",{"$f":"IF(B98=\"\",\"\",_xlfn.IFS(M98=0,0,M98=1,0,M98=2,50,M98=3,100,M98=4,150))","v":""},"",0]
[96,{"$f":"IF(Carreras!$K97=0,\"\",Carreras!$K97)","v":""},{"$f":"IF(B99=\"\",\"\",_xlfn.XLOOKUP(B99,Socios!A:A,Socios!B:B,FALSE,0,1))","v":""},{"$f":"IF(B99=\"\",\"\",_xlfn.XLOOKUP(B99,Socios!A:A,Socios!C:C,FALSE,0,1))","v":""},{"$f":"IF($B99=\"\",\"\",_xlfn.XLOOKUP($B99,Carreras!$B:$B,Carreras!$A:$A,0,0,1))","v":""},{"$f":"IF($B99=\"\",\"\",IF($E99=0,0,_xlfn.XLOOKUP($E99,Puntos!A:A,Puntos!B:B,TRUE)))","v":""},{"$f":"IF($B99=\"\",\"\",_xlfn.XLOOKUP($B99,Carreras!C:C,Carreras!A:A,0,0,1))","v":""},{"$f":"IF($B99=\"\",\"\",IF($G99=0,0,_xlfn.XLOOKUP($G99,Puntos!A:A,Puntos!B:B,TRUE)))","v":""},{"$f":"IF($B99=\"\",\"\",_xlfn.XLOOKUP($B99,Carreras!$D:$D,Carreras!$A:$A,0,0,1))","v":""},{"$f":"IF($B99=\"\",\"\",IF($I99=0,0,_xlfn.XLOOKUP($I99,Puntos!A:A,Puntos!B:B,TRUE)))","v":""},{"$f":"IF($B99=\"\",\"\",_xlfn.XLOOKUP($B99,Carreras!$E:$E,Carreras!$A:$A,0,0,1))","v":""},{"$f":"IF($B99=\"\",\"\",IF($K99=0,0,_xlfn.XLOOKUP($K99,Puntos!$A:$A,Puntos!$B:$B)))","v":""},"",{"$f":"IF(B99=\"\",\"\",_xlfn.IFS(M99=0,0,M99=1,0,M99=2,50,M99=3,100,M99=4,150))","v":""},"",0]
[97,{"$f":"IF(Carreras!$K98=0,\"\",Carreras!$K98)","v":""},{"$f":"IF(B100=\"\",\"\",_xlfn.XLOOKUP(B100,Socios!A:A,Socios!B:B,FALSE,0,1))","v":""},{"$f":"IF(B100=\"\",\"\",_xlfn.XLOOKUP(B100,Socios!A:A,Socios!C:C,FALSE,0,1))","v":""},{"$f":"IF($B100=\"\",\"\",_xlfn.XLOOKUP($B100,Carreras!$B:$B,Carreras!$A:$A,0,0,1))","v":""},{"$f":"IF($B100=\"\",\"\",IF($E100=0,0,_xlfn.XLOOKUP($E100,Puntos!A:A,Puntos!B:B,TRUE)))","v":""},{"$f":"IF($B100=\"\",\"\",_xlfn.XLOOKUP($B100,Carreras!C:C,Carreras!A:A,0,0,1))","v":""},{"$f":"IF($B100=\"\",\"\",IF($G100=0,0,_xlfn.XLOOKUP($G100,Puntos!A:A,Puntos!B:B,TRUE)))","v":""},{"$f":"IF($B100=\"\",\"\",_xlfn.XLOOKUP($B100,Carreras!$D:$D,Carreras!$A:$A,0,0,1))","v":""},{"$f":"IF($B100=\"\",\"\",IF($I100=0,0,_xlfn.XLOOKUP($I100,Puntos!A:A,Puntos!B:B,TRUE)))","v":""},{"$f":"IF($B100=\"\",\"\",_xlfn.XLOOKUP($B100,Carreras!$E:$E,Carreras!$A:$A,0,0,1))","v":""},{"$f":"IF($B100=\"\",\"\",IF($K100=0,0,_xlfn.XLOOKUP($K100,Puntos!$A:$A,Puntos!$B:$B)))","v":""},{"$f":"IF($B100=\"\",\"\",COUNTIF(F100,\">0\")+COUNTIF(H100,\">0\")+COUNTIF(J100,\">0\")+COUNTIF(L100,\">0\"))","v":""},{"$f":"IF(B100=\"\",\"\",_xlfn.IFS(M100=0,0,M100=1,0,M100=2,50,M100=3,100,M100=4,150))","v":""},{"$f":"IF(B100=\"\",\"\",F100+H100+J100+L100+N100)","v":""},{"$f":"IF(B100=\"\",0,O100-MIN(F100,H100,J100,L100))","v":0}]
[98,{"$f":"IF(Carreras!$K99=0,\"\",Carreras!$K99)","v":""},{"$f":"IF(B101=\"\",\"\",_xlfn.XLOOKUP(B101,Socios!A:A,Socios!B:B,FALSE,0,1))","v":""},{"$f":"IF(B101=\"\",\"\",_xlfn.XLOOKUP(B101,Socios!A:A,Socios!C:C,FALSE,0,1))","v":""},{"$f":"IF($B101=\"\",\"\",_xlfn.XLOOKUP($B101,Carreras!$B:$B,Carreras!$A:$A,0,0,1))","v":""},{"$f":"IF($B101=\"\",\"\",IF($E101=0,0,_xlfn.XLOOKUP($E101,Puntos!A:A,Puntos!B:B,TRUE)))","v":""},{"$f":"IF($B101=\"\",\"\",_xlfn.XLOOKUP($B101,Carreras!C:C,Carreras!A:A,0,0,1))","v":""},{"$f":"IF($B101=\"\",\"\",IF($G101=0,0,_xlfn.XLOOKUP($G101,Puntos!A:A,Puntos!B:B,TRUE)))","v":""},{"$f":"IF($B101=\"\",\"\",_xlfn.XLOOKUP($B101,Carreras!$D:$D,Carreras!$A:$A,0,0,1))","v":""},{"$f":"IF($B101=\"\",\"\",IF($I101=0,0,_xlfn.XLOOKUP($I101,Puntos!A:A,Puntos!B:B,TRUE)))","v":""},{"$f":"IF($B101=\"\",\"\",_xlfn.XLOOKUP($B101,Carreras!$E:$E,Carreras!$A:$A,0,0,1))","v":""},{"$f":"IF($B101=\"\",\"\",IF($K101=0,0,_xlfn.XLOOKUP($K101,Puntos!$A:$A,Puntos!$B:$B)))","v":""},"",{"$f":"IF(B101=\"\",\"\",_xlfn.IFS(M101=0,0,M101=1,0,M101=2,50,M101=3,100,M101=4,150))","v":""},"",0]
[99,{"$f":"IF(Carreras!$K100=0,\"\",Carreras!$K100)","v":""},{"$f":"IF(B102=\"\",\"\",_xlfn.XLOOKUP(B102,Socios!A:A,Socios!B:B,FALSE,0,1))","v":""},{"$f":"IF(B102=\"\",\"\",_xlfn.XLOOKUP(B102,Socios!A:A,Socios!C:C,FALSE,0,1))","v":""},{"$f":"IF($B102=\"\",\"\",_xlfn.XLOOKUP($B102,Carreras!$B:$B,Carreras!$A:$A,0,0,1))","v":""},{"$f":"IF($B102=\"\",\"\",IF($E102=0,0,_xlfn.XLOOKUP($E102,Puntos!A:A,Puntos!B:B,TRUE)))","v":""},{"$f":"IF($B102=\"\",\"\",_xlfn.XLOOKUP($B102,Carreras!C:C,Carreras!A:A,0,0,1))","v":""},{"$f":"IF($B102=\"\",\"\",IF($G102=0,0,_xlfn.XLOOKUP($G102,Puntos!A:A,Puntos!B:B,TRUE)))","v":""},{"$f":"IF($B102=\"\",\"\",_xlfn.XLOOKUP($B102,Carreras!$D:$D,Carreras!$A:$A,0,0,1))","v":""},{"$f":"IF($B102=\"\",\"\",IF($I102=0,0,_xlfn.XLOOKUP($I102,Puntos!A:A,Puntos!B:B,TRUE)))","v":""},{"$f":"IF($B102=\"\",\"\",_xlfn.XLOOKUP($B102,Carreras!$E:$E,Carreras!$A:$A,0,0,1))","v":""},{"$f":"IF($B102=\"\",\"\",IF($K102=0,0,_xlfn.XLOOKUP($K102,Puntos!$A:$A,Puntos!$B:$B)))","v":""},"",{"$f":"IF(B102=\"\",\"\",_xlfn.IFS(M102=0,0,M102=1,0,M102=2,50,M102=3,100,M102=4,150))","v":""},"",0]
[100,{"$f":"IF(Carreras!$K101=0,\"\",Carreras!$K101)","v":""},{"$f":"IF(B103=\"\",\"\",_xlfn.XLOOKUP(B103,Socios!A:A,Socios!B:B,FALSE,0,1))","v":""},{"$f":"IF(B103=\"\",\"\",_xlfn.XLOOKUP(B103,Socios!A:A,Socios!C:C,FALSE,0,1))","v":""},{"$f":"IF($B103=\"\",\"\",_xlfn.XLOOKUP($B103,Carreras!$B:$B,Carreras!$A:$A,0,0,1))","v":""},{"$f":"IF($B103=\"\",\"\",IF($E103=0,0,_xlfn.XLOOKUP($E103,Puntos!A:A,Puntos!B:B,TRUE)))","v":""},{"$f":"IF($B103=\"\",\"\",_xlfn.XLOOKUP($B103,Carreras!C:C,Carreras!A:A,0,0,1))","v":""},{"$f":"IF($B103=\"\",\"\",IF($G103=0,0,_xlfn.XLOOKUP($G103,Puntos!A:A,Puntos!B:B,TRUE)))","v":""},{"$f":"IF($B103=\"\",\"\",_xlfn.XLOOKUP($B103,Carreras!$D:$D,Carreras!$A:$A,0,0,1))","v":""},{"$f":"IF($B103=\"\",\"\",IF($I103=0,0,_xlfn.XLOOKUP($I103,Puntos!A:A,Puntos!B:B,TRUE)))","v":""},{"$f":"IF($B103=\"\",\"\",_xlfn.XLOOKUP($B103,Carreras!$E:$E,Carreras!$A:$A,0,0,1))","v":""},{"$f":"IF($B103=\"\",\"\",IF($K103=0,0,_xlfn.XLOOKUP($K103,Puntos!$A:$A,Puntos!$B:$B)))","v":""},"",{"$f":"IF(B103=\"\",\"\",_xlfn.IFS(M103=0,0,M103=1,0,M103=2,50,M103=3,100,M103=4,150))","v":""},"",0]

{"sheet":"Puntos","index":1,"n_rows":116,"n_cols":4,"rows_kept":116,"cut":false,"hidden":false,"merged":[]}
["Puesto","Puntos",null,"participantes"]
[1,640]
[2,613]
[3,587]
[4,562]
[5,538]
[6,515]
[7,493]
[8,472]
[9,452]
[10,433]
[11,414]
[12,396]
[13,379]
[14,363]
[15,347]
[16,332]
[17,318]
[18,304]
[19,291]
[20,278]
[21,266]
[22,254]
[23,243]
[24,232]
[25,222]
[26,212]
[27,203]
[28,194]
[29,185]
[30,177]
[31,169]
[32,161]
[33,154]
[34,147]
[35,140]
[36,134]
[37,128]
[38,122]
[39,116]
[40,111]
[41,106]
[42,101]
[43,96]
[44,91]
[45,87]
[46,83]
[47,79]
[48,75]
[49,71]
[50,68]
[51,65]
[52,62]
[53,59]
[54,56]
[55,53]
[56,50]
[57,47]
[58,45]
[59,43]
[60,41]
[61,39]
[62,37]
[63,35]
[64,33]
[65,31]
[66,29]
[67,27]
[68,25]
[69,23]
[70,22]
[71,21]
[72,20]
[73,19]
[74,18]
[75,17]
[76,16]
[77,15]
[78,14]
[79,13]
[80,12]
[81,11]
[82,10]
[83,9]
[84,8]
[85,7]
[86,6]
[87,5]
[88,4]
[89,3]
[90,2]
[91,1]
[{"$f":"A92+1","v":92},1]
[{"$f":"A93+1","v":93},1]
[94,1]
[95,1]
[96,1]
[97,1]
[98,1]
[99,1]
[100,1]
[101,1]
[102,1]
[103,1]
[104,1]
[105,1]
[106,1]
[107,1]
[108,1]
[109,1]
[110,1]
[111,1]
[112,1]
[113,1]
[114,1]
[115,1]

{"sheet":"Socios","index":2,"n_rows":0,"n_cols":0,"rows_kept":0,"cut":false,"hidden":false,"merged":[]}

{"sheet":"Carreras","index":3,"n_rows":400,"n_cols":11,"rows_kept":400,"cut":false,"hidden":false,"merged":[]}
["ORDEN","CARRERA1","CARRERA2","CARRERA3","CARRERA4",null,null,null,null,null,"Participantes"]
[1,null,null,null,null,null,null,null,null,{"$f":"B2","v":0},0]
[{"$f":"A2+1","v":2},null,null,null,null,null,null,null,null,{"$f":"C2","v":0}]
[3,null,null,null,null,null,null,null,null,{"$f":"D2","v":0}]
[4,null,null,null,null,null,null,null,null,{"$f":"E2","v":0}]
[5,null,null,null,null,null,null,null,null,{"$f":"B3","v":0}]
[6,null,null,null,null,null,null,null,null,{"$f":"C3","v":0}]
[7,null,null,null,null,null,null,null,null,{"$f":"D3","v":0}]
[8,null,null,null,null,null,null,null,null,{"$f":"E3","v":0}]
[9,null,null,null,null,null,null,null,null,{"$f":"B4","v":0}]
[10,null,null,null,null,null,null,null,null,{"$f":"C4","v":0}]
[11,null,null,null,null,null,null,null,null,{"$f":"D4","v":0}]
[12,null,null,null,null,null,null,null,null,{"$f":"E4","v":0}]
[13,null,null,null,null,null,null,null,null,{"$f":"B5","v":0}]
[14,null,null,null,null,null,null,null,null,{"$f":"C5","v":0}]
[15,null,null,null,null,null,null,null,null,{"$f":"D5","v":0}]
[16,null,null,null,null,null,null,null,null,{"$f":"E5","v":0}]
[17,null,null,null,null,null,null,null,null,{"$f":"B6","v":0}]
[18,null,null,null,null,null,null,null,null,{"$f":"C6","v":0}]
[19,null,null,null,null,null,null,null,null,{"$f":"D6","v":0}]
[20,null,null,null,null,null,null,null,null,{"$f":"E6","v":0}]
[21,null,null,null,null,null,null,null,null,{"$f":"B7","v":0}]
[22,null,null,null,null,null,null,null,null,{"$f":"C7","v":0}]
[23,null,null,null,null,null,null,null,null,{"$f":"D7","v":0}]
[24,null,null,null,null,null,null,null,null,{"$f":"E7","v":0}]
[25,null,null,null,null,null,null,null,null,{"$f":"B8","v":0}]
[26,null,null,null,null,null,null,null,null,{"$f":"C8","v":0}]
[27,null,null,null,null,null,null,null,null,{"$f":"D8","v":0}]
[28,null,null,null,null,null,null,null,null,{"$f":"E8","v":0}]
[29,null,null,null,null,null,null,null,null,{"$f":"B9","v":0}]
[30,null,null,null,null,null,null,null,null,{"$f":"C9","v":0}]
[31,null,null,null,null,null,null,null,null,{"$f":"D9","v":0}]
[32,null,null,null,null,null,null,null,null,{"$f":"E9","v":0}]
[33,null,null,null,null,null,null,null,null,{"$f":"B10","v":0}]
[{"$f":"A34+1","v":34},null,null,null,null,null,null,null,null,{"$f":"C10","v":0}]
[35,null,null,null,null,null,null,null,null,{"$f":"D10","v":0}]
[36,null,null,null,null,null,null,null,null,{"$f":"E10","v":0}]
[37,null,null,null,null,null,null,null,null,{"$f":"B11","v":0}]
[38,null,null,null,null,null,null,null,null,{"$f":"C11","v":0}]
[39,null,null,null,null,null,null,null,null,{"$f":"D11","v":0}]
[40,null,null,null,null,null,null,null,null,{"$f":"E11","v":0}]
[41,null,null,null,null,null,null,null,null,{"$f":"B12","v":0}]
[42,null,null,null,null,null,null,null,null,{"$f":"C12","v":0}]
[43,null,null,null,null,null,null,null,null,{"$f":"D12","v":0}]
[44,null,null,null,null,null,null,null,null,{"$f":"E12","v":0}]
[45,null,null,null,null,null,null,null,null,{"$f":"B13","v":0}]
[46,null,null,null,null,null,null,null,null,{"$f":"C13","v":0}]
[47,null,null,null,null,null,null,null,null,{"$f":"D13","v":0}]
[48,null,null,null,null,null,null,null,null,{"$f":"E13","v":0}]
[49,null,null,null,null,null,null,null,null,{"$f":"B14","v":0}]
[50,null,null,null,null,null,null,null,null,{"$f":"C14","v":0}]
[51,null,null,null,null,null,null,null,null,{"$f":"D14","v":0}]
[52,null,null,null,null,null,null,null,null,{"$f":"E14","v":0}]
[53,null,null,null,null,null,null,null,null,{"$f":"B15","v":0}]
[54,null,null,null,null,null,null,null,null,{"$f":"C15","v":0}]
[55,null,null,null,null,null,null,null,null,{"$f":"D15","v":0}]
[56,null,null,null,null,null,null,null,null,{"$f":"E15","v":0}]
[57,null,null,null,null,null,null,null,null,{"$f":"B16","v":0}]
[58,null,null,null,null,null,null,null,null,{"$f":"C16","v":0}]
[59,null,null,null,null,null,null,null,null,{"$f":"D16","v":0}]
[60,null,null,null,null,null,null,null,null,{"$f":"E16","v":0}]
[61,null,null,null,null,null,null,null,null,{"$f":"B17","v":0}]
[62,null,null,null,null,null,null,null,null,{"$f":"C17","v":0}]
[63,null,null,null,null,null,null,null,null,{"$f":"D17","v":0}]
[64,null,null,null,null,null,null,null,null,{"$f":"E17","v":0}]
[65,null,null,null,null,null,null,null,null,{"$f":"B18","v":0}]
[{"$f":"A66+1","v":66},null,null,null,null,null,null,null,null,{"$f":"C18","v":0}]
[67,null,null,null,null,null,null,null,null,{"$f":"D18","v":0}]
[68,null,null,null,null,null,null,null,null,{"$f":"E18","v":0}]
[69,null,null,null,null,null,null,null,null,{"$f":"B19","v":0}]
[70,null,null,null,null,null,null,null,null,{"$f":"C19","v":0}]
[71,null,null,null,null,null,null,null,null,{"$f":"D19","v":0}]
[72,null,null,null,null,null,null,null,null,{"$f":"E19","v":0}]
[73,null,null,null,null,null,null,null,null,{"$f":"B20","v":0}]
[74,null,null,null,null,null,null,null,null,{"$f":"C20","v":0}]
[75,null,null,null,null,null,null,null,null,{"$f":"D20","v":0}]
[76,null,null,null,null,null,null,null,null,{"$f":"E20","v":0}]
[77,null,null,null,null,null,null,null,null,{"$f":"B21","v":0}]
[78,null,null,null,null,null,null,null,null,{"$f":"C21","v":0}]
[79,null,null,null,null,null,null,null,null,{"$f":"D21","v":0}]
[80,null,null,null,null,null,null,null,null,{"$f":"E21","v":0}]
[81,null,null,null,null,null,null,null,null,{"$f":"B22","v":0}]
[82,null,null,null,null,null,null,null,null,{"$f":"C22","v":0}]
[83,null,null,null,null,null,null,null,null,{"$f":"D22","v":0}]
[84,null,null,null,null,null,null,null,null,{"$f":"E22","v":0}]
[85,null,null,null,null,null,null,null,null,{"$f":"B23","v":0}]
[86,null,null,null,null,null,null,null,null,{"$f":"C23","v":0}]
[87,null,null,null,null,null,null,null,null,{"$f":"D23","v":0}]
[88,null,null,null,null,null,null,null,null,{"$f":"E23","v":0}]
[89,null,null,null,null,null,null,null,null,{"$f":"B24","v":0}]
[90,null,null,null,null,null,null,null,null,{"$f":"C24","v":0}]
[91,null,null,null,null,null,null,null,null,{"$f":"D24","v":0}]
[92,null,null,null,null,null,null,null,null,{"$f":"E24","v":0}]
[93,null,null,null,null,null,null,null,null,{"$f":"B25","v":0}]
[94,null,null,null,null,null,null,null,null,{"$f":"C25","v":0}]
[95,null,null,null,null,null,null,null,null,{"$f":"D25","v":0}]
[96,null,null,null,null,null,null,null,null,{"$f":"E25","v":0}]
[97,null,null,null,null,null,null,null,null,{"$f":"B26","v":0}]
[98,null,null,null,null,null,null,null,null,{"$f":"C26","v":0}]
[99,null,null,null,null,null,null,null,null,{"$f":"D26","v":0}]
[null,null,null,null,null,null,null,null,null,{"$f":"E26","v":0}]
[null,null,null,null,null,null,null,null,null,{"$f":"B27","v":0}]
[null,null,null,null,null,null,null,null,null,{"$f":"C27","v":0}]
[null,null,null,null,null,null,null,null,null,{"$f":"D27","v":0}]
[null,null,null,null,null,null,null,null,null,{"$f":"E27","v":0}]
[null,null,null,null,null,null,null,null,null,{"$f":"B28","v":0}]
[null,null,null,null,null,null,null,null,null,{"$f":"C28","v":0}]
[null,null,null,null,null,null,null,null,null,{"$f":"D28","v":0}]
[null,null,null,null,null,null,null,null,null,{"$f":"E28","v":0}]
[null,null,null,null,null,null,null,null,null,{"$f":"B29","v":0}]
[null,null,null,null,null,null,null,null,null,{"$f":"C29","v":0}]
[null,null,null,null,null,null,null,null,null,{"$f":"D29","v":0}]
[null,null,null,null,null,null,null,null,null,{"$f":"E29","v":0}]
[null,null,null,null,null,null,null,null,null,{"$f":"B30","v":0}]
[null,null,null,null,null,null,null,null,null,{"$f":"C30","v":0}]
[null,null,null,null,null,null,null,null,null,{"$f":"D30","v":0}]
[null,null,null,null,null,null,null,null,null,{"$f":"E30","v":0}]
[null,null,null,null,null,null,null,null,null,{"$f":"B31","v":0}]
[null,null,null,null,null,null,null,null,null,{"$f":"C31","v":0}]
[null,null,null,null,null,null,null,null,null,{"$f":"D31","v":0}]
[null,null,null,null,null,null,null,null,null,{"$f":"E31","v":0}]
[null,null,null,null,null,null,null,null,null,{"$f":"B32","v":0}]
[null,null,null,null,null,null,null,null,null,{"$f":"C32","v":0}]
[null,null,null,null,null,null,null,null,null,{"$f":"D32","v":0}]
[null,null,null,null,null,null,null,null,null,{"$f":"E32","v":0}]
[null,null,null,null,null,null,null,null,null,{"$f":"B33","v":0}]
[null,null,null,null,null,null,null,null,null,{"$f":"C33","v":0}]
[null,null,null,null,null,null,null,null,null,{"$f":"D33","v":0}]
[null,null,null,null,null,null,null,null,null,{"$f":"E33","v":0}]
[null,null,null,null,null,null,null,null,null,{"$f":"B34","v":0}]
[null,null,null,null,null,null,null,null,null,{"$f":"C34","v":0}]
[null,null,null,null,null,null,null,null,null,{"$f":"D34","v":0}]
[null,null,null,null,null,null,null,null,null,{"$f":"E34","v":0}]
[null,null,null,null,null,null,null,null,null,{"$f":"B35","v":0}]
[null,null,null,null,null,null,null,null,null,{"$f":"C35","v":0}]
[null,null,null,null,null,null,null,null,null,{"$f":"D35","v":0}]
[null,null,null,null,null,null,null,null,null,{"$f":"E35","v":0}]
[null,null,null,null,null,null,null,null,null,{"$f":"B36","v":0}]
[null,null,null,null,null,null,null,null,null,{"$f":"C36","v":0}]
[null,null,null,null,null,null,null,null,null,{"$f":"D36","v":0}]
[null,null,null,null,null,null,null,null,null,{"$f":"E36","v":0}]
[null,null,null,null,null,null,null,null,null,{"$f":"B37","v":0}]
[null,null,null,null,null,null,null,null,null,{"$f":"C37","v":0}]
[null,null,null,null,null,null,null,null,null,{"$f":"D37","v":0}]
[null,null,null,null,null,null,null,null,null,{"$f":"E37","v":0}]
[null,null,null,null,null,null,null,null,null,{"$f":"B38","v":0}]
[null,null,null,null,null,null,null,null,null,{"$f":"C38","v":0}]
[null,null,null,null,null,null,null,null,null,{"$f":"D38","v":0}]
[null,null,null,null,null,null,null,null,null,{"$f":"E38","v":0}]
[null,null,null,null,null,null,null,null,null,{"$f":"B39","v":0}]
[null,null,null,null,null,null,null,null,null,{"$f":"C39","v":0}]
[null,null,null,null,null,null,null,null,null,{"$f":"D39","v":0}]
[null,null,null,null,null,null,null,null,null,{"$f":"E39","v":0}]
[null,null,null,null,null,null,null,null,null,{"$f":"B40","v":0}]
[null,null,null,null,null,null,null,null,null,{"$f":"C40","v":0}]
[null,null,null,null,null,null,null,null,null,{"$f":"D40","v":0}]
[null,null,null,null,null,null,null,null,null,{"$f":"E40","v":0}]
[null,null,null,null,null,null,null,null,null,{"$f":"B41","v":0}]
[null,null,null,null,null,null,null,null,null,{"$f":"C41","v":0}]
[null,null,null,null,null,null,null,null,null,{"$f":"D41","v":0}]
[null,null,null,null,null,null,null,null,null,{"$f":"E41","v":0}]
[null,null,null,null,null,null,null,null,null,{"$f":"B42","v":0}]
[null,null,null,null,null,null,null,null,null,{"$f":"C42","v":0}]
[null,null,null,null,null,null,null,null,null,{"$f":"D42","v":0}]
[null,null,null,null,null,null,null,null,null,{"$f":"E42","v":0}]
[null,null,null,null,null,null,null,null,null,{"$f":"B43","v":0}]
[null,null,null,null,null,null,null,null,null,{"$f":"C43","v":0}]
[null,null,null,null,null,null,null,null,null,{"$f":"D43","v":0}]
[null,null,null,null,null,null,null,null,null,{"$f":"E43","v":0}]
[null,null,null,null,null,null,null,null,null,{"$f":"B44","v":0}]
[null,null,null,null,null,null,null,null,null,{"$f":"C44","v":0}]
[null,null,null,null,null,null,null,null,null,{"$f":"D44","v":0}]
[null,null,null,null,null,null,null,null,null,{"$f":"E44","v":0}]
[null,null,null,null,null,null,null,null,null,{"$f":"B45","v":0}]
[null,null,null,null,null,null,null,null,null,{"$f":"C45","v":0}]
[null,null,null,null,null,null,null,null,null,{"$f":"D45","v":0}]
[null,null,null,null,null,null,null,null,null,{"$f":"E45","v":0}]
[null,null,null,null,null,null,null,null,null,{"$f":"B46","v":0}]
[null,null,null,null,null,null,null,null,null,{"$f":"C46","v":0}]
[null,null,null,null,null,null,null,null,null,{"$f":"D46","v":0}]
[null,null,null,null,null,null,null,null,null,{"$f":"E46","v":0}]
[null,null,null,null,null,null,null,null,null,{"$f":"B47","v":0}]
[null,null,null,null,null,null,null,null,null,{"$f":"C47","v":0}]
[null,null,null,null,null,null,null,null,null,{"$f":"D47","v":0}]
[null,null,null,null,null,null,null,null,null,{"$f":"E47","v":0}]
[null,null,null,null,null,null,null,null,null,{"$f":"B48","v":0}]
[null,null,null,null,null,null,null,null,null,{"$f":"C48","v":0}]
[null,null,null,null,null,null,null,null,null,{"$f":"D48","v":0}]
[null,null,null,null,null,null,null,null,null,{"$f":"E48","v":0}]
[null,null,null,null,null,null,null,null,null,{"$f":"B49","v":0}]
[null,null,null,null,null,null,null,null,null,{"$f":"C49","v":0}]
[null,null,null,null,null,null,null,null,null,{"$f":"D49","v":0}]
[null,null,null,null,null,null,null,null,null,{"$f":"E49","v":0}]
[null,null,null,null,null,null,null,null,null,{"$f":"B50","v":0}]
[null,null,null,null,null,null,null,null,null,{"$f":"C50","v":0}]
[null,null,null,null,null,null,null,null,null,{"$f":"D50","v":0}]
[null,null,null,null,null,null,null,null,null,{"$f":"E50","v":0}]
[null,null,null,null,null,null,null,null,null,{"$f":"B51","v":0}]
[null,null,null,null,null,null,null,null,null,{"$f":"C51","v":0}]
[null,null,null,null,null,null,null,null,null,{"$f":"D51","v":0}]
[null,null,null,null,null,null,null,null,null,{"$f":"E51","v":0}]
[null,null,null,null,null,null,null,null,null,{"$f":"B52","v":0}]
[null,null,null,null,null,null,null,null,null,{"$f":"C52","v":0}]
[null,null,null,null,null,null,null,null,null,{"$f":"D52","v":0}]
[null,null,null,null,null,null,null,null,null,{"$f":"E52","v":0}]
[null,null,null,null,null,null,null,null,null,{"$f":"B53","v":0}]
[null,null,null,null,null,null,null,null,null,{"$f":"C53","v":0}]
[null,null,null,null,null,null,null,null,null,{"$f":"D53","v":0}]
[null,null,null,null,null,null,null,null,null,{"$f":"E53","v":0}]
[null,null,null,null,null,null,null,null,null,{"$f":"B54","v":0}]
[null,null,null,null,null,null,null,null,null,{"$f":"C54","v":0}]
[null,null,null,null,null,null,null,null,null,{"$f":"D54","v":0}]
[null,null,null,null,null,null,null,null,null,{"$f":"E54","v":0}]
[null,null,null,null,null,null,null,null,null,{"$f":"B55","v":0}]
[null,null,null,null,null,null,null,null,null,{"$f":"C55","v":0}]
[null,null,null,null,null,null,null,null,null,{"$f":"D55","v":0}]
[null,null,null,null,null,null,null,null,null,{"$f":"E55","v":0}]
[null,null,null,null,null,null,null,null,null,{"$f":"B56","v":0}]
[null,null,null,null,null,null,null,null,null,{"$f":"C56","v":0}]
[null,null,null,null,null,null,null,null,null,{"$f":"D56","v":0}]
[null,null,null,null,null,null,null,null,null,{"$f":"E56","v":0}]
[null,null,null,null,null,null,null,null,null,{"$f":"B57","v":0}]
[null,null,null,null,null,null,null,null,null,{"$f":"C57","v":0}]
[null,null,null,null,null,null,null,null,null,{"$f":"D57","v":0}]
[null,null,null,null,null,null,null,null,null,{"$f":"E57","v":0}]
[null,null,null,null,null,null,null,null,null,{"$f":"B58","v":0}]
[null,null,null,null,null,null,null,null,null,{"$f":"C58","v":0}]
[null,null,null,null,null,null,null,null,null,{"$f":"D58","v":0}]
[null,null,null,null,null,null,null,null,null,{"$f":"E58","v":0}]
[null,null,null,null,null,null,null,null,null,{"$f":"B59","v":0}]
[null,null,null,null,null,null,null,null,null,{"$f":"C59","v":0}]
[null,null,null,null,null,null,null,null,null,{"$f":"D59","v":0}]
[null,null,null,null,null,null,null,null,null,{"$f":"E59","v":0}]
[null,null,null,null,null,null,null,null,null,{"$f":"B60","v":0}]
[null,null,null,null,null,null,null,null,null,{"$f":"C60","v":0}]
[null,null,null,null,null,null,null,null,null,{"$f":"D60","v":0}]
[null,null,null,null,null,null,null,null,null,{"$f":"E60","v":0}]
[null,null,null,null,null,null,null,null,null,{"$f":"B61","v":0}]
[null,null,null,null,null,null,null,null,null,{"$f":"C61","v":0}]
[null,null,null,null,null,null,null,null,null,{"$f":"D61","v":0}]
[null,null,null,null,null,null,null,null,null,{"$f":"E61","v":0}]
[null,null,null,null,null,null,null,null,null,{"$f":"B62","v":0}]
[null,null,null,null,null,null,null,null,null,{"$f":"C62","v":0}]
[null,null,null,null,null,null,null,null,null,{"$f":"D62","v":0}]
[null,null,null,null,null,null,null,null,null,{"$f":"E62","v":0}]
[null,null,null,null,null,null,null,null,null,{"$f":"B63","v":0}]
[null,null,null,null,null,null,null,null,null,{"$f":"C63","v":0}]
[null,null,null,null,null,null,null,null,null,{"$f":"D63","v":0}]
[null,null,null,null,null,null,null,null,null,{"$f":"E63","v":0}]
[null,null,null,null,null,null,null,null,null,{"$f":"B64","v":0}]
[null,null,null,null,null,null,null,null,null,{"$f":"C64","v":0}]
[null,null,null,null,null,null,null,null,null,{"$f":"D64","v":0}]
[null,null,null,null,null,null,null,null,null,{"$f":"E64","v":0}]
[null,null,null,null,null,null,null,null,null,{"$f":"B65","v":0}]
[null,null,null,null,null,null,null,null,null,{"$f":"C65","v":0}]
[null,null,null,null,null,null,null,null,null,{"$f":"D65","v":0}]
[null,null,null,null,null,null,null,null,null,{"$f":"E65","v":0}]
[null,null,null,null,null,null,null,null,null,{"$f":"B66","v":0}]
[null,null,null,null,null,null,null,null,null,{"$f":"C66","v":0}]
[null,null,null,null,null,null,null,null,null,{"$f":"D66","v":0}]
[null,null,null,null,null,null,null,null,null,{"$f":"E66","v":0}]
[null,null,null,null,null,null,null,null,null,{"$f":"B67","v":0}]
[null,null,null,null,null,null,null,null,null,{"$f":"C67","v":0}]
[null,null,null,null,null,null,null,null,null,{"$f":"D67","v":0}]
[null,null,null,null,null,null,null,null,null,{"$f":"E67","v":0}]
[null,null,null,null,null,null,null,null,null,{"$f":"B68","v":0}]
[null,null,null,null,null,null,null,null,null,{"$f":"C68","v":0}]
[null,null,null,null,null,null,null,null,null,{"$f":"D68","v":0}]
[null,null,null,null,null,null,null,null,null,{"$f":"E68","v":0}]
[null,null,null,null,null,null,null,null,null,{"$f":"B69","v":0}]
[null,null,null,null,null,null,null,null,null,{"$f":"C69","v":0}]
[null,null,null,null,null,null,null,null,null,{"$f":"D69","v":0}]
[null,null,null,null,null,null,null,null,null,{"$f":"E69","v":0}]
[null,null,null,null,null,null,null,null,null,{"$f":"B70","v":0}]
[null,null,null,null,null,null,null,null,null,{"$f":"C70","v":0}]
[null,null,null,null,null,null,null,null,null,{"$f":"D70","v":0}]
[null,null,null,null,null,null,null,null,null,{"$f":"E70","v":0}]
[null,null,null,null,null,null,null,null,null,{"$f":"B71","v":0}]
[null,null,null,null,null,null,null,null,null,{"$f":"C71","v":0}]
[null,null,null,null,null,null,null,null,null,{"$f":"D71","v":0}]
[null,null,null,null,null,null,null,null,null,{"$f":"E71","v":0}]
[null,null,null,null,null,null,null,null,null,{"$f":"B72","v":0}]
[null,null,null,null,null,null,null,null,null,{"$f":"C72","v":0}]
[null,null,null,null,null,null,null,null,null,{"$f":"D72","v":0}]
[null,null,null,null,null,null,null,null,null,{"$f":"E72","v":0}]
[null,null,null,null,null,null,null,null,null,{"$f":"B73","v":0}]
[null,null,null,null,null,null,null,null,null,{"$f":"C73","v":0}]
[null,null,null,null,null,null,null,null,null,{"$f":"D73","v":0}]
[null,null,null,null,null,null,null,null,null,{"$f":"E73","v":0}]
[null,null,null,null,null,null,null,null,null,{"$f":"B74","v":0}]
[null,null,null,null,null,null,null,null,null,{"$f":"C74","v":0}]
[null,null,null,null,null,null,null,null,null,{"$f":"D74","v":0}]
[null,null,null,null,null,null,null,null,null,{"$f":"E74","v":0}]
[null,null,null,null,null,null,null,null,null,{"$f":"B75","v":0}]
[null,null,null,null,null,null,null,null,null,{"$f":"C75","v":0}]
[null,null,null,null,null,null,null,null,null,{"$f":"D75","v":0}]
[null,null,null,null,null,null,null,null,null,{"$f":"E75","v":0}]
[null,null,null,null,null,null,null,null,null,{"$f":"B76","v":0}]
[null,null,null,null,null,null,null,null,null,{"$f":"C76","v":0}]
[null,null,null,null,null,null,null,null,null,{"$f":"D76","v":0}]
[null,null,null,null,null,null,null,null,null,{"$f":"E76","v":0}]
[null,null,null,null,null,null,null,null,null,{"$f":"B77","v":0}]
[null,null,null,null,null,null,null,null,null,{"$f":"C77","v":0}]
[null,null,null,null,null,null,null,null,null,{"$f":"D77","v":0}]
[null,null,null,null,null,null,null,null,null,{"$f":"E77","v":0}]
[null,null,null,null,null,null,null,null,null,{"$f":"B78","v":0}]
[null,null,null,null,null,null,null,null,null,{"$f":"C78","v":0}]
[null,null,null,null,null,null,null,null,null,{"$f":"D78","v":0}]
[null,null,null,null,null,null,null,null,null,{"$f":"E78","v":0}]
[null,null,null,null,null,null,null,null,null,{"$f":"B79","v":0}]
[null,null,null,null,null,null,null,null,null,{"$f":"C79","v":0}]
[null,null,null,null,null,null,null,null,null,{"$f":"D79","v":0}]
[null,null,null,null,null,null,null,null,null,{"$f":"E79","v":0}]
[null,null,null,null,null,null,null,null,null,{"$f":"B80","v":0}]
[null,null,null,null,null,null,null,null,null,{"$f":"C80","v":0}]
[null,null,null,null,null,null,null,null,null,{"$f":"D80","v":0}]
[null,null,null,null,null,null,null,null,null,{"$f":"E80","v":0}]
[null,null,null,null,null,null,null,null,null,{"$f":"B81","v":0}]
[null,null,null,null,null,null,null,null,null,{"$f":"C81","v":0}]
[null,null,null,null,null,null,null,null,null,{"$f":"D81","v":0}]
[null,null,null,null,null,null,null,null,null,{"$f":"E81","v":0}]
[null,null,null,null,null,null,null,null,null,{"$f":"B82","v":0}]
[null,null,null,null,null,null,null,null,null,{"$f":"C82","v":0}]
[null,null,null,null,null,null,null,null,null,{"$f":"D82","v":0}]
[null,null,null,null,null,null,null,null,null,{"$f":"E82","v":0}]
[null,null,null,null,null,null,null,null,null,{"$f":"B83","v":0}]
[null,null,null,null,null,null,null,null,null,{"$f":"C83","v":0}]
[null,null,null,null,null,null,null,null,null,{"$f":"D83","v":0}]
[null,null,null,null,null,null,null,null,null,{"$f":"E83","v":0}]
[null,null,null,null,null,null,null,null,null,{"$f":"B84","v":0}]
[null,null,null,null,null,null,null,null,null,{"$f":"C84","v":0}]
[null,null,null,null,null,null,null,null,null,{"$f":"D84","v":0}]
[null,null,null,null,null,null,null,null,null,{"$f":"E84","v":0}]
[null,null,null,null,null,null,null,null,null,{"$f":"B85","v":0}]
[null,null,null,null,null,null,null,null,null,{"$f":"C85","v":0}]
[null,null,null,null,null,null,null,null,null,{"$f":"D85","v":0}]
[null,null,null,null,null,null,null,null,null,{"$f":"E85","v":0}]
[null,null,null,null,null,null,null,null,null,{"$f":"B86","v":0}]
[null,null,null,null,null,null,null,null,null,{"$f":"C86","v":0}]
[null,null,null,null,null,null,null,null,null,{"$f":"D86","v":0}]
[null,null,null,null,null,null,null,null,null,{"$f":"E86","v":0}]
[null,null,null,null,null,null,null,null,null,{"$f":"B87","v":0}]
[null,null,null,null,null,null,null,null,null,{"$f":"C87","v":0}]
[null,null,null,null,null,null,null,null,null,{"$f":"D87","v":0}]
[null,null,null,null,null,null,null,null,null,{"$f":"E87","v":0}]
[null,null,null,null,null,null,null,null,null,{"$f":"B88","v":0}]
[null,null,null,null,null,null,null,null,null,{"$f":"C88","v":0}]
[null,null,null,null,null,null,null,null,null,{"$f":"D88","v":0}]
[null,null,null,null,null,null,null,null,null,{"$f":"E88","v":0}]
[null,null,null,null,null,null,null,null,null,{"$f":"B89","v":0}]
[null,null,null,null,null,null,null,null,null,{"$f":"C89","v":0}]
[null,null,null,null,null,null,null,null,null,{"$f":"D89","v":0}]
[null,null,null,null,null,null,null,null,null,{"$f":"E89","v":0}]
[null,null,null,null,null,null,null,null,null,{"$f":"B90","v":0}]
[null,null,null,null,null,null,null,null,null,{"$f":"C90","v":0}]
[null,null,null,null,null,null,null,null,null,{"$f":"D90","v":0}]
[null,null,null,null,null,null,null,null,null,{"$f":"E90","v":0}]
[null,null,null,null,null,null,null,null,null,{"$f":"B91","v":0}]
[null,null,null,null,null,null,null,null,null,{"$f":"C91","v":0}]
[null,null,null,null,null,null,null,null,null,{"$f":"D91","v":0}]
[null,null,null,null,null,null,null,null,null,{"$f":"E91","v":0}]
[null,null,null,null,null,null,null,null,null,{"$f":"B92","v":0}]
[null,null,null,null,null,null,null,null,null,{"$f":"C92","v":0}]
[null,null,null,null,null,null,null,null,null,{"$f":"D92","v":0}]
[null,null,null,null,null,null,null,null,null,{"$f":"E92","v":0}]
[null,null,null,null,null,null,null,null,null,{"$f":"B93","v":0}]
[null,null,null,null,null,null,null,null,null,{"$f":"C93","v":0}]
[null,null,null,null,null,null,null,null,null,{"$f":"D93","v":0}]
[null,null,null,null,null,null,null,null,null,{"$f":"E93","v":0}]
[null,null,null,null,null,null,null,null,null,{"$f":"B94","v":0}]
[null,null,null,null,null,null,null,null,null,{"$f":"C94","v":0}]
[null,null,null,null,null,null,null,null,null,{"$f":"D94","v":0}]
[null,null,null,null,null,null,null,null,null,{"$f":"E94","v":0}]
[null,null,null,null,null,null,null,null,null,{"$f":"B95","v":0}]
[null,null,null,null,null,null,null,null,null,{"$f":"C95","v":0}]
[null,null,null,null,null,null,null,null,null,{"$f":"D95","v":0}]
[null,null,null,null,null,null,null,null,null,{"$f":"E95","v":0}]
[null,null,null,null,null,null,null,null,null,{"$f":"B96","v":0}]
[null,null,null,null,null,null,null,null,null,{"$f":"C96","v":0}]
[null,null,null,null,null,null,null,null,null,{"$f":"D96","v":0}]
[null,null,null,null,null,null,null,null,null,{"$f":"E96","v":0}]
[null,null,null,null,null,null,null,null,null,{"$f":"B97","v":0}]
[null,null,null,null,null,null,null,null,null,{"$f":"C97","v":0}]
[null,null,null,null,null,null,null,null,null,{"$f":"D97","v":0}]
[null,null,null,null,null,null,null,null,null,{"$f":"E97","v":0}]
[null,null,null,null,null,null,null,null,null,{"$f":"B98","v":0}]
[null,null,null,null,null,null,null,null,null,{"$f":"C98","v":0}]
[null,null,null,null,null,null,null,null,null,{"$f":"D98","v":0}]
[null,null,null,null,null,null,null,null,null,{"$f":"E98","v":0}]
[null,null,null,null,null,null,null,null,null,{"$f":"B99","v":0}]
[null,null,null,null,null,null,null,null,null,{"$f":"C99","v":0}]
[null,null,null,null,null,null,null,null,null,{"$f":"D99","v":0}]
[null,null,null,null,null,null,null,null,null,{"$f":"E99","v":0}]
[null,null,null,null,null,null,null,null,null,{"$f":"B100","v":0}]
[null,null,null,null,null,null,null,null,null,{"$f":"C100","v":0}]
[null,null,null,null,null,null,null,null,null,{"$f":"D100","v":0}]
[null,null,null,null,null,null,null,null,null,{"$f":"E100","v":0}]
[null,null,null,null,null,null,null,null,null,{"$f":"B101","v":0}]
[null,null,null,null,null,null,null,null,null,{"$f":"C101","v":0}]
[null,null,null,null,null,null,null,null,null,{"$f":"D101","v":0}]